BEGIN:VCALENDAR
VERSION:2.0
PRODID:-//Dominion Worship Center - ECPv6.15.20//NONSGML v1.0//EN
CALSCALE:GREGORIAN
METHOD:PUBLISH
X-WR-CALNAME:Dominion Worship Center
X-ORIGINAL-URL:https://www.dominionworshipcenter.org
X-WR-CALDESC:Events for Dominion Worship Center
REFRESH-INTERVAL;VALUE=DURATION:PT1H
X-Robots-Tag:noindex
X-PUBLISHED-TTL:PT1H
BEGIN:VTIMEZONE
TZID:UTC
BEGIN:STANDARD
TZOFFSETFROM:+0000
TZOFFSETTO:+0000
TZNAME:UTC
DTSTART:20230101T000000
END:STANDARD
END:VTIMEZONE
BEGIN:VEVENT
DTSTART;TZID=UTC:20250406T100000
DTEND;TZID=UTC:20250406T120000
DTSTAMP:20260423T105310
CREATED:20250216T154851Z
LAST-MODIFIED:20250216T155818Z
UID:10001702-1743933600-1743940800@www.dominionworshipcenter.org
SUMMARY:Worship Service
DESCRIPTION:
URL:https://www.dominionworshipcenter.org/event/worship-service-2/2025-04-06/
LOCATION:venue\, LIBERTY BELL 1415 Truxtun Ave\, Bakersfield\, CA\, 93301\, United States
END:VEVENT
BEGIN:VEVENT
DTSTART;TZID=UTC:20250330T100000
DTEND;TZID=UTC:20250330T120000
DTSTAMP:20260423T105310
CREATED:20250216T154851Z
LAST-MODIFIED:20250216T155818Z
UID:10001701-1743328800-1743336000@www.dominionworshipcenter.org
SUMMARY:Worship Service
DESCRIPTION:
URL:https://www.dominionworshipcenter.org/event/worship-service-2/2025-03-30/
LOCATION:venue\, LIBERTY BELL 1415 Truxtun Ave\, Bakersfield\, CA\, 93301\, United States
END:VEVENT
BEGIN:VEVENT
DTSTART;TZID=UTC:20250323T100000
DTEND;TZID=UTC:20250323T120000
DTSTAMP:20260423T105310
CREATED:20250216T154851Z
LAST-MODIFIED:20250216T155818Z
UID:10001700-1742724000-1742731200@www.dominionworshipcenter.org
SUMMARY:Worship Service
DESCRIPTION:
URL:https://www.dominionworshipcenter.org/event/worship-service-2/2025-03-23/
LOCATION:venue\, LIBERTY BELL 1415 Truxtun Ave\, Bakersfield\, CA\, 93301\, United States
END:VEVENT
BEGIN:VEVENT
DTSTART;TZID=UTC:20250316T100000
DTEND;TZID=UTC:20250316T120000
DTSTAMP:20260423T105310
CREATED:20250216T154851Z
LAST-MODIFIED:20250216T155818Z
UID:10001699-1742119200-1742126400@www.dominionworshipcenter.org
SUMMARY:Worship Service
DESCRIPTION:
URL:https://www.dominionworshipcenter.org/event/worship-service-2/2025-03-16/
LOCATION:venue\, LIBERTY BELL 1415 Truxtun Ave\, Bakersfield\, CA\, 93301\, United States
END:VEVENT
BEGIN:VEVENT
DTSTART;TZID=UTC:20250309T100000
DTEND;TZID=UTC:20250309T120000
DTSTAMP:20260423T105310
CREATED:20250216T154851Z
LAST-MODIFIED:20250216T155818Z
UID:10001698-1741514400-1741521600@www.dominionworshipcenter.org
SUMMARY:Worship Service
DESCRIPTION:
URL:https://www.dominionworshipcenter.org/event/worship-service-2/2025-03-09/
LOCATION:venue\, LIBERTY BELL 1415 Truxtun Ave\, Bakersfield\, CA\, 93301\, United States
END:VEVENT
BEGIN:VEVENT
DTSTART;TZID=UTC:20250302T100000
DTEND;TZID=UTC:20250302T120000
DTSTAMP:20260423T105310
CREATED:20250216T154851Z
LAST-MODIFIED:20250216T155818Z
UID:10001697-1740909600-1740916800@www.dominionworshipcenter.org
SUMMARY:Worship Service
DESCRIPTION:
URL:https://www.dominionworshipcenter.org/event/worship-service-2/2025-03-02/
LOCATION:venue\, LIBERTY BELL 1415 Truxtun Ave\, Bakersfield\, CA\, 93301\, United States
END:VEVENT
BEGIN:VEVENT
DTSTART;TZID=UTC:20250223T100000
DTEND;TZID=UTC:20250223T120000
DTSTAMP:20260423T105310
CREATED:20250216T154851Z
LAST-MODIFIED:20250216T155818Z
UID:10001696-1740304800-1740312000@www.dominionworshipcenter.org
SUMMARY:Worship Service
DESCRIPTION:
URL:https://www.dominionworshipcenter.org/event/worship-service-2/2025-02-23/
LOCATION:venue\, LIBERTY BELL 1415 Truxtun Ave\, Bakersfield\, CA\, 93301\, United States
END:VEVENT
BEGIN:VEVENT
DTSTART;TZID=UTC:20250216T100000
DTEND;TZID=UTC:20250216T120000
DTSTAMP:20260423T105310
CREATED:20250216T154851Z
LAST-MODIFIED:20250216T155818Z
UID:10001695-1739700000-1739707200@www.dominionworshipcenter.org
SUMMARY:Worship Service
DESCRIPTION:
URL:https://www.dominionworshipcenter.org/event/worship-service-2/2025-02-16/
LOCATION:venue\, LIBERTY BELL 1415 Truxtun Ave\, Bakersfield\, CA\, 93301\, United States
END:VEVENT
BEGIN:VEVENT
DTSTART;TZID=UTC:20250209T100000
DTEND;TZID=UTC:20250209T120000
DTSTAMP:20260423T105310
CREATED:20250216T154851Z
LAST-MODIFIED:20250216T155818Z
UID:10001694-1739095200-1739102400@www.dominionworshipcenter.org
SUMMARY:Worship Service
DESCRIPTION:
URL:https://www.dominionworshipcenter.org/event/worship-service-2/2025-02-09/
LOCATION:venue\, LIBERTY BELL 1415 Truxtun Ave\, Bakersfield\, CA\, 93301\, United States
END:VEVENT
BEGIN:VEVENT
DTSTART;TZID=UTC:20250202T100000
DTEND;TZID=UTC:20250202T120000
DTSTAMP:20260423T105310
CREATED:20250216T154851Z
LAST-MODIFIED:20250216T155818Z
UID:10001693-1738490400-1738497600@www.dominionworshipcenter.org
SUMMARY:Worship Service
DESCRIPTION:
URL:https://www.dominionworshipcenter.org/event/worship-service-2/2025-02-02/
LOCATION:venue\, LIBERTY BELL 1415 Truxtun Ave\, Bakersfield\, CA\, 93301\, United States
END:VEVENT
BEGIN:VEVENT
DTSTART;VALUE=DATE:20241225
DTEND;VALUE=DATE:20241226
DTSTAMP:20260423T105310
CREATED:20241213T030943Z
LAST-MODIFIED:20241213T030943Z
UID:10000001-1735084800-1735171199@www.dominionworshipcenter.org
SUMMARY:Christmas!
DESCRIPTION:This is an example of an event…
URL:https://www.dominionworshipcenter.org/event/christmas/
LOCATION:venue\, LIBERTY BELL 1415 Truxtun Ave\, Bakersfield\, CA\, 93301\, United States
END:VEVENT
END:VCALENDAR