BEGIN:VCALENDAR
VERSION:2.0
PRODID:-//Dominion Worship Center - ECPv6.15.20//NONSGML v1.0//EN
CALSCALE:GREGORIAN
METHOD:PUBLISH
X-WR-CALNAME:Dominion Worship Center
X-ORIGINAL-URL:https://www.dominionworshipcenter.org
X-WR-CALDESC:Events for Dominion Worship Center
REFRESH-INTERVAL;VALUE=DURATION:PT1H
X-Robots-Tag:noindex
X-PUBLISHED-TTL:PT1H
BEGIN:VTIMEZONE
TZID:UTC
BEGIN:STANDARD
TZOFFSETFROM:+0000
TZOFFSETTO:+0000
TZNAME:UTC
DTSTART:20290101T000000
END:STANDARD
END:VTIMEZONE
BEGIN:VEVENT
DTSTART;TZID=UTC:20301028T190000
DTEND;TZID=UTC:20301028T200000
DTSTAMP:20260423T171758
CREATED:20260218T172612Z
LAST-MODIFIED:20260218T172612Z
UID:10003680-1919444400-1919448000@www.dominionworshipcenter.org
SUMMARY:Monday Night Prayer
DESCRIPTION:
URL:https://www.dominionworshipcenter.org/event/monday-night-prayer-2-2-2/2030-10-28/
LOCATION:Dominion Worship Center\, 4450 Stine Rd.\, Bakersfield\, CA\, 93313\, United States
END:VEVENT
BEGIN:VEVENT
DTSTART;TZID=UTC:20301030T190000
DTEND;TZID=UTC:20301030T200000
DTSTAMP:20260423T171758
CREATED:20250216T153804Z
LAST-MODIFIED:20251203T214225Z
UID:10003236-1919617200-1919620800@www.dominionworshipcenter.org
SUMMARY:Wednesday Gathering
DESCRIPTION:
URL:https://www.dominionworshipcenter.org/event/wednesday-gathering/2030-10-30/
LOCATION:CA
END:VEVENT
BEGIN:VEVENT
DTSTART;TZID=UTC:20301104T190000
DTEND;TZID=UTC:20301104T200000
DTSTAMP:20260423T171758
CREATED:20260218T172612Z
LAST-MODIFIED:20260218T172612Z
UID:10003681-1920049200-1920052800@www.dominionworshipcenter.org
SUMMARY:Monday Night Prayer
DESCRIPTION:
URL:https://www.dominionworshipcenter.org/event/monday-night-prayer-2-2-2/2030-11-04/
LOCATION:Dominion Worship Center\, 4450 Stine Rd.\, Bakersfield\, CA\, 93313\, United States
END:VEVENT
BEGIN:VEVENT
DTSTART;TZID=UTC:20301106T190000
DTEND;TZID=UTC:20301106T200000
DTSTAMP:20260423T171758
CREATED:20250216T153804Z
LAST-MODIFIED:20251203T214225Z
UID:10003237-1920222000-1920225600@www.dominionworshipcenter.org
SUMMARY:Wednesday Gathering
DESCRIPTION:
URL:https://www.dominionworshipcenter.org/event/wednesday-gathering/2030-11-06/
LOCATION:CA
END:VEVENT
BEGIN:VEVENT
DTSTART;TZID=UTC:20301111T190000
DTEND;TZID=UTC:20301111T200000
DTSTAMP:20260423T171758
CREATED:20260218T172612Z
LAST-MODIFIED:20260218T172612Z
UID:10003682-1920654000-1920657600@www.dominionworshipcenter.org
SUMMARY:Monday Night Prayer
DESCRIPTION:
URL:https://www.dominionworshipcenter.org/event/monday-night-prayer-2-2-2/2030-11-11/
LOCATION:Dominion Worship Center\, 4450 Stine Rd.\, Bakersfield\, CA\, 93313\, United States
END:VEVENT
BEGIN:VEVENT
DTSTART;TZID=UTC:20301113T190000
DTEND;TZID=UTC:20301113T200000
DTSTAMP:20260423T171758
CREATED:20250216T153804Z
LAST-MODIFIED:20251203T214225Z
UID:10003238-1920826800-1920830400@www.dominionworshipcenter.org
SUMMARY:Wednesday Gathering
DESCRIPTION:
URL:https://www.dominionworshipcenter.org/event/wednesday-gathering/2030-11-13/
LOCATION:CA
END:VEVENT
BEGIN:VEVENT
DTSTART;TZID=UTC:20301118T190000
DTEND;TZID=UTC:20301118T200000
DTSTAMP:20260423T171758
CREATED:20260218T172612Z
LAST-MODIFIED:20260218T172612Z
UID:10003683-1921258800-1921262400@www.dominionworshipcenter.org
SUMMARY:Monday Night Prayer
DESCRIPTION:
URL:https://www.dominionworshipcenter.org/event/monday-night-prayer-2-2-2/2030-11-18/
LOCATION:Dominion Worship Center\, 4450 Stine Rd.\, Bakersfield\, CA\, 93313\, United States
END:VEVENT
BEGIN:VEVENT
DTSTART;TZID=UTC:20301120T190000
DTEND;TZID=UTC:20301120T200000
DTSTAMP:20260423T171758
CREATED:20250216T153804Z
LAST-MODIFIED:20251203T214225Z
UID:10003239-1921431600-1921435200@www.dominionworshipcenter.org
SUMMARY:Wednesday Gathering
DESCRIPTION:
URL:https://www.dominionworshipcenter.org/event/wednesday-gathering/2030-11-20/
LOCATION:CA
END:VEVENT
BEGIN:VEVENT
DTSTART;TZID=UTC:20301125T190000
DTEND;TZID=UTC:20301125T200000
DTSTAMP:20260423T171758
CREATED:20260218T172612Z
LAST-MODIFIED:20260218T172612Z
UID:10003684-1921863600-1921867200@www.dominionworshipcenter.org
SUMMARY:Monday Night Prayer
DESCRIPTION:
URL:https://www.dominionworshipcenter.org/event/monday-night-prayer-2-2-2/2030-11-25/
LOCATION:Dominion Worship Center\, 4450 Stine Rd.\, Bakersfield\, CA\, 93313\, United States
END:VEVENT
BEGIN:VEVENT
DTSTART;TZID=UTC:20301127T190000
DTEND;TZID=UTC:20301127T200000
DTSTAMP:20260423T171758
CREATED:20250216T153804Z
LAST-MODIFIED:20251203T214225Z
UID:10003240-1922036400-1922040000@www.dominionworshipcenter.org
SUMMARY:Wednesday Gathering
DESCRIPTION:
URL:https://www.dominionworshipcenter.org/event/wednesday-gathering/2030-11-27/
LOCATION:CA
END:VEVENT
BEGIN:VEVENT
DTSTART;TZID=UTC:20301202T190000
DTEND;TZID=UTC:20301202T200000
DTSTAMP:20260423T171758
CREATED:20260218T172612Z
LAST-MODIFIED:20260218T172612Z
UID:10003685-1922468400-1922472000@www.dominionworshipcenter.org
SUMMARY:Monday Night Prayer
DESCRIPTION:
URL:https://www.dominionworshipcenter.org/event/monday-night-prayer-2-2-2/2030-12-02/
LOCATION:Dominion Worship Center\, 4450 Stine Rd.\, Bakersfield\, CA\, 93313\, United States
END:VEVENT
BEGIN:VEVENT
DTSTART;TZID=UTC:20301209T190000
DTEND;TZID=UTC:20301209T200000
DTSTAMP:20260423T171758
CREATED:20260218T172612Z
LAST-MODIFIED:20260218T172612Z
UID:10003686-1923073200-1923076800@www.dominionworshipcenter.org
SUMMARY:Monday Night Prayer
DESCRIPTION:
URL:https://www.dominionworshipcenter.org/event/monday-night-prayer-2-2-2/2030-12-09/
LOCATION:Dominion Worship Center\, 4450 Stine Rd.\, Bakersfield\, CA\, 93313\, United States
END:VEVENT
BEGIN:VEVENT
DTSTART;TZID=UTC:20301216T190000
DTEND;TZID=UTC:20301216T200000
DTSTAMP:20260423T171758
CREATED:20260218T172612Z
LAST-MODIFIED:20260218T172612Z
UID:10003687-1923678000-1923681600@www.dominionworshipcenter.org
SUMMARY:Monday Night Prayer
DESCRIPTION:
URL:https://www.dominionworshipcenter.org/event/monday-night-prayer-2-2-2/2030-12-16/
LOCATION:Dominion Worship Center\, 4450 Stine Rd.\, Bakersfield\, CA\, 93313\, United States
END:VEVENT
BEGIN:VEVENT
DTSTART;TZID=UTC:20301223T190000
DTEND;TZID=UTC:20301223T200000
DTSTAMP:20260423T171758
CREATED:20260218T172612Z
LAST-MODIFIED:20260218T172612Z
UID:10003688-1924282800-1924286400@www.dominionworshipcenter.org
SUMMARY:Monday Night Prayer
DESCRIPTION:
URL:https://www.dominionworshipcenter.org/event/monday-night-prayer-2-2-2/2030-12-23/
LOCATION:Dominion Worship Center\, 4450 Stine Rd.\, Bakersfield\, CA\, 93313\, United States
END:VEVENT
BEGIN:VEVENT
DTSTART;TZID=UTC:20301230T190000
DTEND;TZID=UTC:20301230T200000
DTSTAMP:20260423T171758
CREATED:20260218T172612Z
LAST-MODIFIED:20260218T172612Z
UID:10003689-1924887600-1924891200@www.dominionworshipcenter.org
SUMMARY:Monday Night Prayer
DESCRIPTION:
URL:https://www.dominionworshipcenter.org/event/monday-night-prayer-2-2-2/2030-12-30/
LOCATION:Dominion Worship Center\, 4450 Stine Rd.\, Bakersfield\, CA\, 93313\, United States
END:VEVENT
BEGIN:VEVENT
DTSTART;TZID=UTC:20310106T190000
DTEND;TZID=UTC:20310106T200000
DTSTAMP:20260423T171758
CREATED:20260218T172612Z
LAST-MODIFIED:20260218T172612Z
UID:10003690-1925492400-1925496000@www.dominionworshipcenter.org
SUMMARY:Monday Night Prayer
DESCRIPTION:
URL:https://www.dominionworshipcenter.org/event/monday-night-prayer-2-2-2/2031-01-06/
LOCATION:Dominion Worship Center\, 4450 Stine Rd.\, Bakersfield\, CA\, 93313\, United States
END:VEVENT
BEGIN:VEVENT
DTSTART;TZID=UTC:20310113T190000
DTEND;TZID=UTC:20310113T200000
DTSTAMP:20260423T171758
CREATED:20260218T172612Z
LAST-MODIFIED:20260218T172612Z
UID:10003691-1926097200-1926100800@www.dominionworshipcenter.org
SUMMARY:Monday Night Prayer
DESCRIPTION:
URL:https://www.dominionworshipcenter.org/event/monday-night-prayer-2-2-2/2031-01-13/
LOCATION:Dominion Worship Center\, 4450 Stine Rd.\, Bakersfield\, CA\, 93313\, United States
END:VEVENT
BEGIN:VEVENT
DTSTART;TZID=UTC:20310120T190000
DTEND;TZID=UTC:20310120T200000
DTSTAMP:20260423T171758
CREATED:20260218T172612Z
LAST-MODIFIED:20260218T172612Z
UID:10003692-1926702000-1926705600@www.dominionworshipcenter.org
SUMMARY:Monday Night Prayer
DESCRIPTION:
URL:https://www.dominionworshipcenter.org/event/monday-night-prayer-2-2-2/2031-01-20/
LOCATION:Dominion Worship Center\, 4450 Stine Rd.\, Bakersfield\, CA\, 93313\, United States
END:VEVENT
BEGIN:VEVENT
DTSTART;TZID=UTC:20310127T190000
DTEND;TZID=UTC:20310127T200000
DTSTAMP:20260423T171758
CREATED:20260218T172612Z
LAST-MODIFIED:20260218T172612Z
UID:10003693-1927306800-1927310400@www.dominionworshipcenter.org
SUMMARY:Monday Night Prayer
DESCRIPTION:
URL:https://www.dominionworshipcenter.org/event/monday-night-prayer-2-2-2/2031-01-27/
LOCATION:Dominion Worship Center\, 4450 Stine Rd.\, Bakersfield\, CA\, 93313\, United States
END:VEVENT
BEGIN:VEVENT
DTSTART;TZID=UTC:20310203T190000
DTEND;TZID=UTC:20310203T200000
DTSTAMP:20260423T171758
CREATED:20260218T172612Z
LAST-MODIFIED:20260218T172612Z
UID:10003694-1927911600-1927915200@www.dominionworshipcenter.org
SUMMARY:Monday Night Prayer
DESCRIPTION:
URL:https://www.dominionworshipcenter.org/event/monday-night-prayer-2-2-2/2031-02-03/
LOCATION:Dominion Worship Center\, 4450 Stine Rd.\, Bakersfield\, CA\, 93313\, United States
END:VEVENT
BEGIN:VEVENT
DTSTART;TZID=UTC:20310210T190000
DTEND;TZID=UTC:20310210T200000
DTSTAMP:20260423T171758
CREATED:20260218T172612Z
LAST-MODIFIED:20260218T172612Z
UID:10003695-1928516400-1928520000@www.dominionworshipcenter.org
SUMMARY:Monday Night Prayer
DESCRIPTION:
URL:https://www.dominionworshipcenter.org/event/monday-night-prayer-2-2-2/2031-02-10/
LOCATION:Dominion Worship Center\, 4450 Stine Rd.\, Bakersfield\, CA\, 93313\, United States
END:VEVENT
BEGIN:VEVENT
DTSTART;TZID=UTC:20310217T190000
DTEND;TZID=UTC:20310217T200000
DTSTAMP:20260423T171758
CREATED:20260218T172612Z
LAST-MODIFIED:20260218T172612Z
UID:10003696-1929121200-1929124800@www.dominionworshipcenter.org
SUMMARY:Monday Night Prayer
DESCRIPTION:
URL:https://www.dominionworshipcenter.org/event/monday-night-prayer-2-2-2/2031-02-17/
LOCATION:Dominion Worship Center\, 4450 Stine Rd.\, Bakersfield\, CA\, 93313\, United States
END:VEVENT
END:VCALENDAR