BEGIN:VCALENDAR
VERSION:2.0
PRODID:-//Dominion Worship Center - ECPv6.15.20//NONSGML v1.0//EN
CALSCALE:GREGORIAN
METHOD:PUBLISH
X-WR-CALNAME:Dominion Worship Center
X-ORIGINAL-URL:https://www.dominionworshipcenter.org
X-WR-CALDESC:Events for Dominion Worship Center
REFRESH-INTERVAL;VALUE=DURATION:PT1H
X-Robots-Tag:noindex
X-PUBLISHED-TTL:PT1H
BEGIN:VTIMEZONE
TZID:UTC
BEGIN:STANDARD
TZOFFSETFROM:+0000
TZOFFSETTO:+0000
TZNAME:UTC
DTSTART:20290101T000000
END:STANDARD
END:VTIMEZONE
BEGIN:VEVENT
DTSTART;TZID=UTC:20300624T190000
DTEND;TZID=UTC:20300624T200000
DTSTAMP:20260423T115625
CREATED:20260218T172612Z
LAST-MODIFIED:20260218T172612Z
UID:10003662-1908558000-1908561600@www.dominionworshipcenter.org
SUMMARY:Monday Night Prayer
DESCRIPTION:
URL:https://www.dominionworshipcenter.org/event/monday-night-prayer-2-2-2/2030-06-24/
LOCATION:Dominion Worship Center\, 4450 Stine Rd.\, Bakersfield\, CA\, 93313\, United States
END:VEVENT
BEGIN:VEVENT
DTSTART;TZID=UTC:20300626T190000
DTEND;TZID=UTC:20300626T200000
DTSTAMP:20260423T115625
CREATED:20250216T153804Z
LAST-MODIFIED:20251203T214225Z
UID:10003218-1908730800-1908734400@www.dominionworshipcenter.org
SUMMARY:Wednesday Gathering
DESCRIPTION:
URL:https://www.dominionworshipcenter.org/event/wednesday-gathering/2030-06-26/
LOCATION:CA
END:VEVENT
BEGIN:VEVENT
DTSTART;TZID=UTC:20300701T190000
DTEND;TZID=UTC:20300701T200000
DTSTAMP:20260423T115625
CREATED:20260218T172612Z
LAST-MODIFIED:20260218T172612Z
UID:10003663-1909162800-1909166400@www.dominionworshipcenter.org
SUMMARY:Monday Night Prayer
DESCRIPTION:
URL:https://www.dominionworshipcenter.org/event/monday-night-prayer-2-2-2/2030-07-01/
LOCATION:Dominion Worship Center\, 4450 Stine Rd.\, Bakersfield\, CA\, 93313\, United States
END:VEVENT
BEGIN:VEVENT
DTSTART;TZID=UTC:20300703T190000
DTEND;TZID=UTC:20300703T200000
DTSTAMP:20260423T115625
CREATED:20250216T153804Z
LAST-MODIFIED:20251203T214225Z
UID:10003219-1909335600-1909339200@www.dominionworshipcenter.org
SUMMARY:Wednesday Gathering
DESCRIPTION:
URL:https://www.dominionworshipcenter.org/event/wednesday-gathering/2030-07-03/
LOCATION:CA
END:VEVENT
BEGIN:VEVENT
DTSTART;TZID=UTC:20300708T190000
DTEND;TZID=UTC:20300708T200000
DTSTAMP:20260423T115625
CREATED:20260218T172612Z
LAST-MODIFIED:20260218T172612Z
UID:10003664-1909767600-1909771200@www.dominionworshipcenter.org
SUMMARY:Monday Night Prayer
DESCRIPTION:
URL:https://www.dominionworshipcenter.org/event/monday-night-prayer-2-2-2/2030-07-08/
LOCATION:Dominion Worship Center\, 4450 Stine Rd.\, Bakersfield\, CA\, 93313\, United States
END:VEVENT
BEGIN:VEVENT
DTSTART;TZID=UTC:20300710T190000
DTEND;TZID=UTC:20300710T200000
DTSTAMP:20260423T115625
CREATED:20250216T153804Z
LAST-MODIFIED:20251203T214225Z
UID:10003220-1909940400-1909944000@www.dominionworshipcenter.org
SUMMARY:Wednesday Gathering
DESCRIPTION:
URL:https://www.dominionworshipcenter.org/event/wednesday-gathering/2030-07-10/
LOCATION:CA
END:VEVENT
BEGIN:VEVENT
DTSTART;TZID=UTC:20300715T190000
DTEND;TZID=UTC:20300715T200000
DTSTAMP:20260423T115625
CREATED:20260218T172612Z
LAST-MODIFIED:20260218T172612Z
UID:10003665-1910372400-1910376000@www.dominionworshipcenter.org
SUMMARY:Monday Night Prayer
DESCRIPTION:
URL:https://www.dominionworshipcenter.org/event/monday-night-prayer-2-2-2/2030-07-15/
LOCATION:Dominion Worship Center\, 4450 Stine Rd.\, Bakersfield\, CA\, 93313\, United States
END:VEVENT
BEGIN:VEVENT
DTSTART;TZID=UTC:20300717T190000
DTEND;TZID=UTC:20300717T200000
DTSTAMP:20260423T115625
CREATED:20250216T153804Z
LAST-MODIFIED:20251203T214225Z
UID:10003221-1910545200-1910548800@www.dominionworshipcenter.org
SUMMARY:Wednesday Gathering
DESCRIPTION:
URL:https://www.dominionworshipcenter.org/event/wednesday-gathering/2030-07-17/
LOCATION:CA
END:VEVENT
BEGIN:VEVENT
DTSTART;TZID=UTC:20300722T190000
DTEND;TZID=UTC:20300722T200000
DTSTAMP:20260423T115625
CREATED:20260218T172612Z
LAST-MODIFIED:20260218T172612Z
UID:10003666-1910977200-1910980800@www.dominionworshipcenter.org
SUMMARY:Monday Night Prayer
DESCRIPTION:
URL:https://www.dominionworshipcenter.org/event/monday-night-prayer-2-2-2/2030-07-22/
LOCATION:Dominion Worship Center\, 4450 Stine Rd.\, Bakersfield\, CA\, 93313\, United States
END:VEVENT
BEGIN:VEVENT
DTSTART;TZID=UTC:20300724T190000
DTEND;TZID=UTC:20300724T200000
DTSTAMP:20260423T115625
CREATED:20250216T153804Z
LAST-MODIFIED:20251203T214225Z
UID:10003222-1911150000-1911153600@www.dominionworshipcenter.org
SUMMARY:Wednesday Gathering
DESCRIPTION:
URL:https://www.dominionworshipcenter.org/event/wednesday-gathering/2030-07-24/
LOCATION:CA
END:VEVENT
BEGIN:VEVENT
DTSTART;TZID=UTC:20300729T190000
DTEND;TZID=UTC:20300729T200000
DTSTAMP:20260423T115625
CREATED:20260218T172612Z
LAST-MODIFIED:20260218T172612Z
UID:10003667-1911582000-1911585600@www.dominionworshipcenter.org
SUMMARY:Monday Night Prayer
DESCRIPTION:
URL:https://www.dominionworshipcenter.org/event/monday-night-prayer-2-2-2/2030-07-29/
LOCATION:Dominion Worship Center\, 4450 Stine Rd.\, Bakersfield\, CA\, 93313\, United States
END:VEVENT
BEGIN:VEVENT
DTSTART;TZID=UTC:20300731T190000
DTEND;TZID=UTC:20300731T200000
DTSTAMP:20260423T115625
CREATED:20250216T153804Z
LAST-MODIFIED:20251203T214225Z
UID:10003223-1911754800-1911758400@www.dominionworshipcenter.org
SUMMARY:Wednesday Gathering
DESCRIPTION:
URL:https://www.dominionworshipcenter.org/event/wednesday-gathering/2030-07-31/
LOCATION:CA
END:VEVENT
BEGIN:VEVENT
DTSTART;TZID=UTC:20300805T190000
DTEND;TZID=UTC:20300805T200000
DTSTAMP:20260423T115625
CREATED:20260218T172612Z
LAST-MODIFIED:20260218T172612Z
UID:10003668-1912186800-1912190400@www.dominionworshipcenter.org
SUMMARY:Monday Night Prayer
DESCRIPTION:
URL:https://www.dominionworshipcenter.org/event/monday-night-prayer-2-2-2/2030-08-05/
LOCATION:Dominion Worship Center\, 4450 Stine Rd.\, Bakersfield\, CA\, 93313\, United States
END:VEVENT
BEGIN:VEVENT
DTSTART;TZID=UTC:20300807T190000
DTEND;TZID=UTC:20300807T200000
DTSTAMP:20260423T115625
CREATED:20250216T153804Z
LAST-MODIFIED:20251203T214225Z
UID:10003224-1912359600-1912363200@www.dominionworshipcenter.org
SUMMARY:Wednesday Gathering
DESCRIPTION:
URL:https://www.dominionworshipcenter.org/event/wednesday-gathering/2030-08-07/
LOCATION:CA
END:VEVENT
BEGIN:VEVENT
DTSTART;TZID=UTC:20300812T190000
DTEND;TZID=UTC:20300812T200000
DTSTAMP:20260423T115625
CREATED:20260218T172612Z
LAST-MODIFIED:20260218T172612Z
UID:10003669-1912791600-1912795200@www.dominionworshipcenter.org
SUMMARY:Monday Night Prayer
DESCRIPTION:
URL:https://www.dominionworshipcenter.org/event/monday-night-prayer-2-2-2/2030-08-12/
LOCATION:Dominion Worship Center\, 4450 Stine Rd.\, Bakersfield\, CA\, 93313\, United States
END:VEVENT
BEGIN:VEVENT
DTSTART;TZID=UTC:20300814T190000
DTEND;TZID=UTC:20300814T200000
DTSTAMP:20260423T115625
CREATED:20250216T153804Z
LAST-MODIFIED:20251203T214225Z
UID:10003225-1912964400-1912968000@www.dominionworshipcenter.org
SUMMARY:Wednesday Gathering
DESCRIPTION:
URL:https://www.dominionworshipcenter.org/event/wednesday-gathering/2030-08-14/
LOCATION:CA
END:VEVENT
BEGIN:VEVENT
DTSTART;TZID=UTC:20300819T190000
DTEND;TZID=UTC:20300819T200000
DTSTAMP:20260423T115625
CREATED:20260218T172612Z
LAST-MODIFIED:20260218T172612Z
UID:10003670-1913396400-1913400000@www.dominionworshipcenter.org
SUMMARY:Monday Night Prayer
DESCRIPTION:
URL:https://www.dominionworshipcenter.org/event/monday-night-prayer-2-2-2/2030-08-19/
LOCATION:Dominion Worship Center\, 4450 Stine Rd.\, Bakersfield\, CA\, 93313\, United States
END:VEVENT
BEGIN:VEVENT
DTSTART;TZID=UTC:20300821T190000
DTEND;TZID=UTC:20300821T200000
DTSTAMP:20260423T115625
CREATED:20250216T153804Z
LAST-MODIFIED:20251203T214225Z
UID:10003226-1913569200-1913572800@www.dominionworshipcenter.org
SUMMARY:Wednesday Gathering
DESCRIPTION:
URL:https://www.dominionworshipcenter.org/event/wednesday-gathering/2030-08-21/
LOCATION:CA
END:VEVENT
BEGIN:VEVENT
DTSTART;TZID=UTC:20300826T190000
DTEND;TZID=UTC:20300826T200000
DTSTAMP:20260423T115625
CREATED:20260218T172612Z
LAST-MODIFIED:20260218T172612Z
UID:10003671-1914001200-1914004800@www.dominionworshipcenter.org
SUMMARY:Monday Night Prayer
DESCRIPTION:
URL:https://www.dominionworshipcenter.org/event/monday-night-prayer-2-2-2/2030-08-26/
LOCATION:Dominion Worship Center\, 4450 Stine Rd.\, Bakersfield\, CA\, 93313\, United States
END:VEVENT
BEGIN:VEVENT
DTSTART;TZID=UTC:20300828T190000
DTEND;TZID=UTC:20300828T200000
DTSTAMP:20260423T115625
CREATED:20250216T153804Z
LAST-MODIFIED:20251203T214225Z
UID:10003227-1914174000-1914177600@www.dominionworshipcenter.org
SUMMARY:Wednesday Gathering
DESCRIPTION:
URL:https://www.dominionworshipcenter.org/event/wednesday-gathering/2030-08-28/
LOCATION:CA
END:VEVENT
BEGIN:VEVENT
DTSTART;TZID=UTC:20300902T190000
DTEND;TZID=UTC:20300902T200000
DTSTAMP:20260423T115625
CREATED:20260218T172612Z
LAST-MODIFIED:20260218T172612Z
UID:10003672-1914606000-1914609600@www.dominionworshipcenter.org
SUMMARY:Monday Night Prayer
DESCRIPTION:
URL:https://www.dominionworshipcenter.org/event/monday-night-prayer-2-2-2/2030-09-02/
LOCATION:Dominion Worship Center\, 4450 Stine Rd.\, Bakersfield\, CA\, 93313\, United States
END:VEVENT
BEGIN:VEVENT
DTSTART;TZID=UTC:20300904T190000
DTEND;TZID=UTC:20300904T200000
DTSTAMP:20260423T115625
CREATED:20250216T153804Z
LAST-MODIFIED:20251203T214225Z
UID:10003228-1914778800-1914782400@www.dominionworshipcenter.org
SUMMARY:Wednesday Gathering
DESCRIPTION:
URL:https://www.dominionworshipcenter.org/event/wednesday-gathering/2030-09-04/
LOCATION:CA
END:VEVENT
BEGIN:VEVENT
DTSTART;TZID=UTC:20300909T190000
DTEND;TZID=UTC:20300909T200000
DTSTAMP:20260423T115625
CREATED:20260218T172612Z
LAST-MODIFIED:20260218T172612Z
UID:10003673-1915210800-1915214400@www.dominionworshipcenter.org
SUMMARY:Monday Night Prayer
DESCRIPTION:
URL:https://www.dominionworshipcenter.org/event/monday-night-prayer-2-2-2/2030-09-09/
LOCATION:Dominion Worship Center\, 4450 Stine Rd.\, Bakersfield\, CA\, 93313\, United States
END:VEVENT
BEGIN:VEVENT
DTSTART;TZID=UTC:20300911T190000
DTEND;TZID=UTC:20300911T200000
DTSTAMP:20260423T115625
CREATED:20250216T153804Z
LAST-MODIFIED:20251203T214225Z
UID:10003229-1915383600-1915387200@www.dominionworshipcenter.org
SUMMARY:Wednesday Gathering
DESCRIPTION:
URL:https://www.dominionworshipcenter.org/event/wednesday-gathering/2030-09-11/
LOCATION:CA
END:VEVENT
BEGIN:VEVENT
DTSTART;TZID=UTC:20300916T190000
DTEND;TZID=UTC:20300916T200000
DTSTAMP:20260423T115625
CREATED:20260218T172612Z
LAST-MODIFIED:20260218T172612Z
UID:10003674-1915815600-1915819200@www.dominionworshipcenter.org
SUMMARY:Monday Night Prayer
DESCRIPTION:
URL:https://www.dominionworshipcenter.org/event/monday-night-prayer-2-2-2/2030-09-16/
LOCATION:Dominion Worship Center\, 4450 Stine Rd.\, Bakersfield\, CA\, 93313\, United States
END:VEVENT
BEGIN:VEVENT
DTSTART;TZID=UTC:20300918T190000
DTEND;TZID=UTC:20300918T200000
DTSTAMP:20260423T115625
CREATED:20250216T153804Z
LAST-MODIFIED:20251203T214225Z
UID:10003230-1915988400-1915992000@www.dominionworshipcenter.org
SUMMARY:Wednesday Gathering
DESCRIPTION:
URL:https://www.dominionworshipcenter.org/event/wednesday-gathering/2030-09-18/
LOCATION:CA
END:VEVENT
BEGIN:VEVENT
DTSTART;TZID=UTC:20300923T190000
DTEND;TZID=UTC:20300923T200000
DTSTAMP:20260423T115625
CREATED:20260218T172612Z
LAST-MODIFIED:20260218T172612Z
UID:10003675-1916420400-1916424000@www.dominionworshipcenter.org
SUMMARY:Monday Night Prayer
DESCRIPTION:
URL:https://www.dominionworshipcenter.org/event/monday-night-prayer-2-2-2/2030-09-23/
LOCATION:Dominion Worship Center\, 4450 Stine Rd.\, Bakersfield\, CA\, 93313\, United States
END:VEVENT
BEGIN:VEVENT
DTSTART;TZID=UTC:20300925T190000
DTEND;TZID=UTC:20300925T200000
DTSTAMP:20260423T115625
CREATED:20250216T153804Z
LAST-MODIFIED:20251203T214225Z
UID:10003231-1916593200-1916596800@www.dominionworshipcenter.org
SUMMARY:Wednesday Gathering
DESCRIPTION:
URL:https://www.dominionworshipcenter.org/event/wednesday-gathering/2030-09-25/
LOCATION:CA
END:VEVENT
BEGIN:VEVENT
DTSTART;TZID=UTC:20300930T190000
DTEND;TZID=UTC:20300930T200000
DTSTAMP:20260423T115625
CREATED:20260218T172612Z
LAST-MODIFIED:20260218T172612Z
UID:10003676-1917025200-1917028800@www.dominionworshipcenter.org
SUMMARY:Monday Night Prayer
DESCRIPTION:
URL:https://www.dominionworshipcenter.org/event/monday-night-prayer-2-2-2/2030-09-30/
LOCATION:Dominion Worship Center\, 4450 Stine Rd.\, Bakersfield\, CA\, 93313\, United States
END:VEVENT
BEGIN:VEVENT
DTSTART;TZID=UTC:20301002T190000
DTEND;TZID=UTC:20301002T200000
DTSTAMP:20260423T115625
CREATED:20250216T153804Z
LAST-MODIFIED:20251203T214225Z
UID:10003232-1917198000-1917201600@www.dominionworshipcenter.org
SUMMARY:Wednesday Gathering
DESCRIPTION:
URL:https://www.dominionworshipcenter.org/event/wednesday-gathering/2030-10-02/
LOCATION:CA
END:VEVENT
END:VCALENDAR