BEGIN:VCALENDAR
VERSION:2.0
PRODID:-//Dominion Worship Center - ECPv6.15.20//NONSGML v1.0//EN
CALSCALE:GREGORIAN
METHOD:PUBLISH
X-ORIGINAL-URL:https://www.dominionworshipcenter.org
X-WR-CALDESC:Events for Dominion Worship Center
REFRESH-INTERVAL;VALUE=DURATION:PT1H
X-Robots-Tag:noindex
X-PUBLISHED-TTL:PT1H
BEGIN:VTIMEZONE
TZID:UTC
BEGIN:STANDARD
TZOFFSETFROM:+0000
TZOFFSETTO:+0000
TZNAME:UTC
DTSTART:20290101T000000
END:STANDARD
END:VTIMEZONE
BEGIN:VEVENT
DTSTART;TZID=UTC:20300227T190000
DTEND;TZID=UTC:20300227T200000
DTSTAMP:20260423T055953
CREATED:20250216T153804Z
LAST-MODIFIED:20251203T214225Z
UID:10003201-1898449200-1898452800@www.dominionworshipcenter.org
SUMMARY:Wednesday Gathering
DESCRIPTION:
URL:https://www.dominionworshipcenter.org/event/wednesday-gathering/2030-02-27/
LOCATION:CA
END:VEVENT
BEGIN:VEVENT
DTSTART;TZID=UTC:20300301T060000
DTEND;TZID=UTC:20300301T070000
DTSTAMP:20260423T055953
CREATED:20250425T021024Z
LAST-MODIFIED:20250425T021025Z
UID:10003033-1898575200-1898578800@www.dominionworshipcenter.org
SUMMARY:Men's Prayer
DESCRIPTION:
URL:https://www.dominionworshipcenter.org/event/600-am-mens-prayer-3-2/2030-03-01/
LOCATION:Dominion Worship Center\, 4450 Stine Rd.\, Bakersfield\, CA\, 93313\, United States
END:VEVENT
BEGIN:VEVENT
DTSTART;TZID=UTC:20300303T100000
DTEND;TZID=UTC:20300303T120000
DTSTAMP:20260423T055953
CREATED:20250425T015556Z
LAST-MODIFIED:20250425T015557Z
UID:10003015-1898762400-1898769600@www.dominionworshipcenter.org
SUMMARY:Worship Service
DESCRIPTION:
URL:https://www.dominionworshipcenter.org/event/worship-service-2-2/2030-03-03/
LOCATION:Dominion Worship Center\, 4450 Stine Rd.\, Bakersfield\, CA\, 93313\, United States
END:VEVENT
BEGIN:VEVENT
DTSTART;TZID=UTC:20300304T190000
DTEND;TZID=UTC:20300304T200000
DTSTAMP:20260423T055953
CREATED:20260218T172612Z
LAST-MODIFIED:20260218T172612Z
UID:10003024-1898881200-1898884800@www.dominionworshipcenter.org
SUMMARY:Monday Night Prayer
DESCRIPTION:
URL:https://www.dominionworshipcenter.org/event/monday-night-prayer-2-2-2/2030-03-04/
LOCATION:Dominion Worship Center\, 4450 Stine Rd.\, Bakersfield\, CA\, 93313\, United States
END:VEVENT
BEGIN:VEVENT
DTSTART;TZID=UTC:20300306T190000
DTEND;TZID=UTC:20300306T200000
DTSTAMP:20260423T055953
CREATED:20250216T153804Z
LAST-MODIFIED:20251203T214225Z
UID:10003202-1899054000-1899057600@www.dominionworshipcenter.org
SUMMARY:Wednesday Gathering
DESCRIPTION:
URL:https://www.dominionworshipcenter.org/event/wednesday-gathering/2030-03-06/
LOCATION:CA
END:VEVENT
BEGIN:VEVENT
DTSTART;TZID=UTC:20300307T190000
DTEND;TZID=UTC:20300307T210000
DTSTAMP:20260423T055953
CREATED:20250513T214135Z
LAST-MODIFIED:20250513T214636Z
UID:10003159-1899140400-1899147600@www.dominionworshipcenter.org
SUMMARY:ENGAGE:  Young Adults Meeting
DESCRIPTION:
URL:https://www.dominionworshipcenter.org/event/engage-young-adults-meeting-2/2030-03-07/
LOCATION:CA
END:VEVENT
BEGIN:VEVENT
DTSTART;TZID=UTC:20300308T060000
DTEND;TZID=UTC:20300308T070000
DTSTAMP:20260423T055953
CREATED:20250425T021024Z
LAST-MODIFIED:20250425T021025Z
UID:10003034-1899180000-1899183600@www.dominionworshipcenter.org
SUMMARY:Men's Prayer
DESCRIPTION:
URL:https://www.dominionworshipcenter.org/event/600-am-mens-prayer-3-2/2030-03-08/
LOCATION:Dominion Worship Center\, 4450 Stine Rd.\, Bakersfield\, CA\, 93313\, United States
END:VEVENT
BEGIN:VEVENT
DTSTART;TZID=UTC:20300310T100000
DTEND;TZID=UTC:20300310T120000
DTSTAMP:20260423T055953
CREATED:20250425T015556Z
LAST-MODIFIED:20250425T015557Z
UID:10003016-1899367200-1899374400@www.dominionworshipcenter.org
SUMMARY:Worship Service
DESCRIPTION:
URL:https://www.dominionworshipcenter.org/event/worship-service-2-2/2030-03-10/
LOCATION:Dominion Worship Center\, 4450 Stine Rd.\, Bakersfield\, CA\, 93313\, United States
END:VEVENT
BEGIN:VEVENT
DTSTART;TZID=UTC:20300311T190000
DTEND;TZID=UTC:20300311T200000
DTSTAMP:20260423T055953
CREATED:20260218T172612Z
LAST-MODIFIED:20260218T172612Z
UID:10003025-1899486000-1899489600@www.dominionworshipcenter.org
SUMMARY:Monday Night Prayer
DESCRIPTION:
URL:https://www.dominionworshipcenter.org/event/monday-night-prayer-2-2-2/2030-03-11/
LOCATION:Dominion Worship Center\, 4450 Stine Rd.\, Bakersfield\, CA\, 93313\, United States
END:VEVENT
BEGIN:VEVENT
DTSTART;TZID=UTC:20300313T190000
DTEND;TZID=UTC:20300313T200000
DTSTAMP:20260423T055953
CREATED:20250216T153804Z
LAST-MODIFIED:20251203T214225Z
UID:10003203-1899658800-1899662400@www.dominionworshipcenter.org
SUMMARY:Wednesday Gathering
DESCRIPTION:
URL:https://www.dominionworshipcenter.org/event/wednesday-gathering/2030-03-13/
LOCATION:CA
END:VEVENT
BEGIN:VEVENT
DTSTART;TZID=UTC:20300315T060000
DTEND;TZID=UTC:20300315T070000
DTSTAMP:20260423T055953
CREATED:20250425T021024Z
LAST-MODIFIED:20250425T021025Z
UID:10003035-1899784800-1899788400@www.dominionworshipcenter.org
SUMMARY:Men's Prayer
DESCRIPTION:
URL:https://www.dominionworshipcenter.org/event/600-am-mens-prayer-3-2/2030-03-15/
LOCATION:Dominion Worship Center\, 4450 Stine Rd.\, Bakersfield\, CA\, 93313\, United States
END:VEVENT
BEGIN:VEVENT
DTSTART;TZID=UTC:20300317T100000
DTEND;TZID=UTC:20300317T120000
DTSTAMP:20260423T055953
CREATED:20250425T015556Z
LAST-MODIFIED:20250425T015557Z
UID:10003017-1899972000-1899979200@www.dominionworshipcenter.org
SUMMARY:Worship Service
DESCRIPTION:
URL:https://www.dominionworshipcenter.org/event/worship-service-2-2/2030-03-17/
LOCATION:Dominion Worship Center\, 4450 Stine Rd.\, Bakersfield\, CA\, 93313\, United States
END:VEVENT
BEGIN:VEVENT
DTSTART;TZID=UTC:20300318T190000
DTEND;TZID=UTC:20300318T200000
DTSTAMP:20260423T055953
CREATED:20260218T172612Z
LAST-MODIFIED:20260218T172612Z
UID:10003026-1900090800-1900094400@www.dominionworshipcenter.org
SUMMARY:Monday Night Prayer
DESCRIPTION:
URL:https://www.dominionworshipcenter.org/event/monday-night-prayer-2-2-2/2030-03-18/
LOCATION:Dominion Worship Center\, 4450 Stine Rd.\, Bakersfield\, CA\, 93313\, United States
END:VEVENT
BEGIN:VEVENT
DTSTART;TZID=UTC:20300320T190000
DTEND;TZID=UTC:20300320T200000
DTSTAMP:20260423T055953
CREATED:20250216T153804Z
LAST-MODIFIED:20251203T214225Z
UID:10003204-1900263600-1900267200@www.dominionworshipcenter.org
SUMMARY:Wednesday Gathering
DESCRIPTION:
URL:https://www.dominionworshipcenter.org/event/wednesday-gathering/2030-03-20/
LOCATION:CA
END:VEVENT
BEGIN:VEVENT
DTSTART;TZID=UTC:20300321T190000
DTEND;TZID=UTC:20300321T210000
DTSTAMP:20260423T055953
CREATED:20250513T213924Z
LAST-MODIFIED:20250513T213924Z
UID:10003100-1900350000-1900357200@www.dominionworshipcenter.org
SUMMARY:ENGAGE:  Young Adults Meeting
DESCRIPTION:
URL:https://www.dominionworshipcenter.org/event/engage-young-adults-meeting/2030-03-21/
LOCATION:CA
END:VEVENT
BEGIN:VEVENT
DTSTART;TZID=UTC:20300322T060000
DTEND;TZID=UTC:20300322T070000
DTSTAMP:20260423T055953
CREATED:20250425T021024Z
LAST-MODIFIED:20250425T021025Z
UID:10003036-1900389600-1900393200@www.dominionworshipcenter.org
SUMMARY:Men's Prayer
DESCRIPTION:
URL:https://www.dominionworshipcenter.org/event/600-am-mens-prayer-3-2/2030-03-22/
LOCATION:Dominion Worship Center\, 4450 Stine Rd.\, Bakersfield\, CA\, 93313\, United States
END:VEVENT
BEGIN:VEVENT
DTSTART;TZID=UTC:20300324T100000
DTEND;TZID=UTC:20300324T120000
DTSTAMP:20260423T055953
CREATED:20250425T015556Z
LAST-MODIFIED:20250425T015557Z
UID:10003018-1900576800-1900584000@www.dominionworshipcenter.org
SUMMARY:Worship Service
DESCRIPTION:
URL:https://www.dominionworshipcenter.org/event/worship-service-2-2/2030-03-24/
LOCATION:Dominion Worship Center\, 4450 Stine Rd.\, Bakersfield\, CA\, 93313\, United States
END:VEVENT
BEGIN:VEVENT
DTSTART;TZID=UTC:20300325T190000
DTEND;TZID=UTC:20300325T200000
DTSTAMP:20260423T055953
CREATED:20260218T172612Z
LAST-MODIFIED:20260218T172612Z
UID:10003027-1900695600-1900699200@www.dominionworshipcenter.org
SUMMARY:Monday Night Prayer
DESCRIPTION:
URL:https://www.dominionworshipcenter.org/event/monday-night-prayer-2-2-2/2030-03-25/
LOCATION:Dominion Worship Center\, 4450 Stine Rd.\, Bakersfield\, CA\, 93313\, United States
END:VEVENT
BEGIN:VEVENT
DTSTART;TZID=UTC:20300327T190000
DTEND;TZID=UTC:20300327T200000
DTSTAMP:20260423T055953
CREATED:20250216T153804Z
LAST-MODIFIED:20251203T214225Z
UID:10003205-1900868400-1900872000@www.dominionworshipcenter.org
SUMMARY:Wednesday Gathering
DESCRIPTION:
URL:https://www.dominionworshipcenter.org/event/wednesday-gathering/2030-03-27/
LOCATION:CA
END:VEVENT
BEGIN:VEVENT
DTSTART;TZID=UTC:20300329T060000
DTEND;TZID=UTC:20300329T070000
DTSTAMP:20260423T055953
CREATED:20250425T021024Z
LAST-MODIFIED:20250425T021025Z
UID:10003037-1900994400-1900998000@www.dominionworshipcenter.org
SUMMARY:Men's Prayer
DESCRIPTION:
URL:https://www.dominionworshipcenter.org/event/600-am-mens-prayer-3-2/2030-03-29/
LOCATION:Dominion Worship Center\, 4450 Stine Rd.\, Bakersfield\, CA\, 93313\, United States
END:VEVENT
BEGIN:VEVENT
DTSTART;TZID=UTC:20300331T100000
DTEND;TZID=UTC:20300331T120000
DTSTAMP:20260423T055953
CREATED:20250425T015556Z
LAST-MODIFIED:20250425T015557Z
UID:10003019-1901181600-1901188800@www.dominionworshipcenter.org
SUMMARY:Worship Service
DESCRIPTION:
URL:https://www.dominionworshipcenter.org/event/worship-service-2-2/2030-03-31/
LOCATION:Dominion Worship Center\, 4450 Stine Rd.\, Bakersfield\, CA\, 93313\, United States
END:VEVENT
BEGIN:VEVENT
DTSTART;TZID=UTC:20300401T190000
DTEND;TZID=UTC:20300401T200000
DTSTAMP:20260423T055953
CREATED:20260218T172612Z
LAST-MODIFIED:20260218T172612Z
UID:10003028-1901300400-1901304000@www.dominionworshipcenter.org
SUMMARY:Monday Night Prayer
DESCRIPTION:
URL:https://www.dominionworshipcenter.org/event/monday-night-prayer-2-2-2/2030-04-01/
LOCATION:Dominion Worship Center\, 4450 Stine Rd.\, Bakersfield\, CA\, 93313\, United States
END:VEVENT
BEGIN:VEVENT
DTSTART;TZID=UTC:20300403T190000
DTEND;TZID=UTC:20300403T200000
DTSTAMP:20260423T055953
CREATED:20250216T153804Z
LAST-MODIFIED:20251203T214225Z
UID:10003206-1901473200-1901476800@www.dominionworshipcenter.org
SUMMARY:Wednesday Gathering
DESCRIPTION:
URL:https://www.dominionworshipcenter.org/event/wednesday-gathering/2030-04-03/
LOCATION:CA
END:VEVENT
BEGIN:VEVENT
DTSTART;TZID=UTC:20300404T190000
DTEND;TZID=UTC:20300404T210000
DTSTAMP:20260423T055953
CREATED:20250513T214135Z
LAST-MODIFIED:20250513T214636Z
UID:10003160-1901559600-1901566800@www.dominionworshipcenter.org
SUMMARY:ENGAGE:  Young Adults Meeting
DESCRIPTION:
URL:https://www.dominionworshipcenter.org/event/engage-young-adults-meeting-2/2030-04-04/
LOCATION:CA
END:VEVENT
BEGIN:VEVENT
DTSTART;TZID=UTC:20300405T060000
DTEND;TZID=UTC:20300405T070000
DTSTAMP:20260423T055953
CREATED:20250425T021024Z
LAST-MODIFIED:20250425T021025Z
UID:10003038-1901599200-1901602800@www.dominionworshipcenter.org
SUMMARY:Men's Prayer
DESCRIPTION:
URL:https://www.dominionworshipcenter.org/event/600-am-mens-prayer-3-2/2030-04-05/
LOCATION:Dominion Worship Center\, 4450 Stine Rd.\, Bakersfield\, CA\, 93313\, United States
END:VEVENT
BEGIN:VEVENT
DTSTART;TZID=UTC:20300407T100000
DTEND;TZID=UTC:20300407T120000
DTSTAMP:20260423T055953
CREATED:20250425T015556Z
LAST-MODIFIED:20250425T015557Z
UID:10003020-1901786400-1901793600@www.dominionworshipcenter.org
SUMMARY:Worship Service
DESCRIPTION:
URL:https://www.dominionworshipcenter.org/event/worship-service-2-2/2030-04-07/
LOCATION:Dominion Worship Center\, 4450 Stine Rd.\, Bakersfield\, CA\, 93313\, United States
END:VEVENT
BEGIN:VEVENT
DTSTART;TZID=UTC:20300408T190000
DTEND;TZID=UTC:20300408T200000
DTSTAMP:20260423T055953
CREATED:20260218T172612Z
LAST-MODIFIED:20260218T172612Z
UID:10003029-1901905200-1901908800@www.dominionworshipcenter.org
SUMMARY:Monday Night Prayer
DESCRIPTION:
URL:https://www.dominionworshipcenter.org/event/monday-night-prayer-2-2-2/2030-04-08/
LOCATION:Dominion Worship Center\, 4450 Stine Rd.\, Bakersfield\, CA\, 93313\, United States
END:VEVENT
BEGIN:VEVENT
DTSTART;TZID=UTC:20300410T190000
DTEND;TZID=UTC:20300410T200000
DTSTAMP:20260423T055953
CREATED:20250216T153804Z
LAST-MODIFIED:20251203T214225Z
UID:10003207-1902078000-1902081600@www.dominionworshipcenter.org
SUMMARY:Wednesday Gathering
DESCRIPTION:
URL:https://www.dominionworshipcenter.org/event/wednesday-gathering/2030-04-10/
LOCATION:CA
END:VEVENT
BEGIN:VEVENT
DTSTART;TZID=UTC:20300412T060000
DTEND;TZID=UTC:20300412T070000
DTSTAMP:20260423T055953
CREATED:20250425T021024Z
LAST-MODIFIED:20250425T021025Z
UID:10003039-1902204000-1902207600@www.dominionworshipcenter.org
SUMMARY:Men's Prayer
DESCRIPTION:
URL:https://www.dominionworshipcenter.org/event/600-am-mens-prayer-3-2/2030-04-12/
LOCATION:Dominion Worship Center\, 4450 Stine Rd.\, Bakersfield\, CA\, 93313\, United States
END:VEVENT
BEGIN:VEVENT
DTSTART;TZID=UTC:20300414T100000
DTEND;TZID=UTC:20300414T120000
DTSTAMP:20260423T055953
CREATED:20250425T015556Z
LAST-MODIFIED:20250425T015557Z
UID:10003021-1902391200-1902398400@www.dominionworshipcenter.org
SUMMARY:Worship Service
DESCRIPTION:
URL:https://www.dominionworshipcenter.org/event/worship-service-2-2/2030-04-14/
LOCATION:Dominion Worship Center\, 4450 Stine Rd.\, Bakersfield\, CA\, 93313\, United States
END:VEVENT
END:VCALENDAR