BEGIN:VCALENDAR
VERSION:2.0
PRODID:-//Dominion Worship Center - ECPv6.15.20//NONSGML v1.0//EN
CALSCALE:GREGORIAN
METHOD:PUBLISH
X-ORIGINAL-URL:https://www.dominionworshipcenter.org
X-WR-CALDESC:Events for Dominion Worship Center
REFRESH-INTERVAL;VALUE=DURATION:PT1H
X-Robots-Tag:noindex
X-PUBLISHED-TTL:PT1H
BEGIN:VTIMEZONE
TZID:UTC
BEGIN:STANDARD
TZOFFSETFROM:+0000
TZOFFSETTO:+0000
TZNAME:UTC
DTSTART:20280101T000000
END:STANDARD
END:VTIMEZONE
BEGIN:VEVENT
DTSTART;TZID=UTC:20291104T100000
DTEND;TZID=UTC:20291104T120000
DTSTAMP:20260422T224029
CREATED:20250425T015556Z
LAST-MODIFIED:20250425T015557Z
UID:10001941-1888480800-1888488000@www.dominionworshipcenter.org
SUMMARY:Worship Service
DESCRIPTION:
URL:https://www.dominionworshipcenter.org/event/worship-service-2-2/2029-11-04/
LOCATION:Dominion Worship Center\, 4450 Stine Rd.\, Bakersfield\, CA\, 93313\, United States
END:VEVENT
BEGIN:VEVENT
DTSTART;TZID=UTC:20291105T190000
DTEND;TZID=UTC:20291105T200000
DTSTAMP:20260422T224029
CREATED:20260218T172612Z
LAST-MODIFIED:20260218T172612Z
UID:10001672-1888599600-1888603200@www.dominionworshipcenter.org
SUMMARY:Monday Night Prayer
DESCRIPTION:
URL:https://www.dominionworshipcenter.org/event/monday-night-prayer-2-2-2/2029-11-05/
LOCATION:Dominion Worship Center\, 4450 Stine Rd.\, Bakersfield\, CA\, 93313\, United States
END:VEVENT
BEGIN:VEVENT
DTSTART;TZID=UTC:20291107T190000
DTEND;TZID=UTC:20291107T200000
DTSTAMP:20260422T224029
CREATED:20250216T153804Z
LAST-MODIFIED:20251203T214225Z
UID:10002468-1888772400-1888776000@www.dominionworshipcenter.org
SUMMARY:Wednesday Gathering
DESCRIPTION:
URL:https://www.dominionworshipcenter.org/event/wednesday-gathering/2029-11-07/
LOCATION:CA
END:VEVENT
BEGIN:VEVENT
DTSTART;TZID=UTC:20291109T060000
DTEND;TZID=UTC:20291109T070000
DTSTAMP:20260422T224029
CREATED:20250425T021024Z
LAST-MODIFIED:20250425T021025Z
UID:10002203-1888898400-1888902000@www.dominionworshipcenter.org
SUMMARY:Men's Prayer
DESCRIPTION:
URL:https://www.dominionworshipcenter.org/event/600-am-mens-prayer-3-2/2029-11-09/
LOCATION:Dominion Worship Center\, 4450 Stine Rd.\, Bakersfield\, CA\, 93313\, United States
END:VEVENT
BEGIN:VEVENT
DTSTART;TZID=UTC:20291111T100000
DTEND;TZID=UTC:20291111T120000
DTSTAMP:20260422T224029
CREATED:20250425T015556Z
LAST-MODIFIED:20250425T015557Z
UID:10001942-1889085600-1889092800@www.dominionworshipcenter.org
SUMMARY:Worship Service
DESCRIPTION:
URL:https://www.dominionworshipcenter.org/event/worship-service-2-2/2029-11-11/
LOCATION:Dominion Worship Center\, 4450 Stine Rd.\, Bakersfield\, CA\, 93313\, United States
END:VEVENT
BEGIN:VEVENT
DTSTART;TZID=UTC:20291112T190000
DTEND;TZID=UTC:20291112T200000
DTSTAMP:20260422T224029
CREATED:20260218T172612Z
LAST-MODIFIED:20260218T172612Z
UID:10001673-1889204400-1889208000@www.dominionworshipcenter.org
SUMMARY:Monday Night Prayer
DESCRIPTION:
URL:https://www.dominionworshipcenter.org/event/monday-night-prayer-2-2-2/2029-11-12/
LOCATION:Dominion Worship Center\, 4450 Stine Rd.\, Bakersfield\, CA\, 93313\, United States
END:VEVENT
BEGIN:VEVENT
DTSTART;TZID=UTC:20291114T190000
DTEND;TZID=UTC:20291114T200000
DTSTAMP:20260422T224029
CREATED:20250216T153804Z
LAST-MODIFIED:20251203T214225Z
UID:10002469-1889377200-1889380800@www.dominionworshipcenter.org
SUMMARY:Wednesday Gathering
DESCRIPTION:
URL:https://www.dominionworshipcenter.org/event/wednesday-gathering/2029-11-14/
LOCATION:CA
END:VEVENT
BEGIN:VEVENT
DTSTART;TZID=UTC:20291115T190000
DTEND;TZID=UTC:20291115T210000
DTSTAMP:20260422T224029
CREATED:20250513T213924Z
LAST-MODIFIED:20250513T213924Z
UID:10003096-1889463600-1889470800@www.dominionworshipcenter.org
SUMMARY:ENGAGE:  Young Adults Meeting
DESCRIPTION:
URL:https://www.dominionworshipcenter.org/event/engage-young-adults-meeting/2029-11-15/
LOCATION:CA
END:VEVENT
BEGIN:VEVENT
DTSTART;TZID=UTC:20291116T060000
DTEND;TZID=UTC:20291116T070000
DTSTAMP:20260422T224029
CREATED:20250425T021024Z
LAST-MODIFIED:20250425T021025Z
UID:10002204-1889503200-1889506800@www.dominionworshipcenter.org
SUMMARY:Men's Prayer
DESCRIPTION:
URL:https://www.dominionworshipcenter.org/event/600-am-mens-prayer-3-2/2029-11-16/
LOCATION:Dominion Worship Center\, 4450 Stine Rd.\, Bakersfield\, CA\, 93313\, United States
END:VEVENT
BEGIN:VEVENT
DTSTART;TZID=UTC:20291118T100000
DTEND;TZID=UTC:20291118T120000
DTSTAMP:20260422T224029
CREATED:20250425T015556Z
LAST-MODIFIED:20250425T015557Z
UID:10001943-1889690400-1889697600@www.dominionworshipcenter.org
SUMMARY:Worship Service
DESCRIPTION:
URL:https://www.dominionworshipcenter.org/event/worship-service-2-2/2029-11-18/
LOCATION:Dominion Worship Center\, 4450 Stine Rd.\, Bakersfield\, CA\, 93313\, United States
END:VEVENT
BEGIN:VEVENT
DTSTART;TZID=UTC:20291119T190000
DTEND;TZID=UTC:20291119T200000
DTSTAMP:20260422T224029
CREATED:20260218T172612Z
LAST-MODIFIED:20260218T172612Z
UID:10001674-1889809200-1889812800@www.dominionworshipcenter.org
SUMMARY:Monday Night Prayer
DESCRIPTION:
URL:https://www.dominionworshipcenter.org/event/monday-night-prayer-2-2-2/2029-11-19/
LOCATION:Dominion Worship Center\, 4450 Stine Rd.\, Bakersfield\, CA\, 93313\, United States
END:VEVENT
BEGIN:VEVENT
DTSTART;TZID=UTC:20291121T190000
DTEND;TZID=UTC:20291121T200000
DTSTAMP:20260422T224029
CREATED:20250216T153804Z
LAST-MODIFIED:20251203T214225Z
UID:10002470-1889982000-1889985600@www.dominionworshipcenter.org
SUMMARY:Wednesday Gathering
DESCRIPTION:
URL:https://www.dominionworshipcenter.org/event/wednesday-gathering/2029-11-21/
LOCATION:CA
END:VEVENT
BEGIN:VEVENT
DTSTART;TZID=UTC:20291123T060000
DTEND;TZID=UTC:20291123T070000
DTSTAMP:20260422T224029
CREATED:20250425T021024Z
LAST-MODIFIED:20250425T021025Z
UID:10002205-1890108000-1890111600@www.dominionworshipcenter.org
SUMMARY:Men's Prayer
DESCRIPTION:
URL:https://www.dominionworshipcenter.org/event/600-am-mens-prayer-3-2/2029-11-23/
LOCATION:Dominion Worship Center\, 4450 Stine Rd.\, Bakersfield\, CA\, 93313\, United States
END:VEVENT
BEGIN:VEVENT
DTSTART;TZID=UTC:20291125T100000
DTEND;TZID=UTC:20291125T120000
DTSTAMP:20260422T224029
CREATED:20250425T015556Z
LAST-MODIFIED:20250425T015557Z
UID:10001944-1890295200-1890302400@www.dominionworshipcenter.org
SUMMARY:Worship Service
DESCRIPTION:
URL:https://www.dominionworshipcenter.org/event/worship-service-2-2/2029-11-25/
LOCATION:Dominion Worship Center\, 4450 Stine Rd.\, Bakersfield\, CA\, 93313\, United States
END:VEVENT
BEGIN:VEVENT
DTSTART;TZID=UTC:20291126T190000
DTEND;TZID=UTC:20291126T200000
DTSTAMP:20260422T224029
CREATED:20260218T172612Z
LAST-MODIFIED:20260218T172612Z
UID:10001675-1890414000-1890417600@www.dominionworshipcenter.org
SUMMARY:Monday Night Prayer
DESCRIPTION:
URL:https://www.dominionworshipcenter.org/event/monday-night-prayer-2-2-2/2029-11-26/
LOCATION:Dominion Worship Center\, 4450 Stine Rd.\, Bakersfield\, CA\, 93313\, United States
END:VEVENT
BEGIN:VEVENT
DTSTART;TZID=UTC:20291128T190000
DTEND;TZID=UTC:20291128T200000
DTSTAMP:20260422T224029
CREATED:20250216T153804Z
LAST-MODIFIED:20251203T214225Z
UID:10002471-1890586800-1890590400@www.dominionworshipcenter.org
SUMMARY:Wednesday Gathering
DESCRIPTION:
URL:https://www.dominionworshipcenter.org/event/wednesday-gathering/2029-11-28/
LOCATION:CA
END:VEVENT
BEGIN:VEVENT
DTSTART;TZID=UTC:20291130T060000
DTEND;TZID=UTC:20291130T070000
DTSTAMP:20260422T224029
CREATED:20250425T021024Z
LAST-MODIFIED:20250425T021025Z
UID:10002206-1890712800-1890716400@www.dominionworshipcenter.org
SUMMARY:Men's Prayer
DESCRIPTION:
URL:https://www.dominionworshipcenter.org/event/600-am-mens-prayer-3-2/2029-11-30/
LOCATION:Dominion Worship Center\, 4450 Stine Rd.\, Bakersfield\, CA\, 93313\, United States
END:VEVENT
BEGIN:VEVENT
DTSTART;TZID=UTC:20291202T100000
DTEND;TZID=UTC:20291202T120000
DTSTAMP:20260422T224029
CREATED:20250425T015556Z
LAST-MODIFIED:20250425T015557Z
UID:10001945-1890900000-1890907200@www.dominionworshipcenter.org
SUMMARY:Worship Service
DESCRIPTION:
URL:https://www.dominionworshipcenter.org/event/worship-service-2-2/2029-12-02/
LOCATION:Dominion Worship Center\, 4450 Stine Rd.\, Bakersfield\, CA\, 93313\, United States
END:VEVENT
BEGIN:VEVENT
DTSTART;TZID=UTC:20291203T190000
DTEND;TZID=UTC:20291203T200000
DTSTAMP:20260422T224029
CREATED:20260218T172612Z
LAST-MODIFIED:20260218T172612Z
UID:10001676-1891018800-1891022400@www.dominionworshipcenter.org
SUMMARY:Monday Night Prayer
DESCRIPTION:
URL:https://www.dominionworshipcenter.org/event/monday-night-prayer-2-2-2/2029-12-03/
LOCATION:Dominion Worship Center\, 4450 Stine Rd.\, Bakersfield\, CA\, 93313\, United States
END:VEVENT
BEGIN:VEVENT
DTSTART;TZID=UTC:20291205T190000
DTEND;TZID=UTC:20291205T200000
DTSTAMP:20260422T224029
CREATED:20250216T153804Z
LAST-MODIFIED:20251203T214225Z
UID:10002472-1891191600-1891195200@www.dominionworshipcenter.org
SUMMARY:Wednesday Gathering
DESCRIPTION:
URL:https://www.dominionworshipcenter.org/event/wednesday-gathering/2029-12-05/
LOCATION:CA
END:VEVENT
BEGIN:VEVENT
DTSTART;TZID=UTC:20291206T190000
DTEND;TZID=UTC:20291206T210000
DTSTAMP:20260422T224029
CREATED:20250513T214135Z
LAST-MODIFIED:20250513T214636Z
UID:10003156-1891278000-1891285200@www.dominionworshipcenter.org
SUMMARY:ENGAGE:  Young Adults Meeting
DESCRIPTION:
URL:https://www.dominionworshipcenter.org/event/engage-young-adults-meeting-2/2029-12-06/
LOCATION:CA
END:VEVENT
BEGIN:VEVENT
DTSTART;TZID=UTC:20291207T060000
DTEND;TZID=UTC:20291207T070000
DTSTAMP:20260422T224029
CREATED:20250425T021024Z
LAST-MODIFIED:20250425T021025Z
UID:10002207-1891317600-1891321200@www.dominionworshipcenter.org
SUMMARY:Men's Prayer
DESCRIPTION:
URL:https://www.dominionworshipcenter.org/event/600-am-mens-prayer-3-2/2029-12-07/
LOCATION:Dominion Worship Center\, 4450 Stine Rd.\, Bakersfield\, CA\, 93313\, United States
END:VEVENT
BEGIN:VEVENT
DTSTART;TZID=UTC:20291209T100000
DTEND;TZID=UTC:20291209T120000
DTSTAMP:20260422T224029
CREATED:20250425T015556Z
LAST-MODIFIED:20250425T015557Z
UID:10001946-1891504800-1891512000@www.dominionworshipcenter.org
SUMMARY:Worship Service
DESCRIPTION:
URL:https://www.dominionworshipcenter.org/event/worship-service-2-2/2029-12-09/
LOCATION:Dominion Worship Center\, 4450 Stine Rd.\, Bakersfield\, CA\, 93313\, United States
END:VEVENT
BEGIN:VEVENT
DTSTART;TZID=UTC:20291210T190000
DTEND;TZID=UTC:20291210T200000
DTSTAMP:20260422T224029
CREATED:20260218T172612Z
LAST-MODIFIED:20260218T172612Z
UID:10001677-1891623600-1891627200@www.dominionworshipcenter.org
SUMMARY:Monday Night Prayer
DESCRIPTION:
URL:https://www.dominionworshipcenter.org/event/monday-night-prayer-2-2-2/2029-12-10/
LOCATION:Dominion Worship Center\, 4450 Stine Rd.\, Bakersfield\, CA\, 93313\, United States
END:VEVENT
BEGIN:VEVENT
DTSTART;TZID=UTC:20291212T190000
DTEND;TZID=UTC:20291212T200000
DTSTAMP:20260422T224029
CREATED:20250216T153804Z
LAST-MODIFIED:20251203T214225Z
UID:10002473-1891796400-1891800000@www.dominionworshipcenter.org
SUMMARY:Wednesday Gathering
DESCRIPTION:
URL:https://www.dominionworshipcenter.org/event/wednesday-gathering/2029-12-12/
LOCATION:CA
END:VEVENT
BEGIN:VEVENT
DTSTART;TZID=UTC:20291214T060000
DTEND;TZID=UTC:20291214T070000
DTSTAMP:20260422T224029
CREATED:20250425T021024Z
LAST-MODIFIED:20250425T021025Z
UID:10002208-1891922400-1891926000@www.dominionworshipcenter.org
SUMMARY:Men's Prayer
DESCRIPTION:
URL:https://www.dominionworshipcenter.org/event/600-am-mens-prayer-3-2/2029-12-14/
LOCATION:Dominion Worship Center\, 4450 Stine Rd.\, Bakersfield\, CA\, 93313\, United States
END:VEVENT
BEGIN:VEVENT
DTSTART;TZID=UTC:20291216T100000
DTEND;TZID=UTC:20291216T120000
DTSTAMP:20260422T224029
CREATED:20250425T015556Z
LAST-MODIFIED:20250425T015557Z
UID:10001947-1892109600-1892116800@www.dominionworshipcenter.org
SUMMARY:Worship Service
DESCRIPTION:
URL:https://www.dominionworshipcenter.org/event/worship-service-2-2/2029-12-16/
LOCATION:Dominion Worship Center\, 4450 Stine Rd.\, Bakersfield\, CA\, 93313\, United States
END:VEVENT
BEGIN:VEVENT
DTSTART;TZID=UTC:20291217T190000
DTEND;TZID=UTC:20291217T200000
DTSTAMP:20260422T224029
CREATED:20260218T172612Z
LAST-MODIFIED:20260218T172612Z
UID:10001678-1892228400-1892232000@www.dominionworshipcenter.org
SUMMARY:Monday Night Prayer
DESCRIPTION:
URL:https://www.dominionworshipcenter.org/event/monday-night-prayer-2-2-2/2029-12-17/
LOCATION:Dominion Worship Center\, 4450 Stine Rd.\, Bakersfield\, CA\, 93313\, United States
END:VEVENT
BEGIN:VEVENT
DTSTART;TZID=UTC:20291219T190000
DTEND;TZID=UTC:20291219T200000
DTSTAMP:20260422T224029
CREATED:20250216T153804Z
LAST-MODIFIED:20251203T214225Z
UID:10002474-1892401200-1892404800@www.dominionworshipcenter.org
SUMMARY:Wednesday Gathering
DESCRIPTION:
URL:https://www.dominionworshipcenter.org/event/wednesday-gathering/2029-12-19/
LOCATION:CA
END:VEVENT
BEGIN:VEVENT
DTSTART;TZID=UTC:20291220T190000
DTEND;TZID=UTC:20291220T210000
DTSTAMP:20260422T224029
CREATED:20250513T213924Z
LAST-MODIFIED:20250513T213924Z
UID:10003097-1892487600-1892494800@www.dominionworshipcenter.org
SUMMARY:ENGAGE:  Young Adults Meeting
DESCRIPTION:
URL:https://www.dominionworshipcenter.org/event/engage-young-adults-meeting/2029-12-20/
LOCATION:CA
END:VEVENT
END:VCALENDAR