BEGIN:VCALENDAR
VERSION:2.0
PRODID:-//Dominion Worship Center - ECPv6.15.20//NONSGML v1.0//EN
CALSCALE:GREGORIAN
METHOD:PUBLISH
X-WR-CALNAME:Dominion Worship Center
X-ORIGINAL-URL:https://www.dominionworshipcenter.org
X-WR-CALDESC:Events for Dominion Worship Center
REFRESH-INTERVAL;VALUE=DURATION:PT1H
X-Robots-Tag:noindex
X-PUBLISHED-TTL:PT1H
BEGIN:VTIMEZONE
TZID:UTC
BEGIN:STANDARD
TZOFFSETFROM:+0000
TZOFFSETTO:+0000
TZNAME:UTC
DTSTART:20290101T000000
END:STANDARD
END:VTIMEZONE
BEGIN:VEVENT
DTSTART;TZID=UTC:20300102T190000
DTEND;TZID=UTC:20300102T200000
DTSTAMP:20260423T004623
CREATED:20250216T153804Z
LAST-MODIFIED:20251203T214225Z
UID:10002476-1893610800-1893614400@www.dominionworshipcenter.org
SUMMARY:Wednesday Gathering
DESCRIPTION:
URL:https://www.dominionworshipcenter.org/event/wednesday-gathering/2030-01-02/
LOCATION:CA
END:VEVENT
BEGIN:VEVENT
DTSTART;TZID=UTC:20300103T190000
DTEND;TZID=UTC:20300103T210000
DTSTAMP:20260423T004623
CREATED:20250513T214135Z
LAST-MODIFIED:20250513T214636Z
UID:10003157-1893697200-1893704400@www.dominionworshipcenter.org
SUMMARY:ENGAGE:  Young Adults Meeting
DESCRIPTION:
URL:https://www.dominionworshipcenter.org/event/engage-young-adults-meeting-2/2030-01-03/
LOCATION:CA
END:VEVENT
BEGIN:VEVENT
DTSTART;TZID=UTC:20300104T060000
DTEND;TZID=UTC:20300104T070000
DTSTAMP:20260423T004623
CREATED:20250425T021024Z
LAST-MODIFIED:20250425T021025Z
UID:10002211-1893736800-1893740400@www.dominionworshipcenter.org
SUMMARY:Men's Prayer
DESCRIPTION:
URL:https://www.dominionworshipcenter.org/event/600-am-mens-prayer-3-2/2030-01-04/
LOCATION:Dominion Worship Center\, 4450 Stine Rd.\, Bakersfield\, CA\, 93313\, United States
END:VEVENT
BEGIN:VEVENT
DTSTART;TZID=UTC:20300106T100000
DTEND;TZID=UTC:20300106T120000
DTSTAMP:20260423T004623
CREATED:20250425T015556Z
LAST-MODIFIED:20250425T015557Z
UID:10001950-1893924000-1893931200@www.dominionworshipcenter.org
SUMMARY:Worship Service
DESCRIPTION:
URL:https://www.dominionworshipcenter.org/event/worship-service-2-2/2030-01-06/
LOCATION:Dominion Worship Center\, 4450 Stine Rd.\, Bakersfield\, CA\, 93313\, United States
END:VEVENT
BEGIN:VEVENT
DTSTART;TZID=UTC:20300107T190000
DTEND;TZID=UTC:20300107T200000
DTSTAMP:20260423T004623
CREATED:20260218T172612Z
LAST-MODIFIED:20260218T172612Z
UID:10001681-1894042800-1894046400@www.dominionworshipcenter.org
SUMMARY:Monday Night Prayer
DESCRIPTION:
URL:https://www.dominionworshipcenter.org/event/monday-night-prayer-2-2-2/2030-01-07/
LOCATION:Dominion Worship Center\, 4450 Stine Rd.\, Bakersfield\, CA\, 93313\, United States
END:VEVENT
BEGIN:VEVENT
DTSTART;TZID=UTC:20300109T190000
DTEND;TZID=UTC:20300109T200000
DTSTAMP:20260423T004623
CREATED:20250216T153804Z
LAST-MODIFIED:20251203T214225Z
UID:10002477-1894215600-1894219200@www.dominionworshipcenter.org
SUMMARY:Wednesday Gathering
DESCRIPTION:
URL:https://www.dominionworshipcenter.org/event/wednesday-gathering/2030-01-09/
LOCATION:CA
END:VEVENT
BEGIN:VEVENT
DTSTART;TZID=UTC:20300111T060000
DTEND;TZID=UTC:20300111T070000
DTSTAMP:20260423T004623
CREATED:20250425T021024Z
LAST-MODIFIED:20250425T021025Z
UID:10002212-1894341600-1894345200@www.dominionworshipcenter.org
SUMMARY:Men's Prayer
DESCRIPTION:
URL:https://www.dominionworshipcenter.org/event/600-am-mens-prayer-3-2/2030-01-11/
LOCATION:Dominion Worship Center\, 4450 Stine Rd.\, Bakersfield\, CA\, 93313\, United States
END:VEVENT
BEGIN:VEVENT
DTSTART;TZID=UTC:20300113T100000
DTEND;TZID=UTC:20300113T120000
DTSTAMP:20260423T004623
CREATED:20250425T015556Z
LAST-MODIFIED:20250425T015557Z
UID:10001951-1894528800-1894536000@www.dominionworshipcenter.org
SUMMARY:Worship Service
DESCRIPTION:
URL:https://www.dominionworshipcenter.org/event/worship-service-2-2/2030-01-13/
LOCATION:Dominion Worship Center\, 4450 Stine Rd.\, Bakersfield\, CA\, 93313\, United States
END:VEVENT
BEGIN:VEVENT
DTSTART;TZID=UTC:20300114T190000
DTEND;TZID=UTC:20300114T200000
DTSTAMP:20260423T004623
CREATED:20260218T172612Z
LAST-MODIFIED:20260218T172612Z
UID:10001682-1894647600-1894651200@www.dominionworshipcenter.org
SUMMARY:Monday Night Prayer
DESCRIPTION:
URL:https://www.dominionworshipcenter.org/event/monday-night-prayer-2-2-2/2030-01-14/
LOCATION:Dominion Worship Center\, 4450 Stine Rd.\, Bakersfield\, CA\, 93313\, United States
END:VEVENT
BEGIN:VEVENT
DTSTART;TZID=UTC:20300116T190000
DTEND;TZID=UTC:20300116T200000
DTSTAMP:20260423T004623
CREATED:20250216T153804Z
LAST-MODIFIED:20251203T214225Z
UID:10002478-1894820400-1894824000@www.dominionworshipcenter.org
SUMMARY:Wednesday Gathering
DESCRIPTION:
URL:https://www.dominionworshipcenter.org/event/wednesday-gathering/2030-01-16/
LOCATION:CA
END:VEVENT
BEGIN:VEVENT
DTSTART;TZID=UTC:20300117T190000
DTEND;TZID=UTC:20300117T210000
DTSTAMP:20260423T004623
CREATED:20250513T213924Z
LAST-MODIFIED:20250513T213924Z
UID:10003098-1894906800-1894914000@www.dominionworshipcenter.org
SUMMARY:ENGAGE:  Young Adults Meeting
DESCRIPTION:
URL:https://www.dominionworshipcenter.org/event/engage-young-adults-meeting/2030-01-17/
LOCATION:CA
END:VEVENT
BEGIN:VEVENT
DTSTART;TZID=UTC:20300118T060000
DTEND;TZID=UTC:20300118T070000
DTSTAMP:20260423T004623
CREATED:20250425T021024Z
LAST-MODIFIED:20250425T021025Z
UID:10002213-1894946400-1894950000@www.dominionworshipcenter.org
SUMMARY:Men's Prayer
DESCRIPTION:
URL:https://www.dominionworshipcenter.org/event/600-am-mens-prayer-3-2/2030-01-18/
LOCATION:Dominion Worship Center\, 4450 Stine Rd.\, Bakersfield\, CA\, 93313\, United States
END:VEVENT
BEGIN:VEVENT
DTSTART;TZID=UTC:20300120T100000
DTEND;TZID=UTC:20300120T120000
DTSTAMP:20260423T004623
CREATED:20250425T015556Z
LAST-MODIFIED:20250425T015557Z
UID:10001952-1895133600-1895140800@www.dominionworshipcenter.org
SUMMARY:Worship Service
DESCRIPTION:
URL:https://www.dominionworshipcenter.org/event/worship-service-2-2/2030-01-20/
LOCATION:Dominion Worship Center\, 4450 Stine Rd.\, Bakersfield\, CA\, 93313\, United States
END:VEVENT
BEGIN:VEVENT
DTSTART;TZID=UTC:20300121T190000
DTEND;TZID=UTC:20300121T200000
DTSTAMP:20260423T004623
CREATED:20260218T172612Z
LAST-MODIFIED:20260218T172612Z
UID:10001683-1895252400-1895256000@www.dominionworshipcenter.org
SUMMARY:Monday Night Prayer
DESCRIPTION:
URL:https://www.dominionworshipcenter.org/event/monday-night-prayer-2-2-2/2030-01-21/
LOCATION:Dominion Worship Center\, 4450 Stine Rd.\, Bakersfield\, CA\, 93313\, United States
END:VEVENT
BEGIN:VEVENT
DTSTART;TZID=UTC:20300123T190000
DTEND;TZID=UTC:20300123T200000
DTSTAMP:20260423T004623
CREATED:20250216T153804Z
LAST-MODIFIED:20251203T214225Z
UID:10002479-1895425200-1895428800@www.dominionworshipcenter.org
SUMMARY:Wednesday Gathering
DESCRIPTION:
URL:https://www.dominionworshipcenter.org/event/wednesday-gathering/2030-01-23/
LOCATION:CA
END:VEVENT
BEGIN:VEVENT
DTSTART;TZID=UTC:20300125T060000
DTEND;TZID=UTC:20300125T070000
DTSTAMP:20260423T004623
CREATED:20250425T021024Z
LAST-MODIFIED:20250425T021025Z
UID:10002214-1895551200-1895554800@www.dominionworshipcenter.org
SUMMARY:Men's Prayer
DESCRIPTION:
URL:https://www.dominionworshipcenter.org/event/600-am-mens-prayer-3-2/2030-01-25/
LOCATION:Dominion Worship Center\, 4450 Stine Rd.\, Bakersfield\, CA\, 93313\, United States
END:VEVENT
BEGIN:VEVENT
DTSTART;TZID=UTC:20300127T100000
DTEND;TZID=UTC:20300127T120000
DTSTAMP:20260423T004623
CREATED:20250425T015556Z
LAST-MODIFIED:20250425T015557Z
UID:10001953-1895738400-1895745600@www.dominionworshipcenter.org
SUMMARY:Worship Service
DESCRIPTION:
URL:https://www.dominionworshipcenter.org/event/worship-service-2-2/2030-01-27/
LOCATION:Dominion Worship Center\, 4450 Stine Rd.\, Bakersfield\, CA\, 93313\, United States
END:VEVENT
BEGIN:VEVENT
DTSTART;TZID=UTC:20300128T190000
DTEND;TZID=UTC:20300128T200000
DTSTAMP:20260423T004623
CREATED:20260218T172612Z
LAST-MODIFIED:20260218T172612Z
UID:10001684-1895857200-1895860800@www.dominionworshipcenter.org
SUMMARY:Monday Night Prayer
DESCRIPTION:
URL:https://www.dominionworshipcenter.org/event/monday-night-prayer-2-2-2/2030-01-28/
LOCATION:Dominion Worship Center\, 4450 Stine Rd.\, Bakersfield\, CA\, 93313\, United States
END:VEVENT
BEGIN:VEVENT
DTSTART;TZID=UTC:20300130T190000
DTEND;TZID=UTC:20300130T200000
DTSTAMP:20260423T004623
CREATED:20250216T153804Z
LAST-MODIFIED:20251203T214225Z
UID:10002480-1896030000-1896033600@www.dominionworshipcenter.org
SUMMARY:Wednesday Gathering
DESCRIPTION:
URL:https://www.dominionworshipcenter.org/event/wednesday-gathering/2030-01-30/
LOCATION:CA
END:VEVENT
BEGIN:VEVENT
DTSTART;TZID=UTC:20300201T060000
DTEND;TZID=UTC:20300201T070000
DTSTAMP:20260423T004623
CREATED:20250425T021024Z
LAST-MODIFIED:20250425T021025Z
UID:10002215-1896156000-1896159600@www.dominionworshipcenter.org
SUMMARY:Men's Prayer
DESCRIPTION:
URL:https://www.dominionworshipcenter.org/event/600-am-mens-prayer-3-2/2030-02-01/
LOCATION:Dominion Worship Center\, 4450 Stine Rd.\, Bakersfield\, CA\, 93313\, United States
END:VEVENT
BEGIN:VEVENT
DTSTART;TZID=UTC:20300203T100000
DTEND;TZID=UTC:20300203T120000
DTSTAMP:20260423T004623
CREATED:20250425T015556Z
LAST-MODIFIED:20250425T015557Z
UID:10001954-1896343200-1896350400@www.dominionworshipcenter.org
SUMMARY:Worship Service
DESCRIPTION:
URL:https://www.dominionworshipcenter.org/event/worship-service-2-2/2030-02-03/
LOCATION:Dominion Worship Center\, 4450 Stine Rd.\, Bakersfield\, CA\, 93313\, United States
END:VEVENT
BEGIN:VEVENT
DTSTART;TZID=UTC:20300204T190000
DTEND;TZID=UTC:20300204T200000
DTSTAMP:20260423T004623
CREATED:20260218T172612Z
LAST-MODIFIED:20260218T172612Z
UID:10001685-1896462000-1896465600@www.dominionworshipcenter.org
SUMMARY:Monday Night Prayer
DESCRIPTION:
URL:https://www.dominionworshipcenter.org/event/monday-night-prayer-2-2-2/2030-02-04/
LOCATION:Dominion Worship Center\, 4450 Stine Rd.\, Bakersfield\, CA\, 93313\, United States
END:VEVENT
BEGIN:VEVENT
DTSTART;TZID=UTC:20300206T190000
DTEND;TZID=UTC:20300206T200000
DTSTAMP:20260423T004623
CREATED:20250216T153804Z
LAST-MODIFIED:20251203T214225Z
UID:10002481-1896634800-1896638400@www.dominionworshipcenter.org
SUMMARY:Wednesday Gathering
DESCRIPTION:
URL:https://www.dominionworshipcenter.org/event/wednesday-gathering/2030-02-06/
LOCATION:CA
END:VEVENT
BEGIN:VEVENT
DTSTART;TZID=UTC:20300207T190000
DTEND;TZID=UTC:20300207T210000
DTSTAMP:20260423T004623
CREATED:20250513T214135Z
LAST-MODIFIED:20250513T214636Z
UID:10003158-1896721200-1896728400@www.dominionworshipcenter.org
SUMMARY:ENGAGE:  Young Adults Meeting
DESCRIPTION:
URL:https://www.dominionworshipcenter.org/event/engage-young-adults-meeting-2/2030-02-07/
LOCATION:CA
END:VEVENT
BEGIN:VEVENT
DTSTART;TZID=UTC:20300208T060000
DTEND;TZID=UTC:20300208T070000
DTSTAMP:20260423T004623
CREATED:20250425T021024Z
LAST-MODIFIED:20250425T021025Z
UID:10002216-1896760800-1896764400@www.dominionworshipcenter.org
SUMMARY:Men's Prayer
DESCRIPTION:
URL:https://www.dominionworshipcenter.org/event/600-am-mens-prayer-3-2/2030-02-08/
LOCATION:Dominion Worship Center\, 4450 Stine Rd.\, Bakersfield\, CA\, 93313\, United States
END:VEVENT
BEGIN:VEVENT
DTSTART;TZID=UTC:20300210T100000
DTEND;TZID=UTC:20300210T120000
DTSTAMP:20260423T004623
CREATED:20250425T015556Z
LAST-MODIFIED:20250425T015557Z
UID:10001955-1896948000-1896955200@www.dominionworshipcenter.org
SUMMARY:Worship Service
DESCRIPTION:
URL:https://www.dominionworshipcenter.org/event/worship-service-2-2/2030-02-10/
LOCATION:Dominion Worship Center\, 4450 Stine Rd.\, Bakersfield\, CA\, 93313\, United States
END:VEVENT
BEGIN:VEVENT
DTSTART;TZID=UTC:20300211T190000
DTEND;TZID=UTC:20300211T200000
DTSTAMP:20260423T004623
CREATED:20260218T172612Z
LAST-MODIFIED:20260218T172612Z
UID:10001686-1897066800-1897070400@www.dominionworshipcenter.org
SUMMARY:Monday Night Prayer
DESCRIPTION:
URL:https://www.dominionworshipcenter.org/event/monday-night-prayer-2-2-2/2030-02-11/
LOCATION:Dominion Worship Center\, 4450 Stine Rd.\, Bakersfield\, CA\, 93313\, United States
END:VEVENT
BEGIN:VEVENT
DTSTART;TZID=UTC:20300213T190000
DTEND;TZID=UTC:20300213T200000
DTSTAMP:20260423T004623
CREATED:20250216T153804Z
LAST-MODIFIED:20251203T214225Z
UID:10002482-1897239600-1897243200@www.dominionworshipcenter.org
SUMMARY:Wednesday Gathering
DESCRIPTION:
URL:https://www.dominionworshipcenter.org/event/wednesday-gathering/2030-02-13/
LOCATION:CA
END:VEVENT
BEGIN:VEVENT
DTSTART;TZID=UTC:20300215T060000
DTEND;TZID=UTC:20300215T070000
DTSTAMP:20260423T004623
CREATED:20250425T021024Z
LAST-MODIFIED:20250425T021025Z
UID:10002217-1897365600-1897369200@www.dominionworshipcenter.org
SUMMARY:Men's Prayer
DESCRIPTION:
URL:https://www.dominionworshipcenter.org/event/600-am-mens-prayer-3-2/2030-02-15/
LOCATION:Dominion Worship Center\, 4450 Stine Rd.\, Bakersfield\, CA\, 93313\, United States
END:VEVENT
BEGIN:VEVENT
DTSTART;TZID=UTC:20300217T100000
DTEND;TZID=UTC:20300217T120000
DTSTAMP:20260423T004623
CREATED:20250425T015556Z
LAST-MODIFIED:20250425T015557Z
UID:10003013-1897552800-1897560000@www.dominionworshipcenter.org
SUMMARY:Worship Service
DESCRIPTION:
URL:https://www.dominionworshipcenter.org/event/worship-service-2-2/2030-02-17/
LOCATION:Dominion Worship Center\, 4450 Stine Rd.\, Bakersfield\, CA\, 93313\, United States
END:VEVENT
END:VCALENDAR