BEGIN:VCALENDAR
VERSION:2.0
PRODID:-//Dominion Worship Center - ECPv6.15.20//NONSGML v1.0//EN
CALSCALE:GREGORIAN
METHOD:PUBLISH
X-ORIGINAL-URL:https://www.dominionworshipcenter.org
X-WR-CALDESC:Events for Dominion Worship Center
REFRESH-INTERVAL;VALUE=DURATION:PT1H
X-Robots-Tag:noindex
X-PUBLISHED-TTL:PT1H
BEGIN:VTIMEZONE
TZID:UTC
BEGIN:STANDARD
TZOFFSETFROM:+0000
TZOFFSETTO:+0000
TZNAME:UTC
DTSTART:20280101T000000
END:STANDARD
END:VTIMEZONE
BEGIN:VEVENT
DTSTART;TZID=UTC:20290924T190000
DTEND;TZID=UTC:20290924T200000
DTSTAMP:20260422T220544
CREATED:20260218T172612Z
LAST-MODIFIED:20260218T172612Z
UID:10001666-1884970800-1884974400@www.dominionworshipcenter.org
SUMMARY:Monday Night Prayer
DESCRIPTION:
URL:https://www.dominionworshipcenter.org/event/monday-night-prayer-2-2-2/2029-09-24/
LOCATION:Dominion Worship Center\, 4450 Stine Rd.\, Bakersfield\, CA\, 93313\, United States
END:VEVENT
BEGIN:VEVENT
DTSTART;TZID=UTC:20290926T190000
DTEND;TZID=UTC:20290926T200000
DTSTAMP:20260422T220544
CREATED:20250216T153804Z
LAST-MODIFIED:20251203T214225Z
UID:10002462-1885143600-1885147200@www.dominionworshipcenter.org
SUMMARY:Wednesday Gathering
DESCRIPTION:
URL:https://www.dominionworshipcenter.org/event/wednesday-gathering/2029-09-26/
LOCATION:CA
END:VEVENT
BEGIN:VEVENT
DTSTART;TZID=UTC:20290928T060000
DTEND;TZID=UTC:20290928T070000
DTSTAMP:20260422T220544
CREATED:20250425T021024Z
LAST-MODIFIED:20250425T021025Z
UID:10002197-1885269600-1885273200@www.dominionworshipcenter.org
SUMMARY:Men's Prayer
DESCRIPTION:
URL:https://www.dominionworshipcenter.org/event/600-am-mens-prayer-3-2/2029-09-28/
LOCATION:Dominion Worship Center\, 4450 Stine Rd.\, Bakersfield\, CA\, 93313\, United States
END:VEVENT
BEGIN:VEVENT
DTSTART;TZID=UTC:20290930T100000
DTEND;TZID=UTC:20290930T120000
DTSTAMP:20260422T220544
CREATED:20250425T015556Z
LAST-MODIFIED:20250425T015557Z
UID:10001936-1885456800-1885464000@www.dominionworshipcenter.org
SUMMARY:Worship Service
DESCRIPTION:
URL:https://www.dominionworshipcenter.org/event/worship-service-2-2/2029-09-30/
LOCATION:Dominion Worship Center\, 4450 Stine Rd.\, Bakersfield\, CA\, 93313\, United States
END:VEVENT
BEGIN:VEVENT
DTSTART;TZID=UTC:20291001T190000
DTEND;TZID=UTC:20291001T200000
DTSTAMP:20260422T220544
CREATED:20260218T172612Z
LAST-MODIFIED:20260218T172612Z
UID:10001667-1885575600-1885579200@www.dominionworshipcenter.org
SUMMARY:Monday Night Prayer
DESCRIPTION:
URL:https://www.dominionworshipcenter.org/event/monday-night-prayer-2-2-2/2029-10-01/
LOCATION:Dominion Worship Center\, 4450 Stine Rd.\, Bakersfield\, CA\, 93313\, United States
END:VEVENT
BEGIN:VEVENT
DTSTART;TZID=UTC:20291003T190000
DTEND;TZID=UTC:20291003T200000
DTSTAMP:20260422T220544
CREATED:20250216T153804Z
LAST-MODIFIED:20251203T214225Z
UID:10002463-1885748400-1885752000@www.dominionworshipcenter.org
SUMMARY:Wednesday Gathering
DESCRIPTION:
URL:https://www.dominionworshipcenter.org/event/wednesday-gathering/2029-10-03/
LOCATION:CA
END:VEVENT
BEGIN:VEVENT
DTSTART;TZID=UTC:20291004T190000
DTEND;TZID=UTC:20291004T210000
DTSTAMP:20260422T220544
CREATED:20250513T214135Z
LAST-MODIFIED:20250513T214636Z
UID:10003154-1885834800-1885842000@www.dominionworshipcenter.org
SUMMARY:ENGAGE:  Young Adults Meeting
DESCRIPTION:
URL:https://www.dominionworshipcenter.org/event/engage-young-adults-meeting-2/2029-10-04/
LOCATION:CA
END:VEVENT
BEGIN:VEVENT
DTSTART;TZID=UTC:20291005T060000
DTEND;TZID=UTC:20291005T070000
DTSTAMP:20260422T220545
CREATED:20250425T021024Z
LAST-MODIFIED:20250425T021025Z
UID:10002198-1885874400-1885878000@www.dominionworshipcenter.org
SUMMARY:Men's Prayer
DESCRIPTION:
URL:https://www.dominionworshipcenter.org/event/600-am-mens-prayer-3-2/2029-10-05/
LOCATION:Dominion Worship Center\, 4450 Stine Rd.\, Bakersfield\, CA\, 93313\, United States
END:VEVENT
BEGIN:VEVENT
DTSTART;TZID=UTC:20291007T100000
DTEND;TZID=UTC:20291007T120000
DTSTAMP:20260422T220545
CREATED:20250425T015556Z
LAST-MODIFIED:20250425T015557Z
UID:10001937-1886061600-1886068800@www.dominionworshipcenter.org
SUMMARY:Worship Service
DESCRIPTION:
URL:https://www.dominionworshipcenter.org/event/worship-service-2-2/2029-10-07/
LOCATION:Dominion Worship Center\, 4450 Stine Rd.\, Bakersfield\, CA\, 93313\, United States
END:VEVENT
BEGIN:VEVENT
DTSTART;TZID=UTC:20291008T190000
DTEND;TZID=UTC:20291008T200000
DTSTAMP:20260422T220545
CREATED:20260218T172612Z
LAST-MODIFIED:20260218T172612Z
UID:10001668-1886180400-1886184000@www.dominionworshipcenter.org
SUMMARY:Monday Night Prayer
DESCRIPTION:
URL:https://www.dominionworshipcenter.org/event/monday-night-prayer-2-2-2/2029-10-08/
LOCATION:Dominion Worship Center\, 4450 Stine Rd.\, Bakersfield\, CA\, 93313\, United States
END:VEVENT
BEGIN:VEVENT
DTSTART;TZID=UTC:20291010T190000
DTEND;TZID=UTC:20291010T200000
DTSTAMP:20260422T220545
CREATED:20250216T153804Z
LAST-MODIFIED:20251203T214225Z
UID:10002464-1886353200-1886356800@www.dominionworshipcenter.org
SUMMARY:Wednesday Gathering
DESCRIPTION:
URL:https://www.dominionworshipcenter.org/event/wednesday-gathering/2029-10-10/
LOCATION:CA
END:VEVENT
BEGIN:VEVENT
DTSTART;TZID=UTC:20291012T060000
DTEND;TZID=UTC:20291012T070000
DTSTAMP:20260422T220545
CREATED:20250425T021024Z
LAST-MODIFIED:20250425T021025Z
UID:10002199-1886479200-1886482800@www.dominionworshipcenter.org
SUMMARY:Men's Prayer
DESCRIPTION:
URL:https://www.dominionworshipcenter.org/event/600-am-mens-prayer-3-2/2029-10-12/
LOCATION:Dominion Worship Center\, 4450 Stine Rd.\, Bakersfield\, CA\, 93313\, United States
END:VEVENT
BEGIN:VEVENT
DTSTART;TZID=UTC:20291014T100000
DTEND;TZID=UTC:20291014T120000
DTSTAMP:20260422T220545
CREATED:20250425T015556Z
LAST-MODIFIED:20250425T015557Z
UID:10001938-1886666400-1886673600@www.dominionworshipcenter.org
SUMMARY:Worship Service
DESCRIPTION:
URL:https://www.dominionworshipcenter.org/event/worship-service-2-2/2029-10-14/
LOCATION:Dominion Worship Center\, 4450 Stine Rd.\, Bakersfield\, CA\, 93313\, United States
END:VEVENT
BEGIN:VEVENT
DTSTART;TZID=UTC:20291015T190000
DTEND;TZID=UTC:20291015T200000
DTSTAMP:20260422T220545
CREATED:20260218T172612Z
LAST-MODIFIED:20260218T172612Z
UID:10001669-1886785200-1886788800@www.dominionworshipcenter.org
SUMMARY:Monday Night Prayer
DESCRIPTION:
URL:https://www.dominionworshipcenter.org/event/monday-night-prayer-2-2-2/2029-10-15/
LOCATION:Dominion Worship Center\, 4450 Stine Rd.\, Bakersfield\, CA\, 93313\, United States
END:VEVENT
BEGIN:VEVENT
DTSTART;TZID=UTC:20291017T190000
DTEND;TZID=UTC:20291017T200000
DTSTAMP:20260422T220545
CREATED:20250216T153804Z
LAST-MODIFIED:20251203T214225Z
UID:10002465-1886958000-1886961600@www.dominionworshipcenter.org
SUMMARY:Wednesday Gathering
DESCRIPTION:
URL:https://www.dominionworshipcenter.org/event/wednesday-gathering/2029-10-17/
LOCATION:CA
END:VEVENT
BEGIN:VEVENT
DTSTART;TZID=UTC:20291018T190000
DTEND;TZID=UTC:20291018T210000
DTSTAMP:20260422T220545
CREATED:20250513T213924Z
LAST-MODIFIED:20250513T213924Z
UID:10003095-1887044400-1887051600@www.dominionworshipcenter.org
SUMMARY:ENGAGE:  Young Adults Meeting
DESCRIPTION:
URL:https://www.dominionworshipcenter.org/event/engage-young-adults-meeting/2029-10-18/
LOCATION:CA
END:VEVENT
BEGIN:VEVENT
DTSTART;TZID=UTC:20291019T060000
DTEND;TZID=UTC:20291019T070000
DTSTAMP:20260422T220545
CREATED:20250425T021024Z
LAST-MODIFIED:20250425T021025Z
UID:10002200-1887084000-1887087600@www.dominionworshipcenter.org
SUMMARY:Men's Prayer
DESCRIPTION:
URL:https://www.dominionworshipcenter.org/event/600-am-mens-prayer-3-2/2029-10-19/
LOCATION:Dominion Worship Center\, 4450 Stine Rd.\, Bakersfield\, CA\, 93313\, United States
END:VEVENT
BEGIN:VEVENT
DTSTART;TZID=UTC:20291021T100000
DTEND;TZID=UTC:20291021T120000
DTSTAMP:20260422T220545
CREATED:20250425T015556Z
LAST-MODIFIED:20250425T015557Z
UID:10001939-1887271200-1887278400@www.dominionworshipcenter.org
SUMMARY:Worship Service
DESCRIPTION:
URL:https://www.dominionworshipcenter.org/event/worship-service-2-2/2029-10-21/
LOCATION:Dominion Worship Center\, 4450 Stine Rd.\, Bakersfield\, CA\, 93313\, United States
END:VEVENT
BEGIN:VEVENT
DTSTART;TZID=UTC:20291022T190000
DTEND;TZID=UTC:20291022T200000
DTSTAMP:20260422T220545
CREATED:20260218T172612Z
LAST-MODIFIED:20260218T172612Z
UID:10001670-1887390000-1887393600@www.dominionworshipcenter.org
SUMMARY:Monday Night Prayer
DESCRIPTION:
URL:https://www.dominionworshipcenter.org/event/monday-night-prayer-2-2-2/2029-10-22/
LOCATION:Dominion Worship Center\, 4450 Stine Rd.\, Bakersfield\, CA\, 93313\, United States
END:VEVENT
BEGIN:VEVENT
DTSTART;TZID=UTC:20291024T190000
DTEND;TZID=UTC:20291024T200000
DTSTAMP:20260422T220545
CREATED:20250216T153804Z
LAST-MODIFIED:20251203T214225Z
UID:10002466-1887562800-1887566400@www.dominionworshipcenter.org
SUMMARY:Wednesday Gathering
DESCRIPTION:
URL:https://www.dominionworshipcenter.org/event/wednesday-gathering/2029-10-24/
LOCATION:CA
END:VEVENT
BEGIN:VEVENT
DTSTART;TZID=UTC:20291026T060000
DTEND;TZID=UTC:20291026T070000
DTSTAMP:20260422T220545
CREATED:20250425T021024Z
LAST-MODIFIED:20250425T021025Z
UID:10002201-1887688800-1887692400@www.dominionworshipcenter.org
SUMMARY:Men's Prayer
DESCRIPTION:
URL:https://www.dominionworshipcenter.org/event/600-am-mens-prayer-3-2/2029-10-26/
LOCATION:Dominion Worship Center\, 4450 Stine Rd.\, Bakersfield\, CA\, 93313\, United States
END:VEVENT
BEGIN:VEVENT
DTSTART;TZID=UTC:20291028T100000
DTEND;TZID=UTC:20291028T120000
DTSTAMP:20260422T220545
CREATED:20250425T015556Z
LAST-MODIFIED:20250425T015557Z
UID:10001940-1887876000-1887883200@www.dominionworshipcenter.org
SUMMARY:Worship Service
DESCRIPTION:
URL:https://www.dominionworshipcenter.org/event/worship-service-2-2/2029-10-28/
LOCATION:Dominion Worship Center\, 4450 Stine Rd.\, Bakersfield\, CA\, 93313\, United States
END:VEVENT
BEGIN:VEVENT
DTSTART;TZID=UTC:20291029T190000
DTEND;TZID=UTC:20291029T200000
DTSTAMP:20260422T220545
CREATED:20260218T172612Z
LAST-MODIFIED:20260218T172612Z
UID:10001671-1887994800-1887998400@www.dominionworshipcenter.org
SUMMARY:Monday Night Prayer
DESCRIPTION:
URL:https://www.dominionworshipcenter.org/event/monday-night-prayer-2-2-2/2029-10-29/
LOCATION:Dominion Worship Center\, 4450 Stine Rd.\, Bakersfield\, CA\, 93313\, United States
END:VEVENT
BEGIN:VEVENT
DTSTART;TZID=UTC:20291031T190000
DTEND;TZID=UTC:20291031T200000
DTSTAMP:20260422T220545
CREATED:20250216T153804Z
LAST-MODIFIED:20251203T214225Z
UID:10002467-1888167600-1888171200@www.dominionworshipcenter.org
SUMMARY:Wednesday Gathering
DESCRIPTION:
URL:https://www.dominionworshipcenter.org/event/wednesday-gathering/2029-10-31/
LOCATION:CA
END:VEVENT
BEGIN:VEVENT
DTSTART;TZID=UTC:20291101T190000
DTEND;TZID=UTC:20291101T210000
DTSTAMP:20260422T220545
CREATED:20250513T214135Z
LAST-MODIFIED:20250513T214636Z
UID:10003155-1888254000-1888261200@www.dominionworshipcenter.org
SUMMARY:ENGAGE:  Young Adults Meeting
DESCRIPTION:
URL:https://www.dominionworshipcenter.org/event/engage-young-adults-meeting-2/2029-11-01/
LOCATION:CA
END:VEVENT
BEGIN:VEVENT
DTSTART;TZID=UTC:20291102T060000
DTEND;TZID=UTC:20291102T070000
DTSTAMP:20260422T220545
CREATED:20250425T021024Z
LAST-MODIFIED:20250425T021025Z
UID:10002202-1888293600-1888297200@www.dominionworshipcenter.org
SUMMARY:Men's Prayer
DESCRIPTION:
URL:https://www.dominionworshipcenter.org/event/600-am-mens-prayer-3-2/2029-11-02/
LOCATION:Dominion Worship Center\, 4450 Stine Rd.\, Bakersfield\, CA\, 93313\, United States
END:VEVENT
BEGIN:VEVENT
DTSTART;TZID=UTC:20291104T100000
DTEND;TZID=UTC:20291104T120000
DTSTAMP:20260422T220545
CREATED:20250425T015556Z
LAST-MODIFIED:20250425T015557Z
UID:10001941-1888480800-1888488000@www.dominionworshipcenter.org
SUMMARY:Worship Service
DESCRIPTION:
URL:https://www.dominionworshipcenter.org/event/worship-service-2-2/2029-11-04/
LOCATION:Dominion Worship Center\, 4450 Stine Rd.\, Bakersfield\, CA\, 93313\, United States
END:VEVENT
BEGIN:VEVENT
DTSTART;TZID=UTC:20291105T190000
DTEND;TZID=UTC:20291105T200000
DTSTAMP:20260422T220545
CREATED:20260218T172612Z
LAST-MODIFIED:20260218T172612Z
UID:10001672-1888599600-1888603200@www.dominionworshipcenter.org
SUMMARY:Monday Night Prayer
DESCRIPTION:
URL:https://www.dominionworshipcenter.org/event/monday-night-prayer-2-2-2/2029-11-05/
LOCATION:Dominion Worship Center\, 4450 Stine Rd.\, Bakersfield\, CA\, 93313\, United States
END:VEVENT
BEGIN:VEVENT
DTSTART;TZID=UTC:20291107T190000
DTEND;TZID=UTC:20291107T200000
DTSTAMP:20260422T220545
CREATED:20250216T153804Z
LAST-MODIFIED:20251203T214225Z
UID:10002468-1888772400-1888776000@www.dominionworshipcenter.org
SUMMARY:Wednesday Gathering
DESCRIPTION:
URL:https://www.dominionworshipcenter.org/event/wednesday-gathering/2029-11-07/
LOCATION:CA
END:VEVENT
BEGIN:VEVENT
DTSTART;TZID=UTC:20291109T060000
DTEND;TZID=UTC:20291109T070000
DTSTAMP:20260422T220545
CREATED:20250425T021024Z
LAST-MODIFIED:20250425T021025Z
UID:10002203-1888898400-1888902000@www.dominionworshipcenter.org
SUMMARY:Men's Prayer
DESCRIPTION:
URL:https://www.dominionworshipcenter.org/event/600-am-mens-prayer-3-2/2029-11-09/
LOCATION:Dominion Worship Center\, 4450 Stine Rd.\, Bakersfield\, CA\, 93313\, United States
END:VEVENT
END:VCALENDAR