BEGIN:VCALENDAR
VERSION:2.0
PRODID:-//Dominion Worship Center - ECPv6.15.20//NONSGML v1.0//EN
CALSCALE:GREGORIAN
METHOD:PUBLISH
X-ORIGINAL-URL:https://www.dominionworshipcenter.org
X-WR-CALDESC:Events for Dominion Worship Center
REFRESH-INTERVAL;VALUE=DURATION:PT1H
X-Robots-Tag:noindex
X-PUBLISHED-TTL:PT1H
BEGIN:VTIMEZONE
TZID:UTC
BEGIN:STANDARD
TZOFFSETFROM:+0000
TZOFFSETTO:+0000
TZNAME:UTC
DTSTART:20280101T000000
END:STANDARD
END:VTIMEZONE
BEGIN:VEVENT
DTSTART;TZID=UTC:20290315T190000
DTEND;TZID=UTC:20290315T210000
DTSTAMP:20260422T023156
CREATED:20250513T213924Z
LAST-MODIFIED:20250513T213924Z
UID:10003088-1868295600-1868302800@www.dominionworshipcenter.org
SUMMARY:ENGAGE:  Young Adults Meeting
DESCRIPTION:
URL:https://www.dominionworshipcenter.org/event/engage-young-adults-meeting/2029-03-15/
LOCATION:CA
END:VEVENT
BEGIN:VEVENT
DTSTART;TZID=UTC:20290316T060000
DTEND;TZID=UTC:20290316T070000
DTSTAMP:20260422T023156
CREATED:20250425T021024Z
LAST-MODIFIED:20250425T021025Z
UID:10002169-1868335200-1868338800@www.dominionworshipcenter.org
SUMMARY:Men's Prayer
DESCRIPTION:
URL:https://www.dominionworshipcenter.org/event/600-am-mens-prayer-3-2/2029-03-16/
LOCATION:Dominion Worship Center\, 4450 Stine Rd.\, Bakersfield\, CA\, 93313\, United States
END:VEVENT
BEGIN:VEVENT
DTSTART;TZID=UTC:20290318T100000
DTEND;TZID=UTC:20290318T120000
DTSTAMP:20260422T023156
CREATED:20250425T015556Z
LAST-MODIFIED:20250425T015557Z
UID:10001908-1868522400-1868529600@www.dominionworshipcenter.org
SUMMARY:Worship Service
DESCRIPTION:
URL:https://www.dominionworshipcenter.org/event/worship-service-2-2/2029-03-18/
LOCATION:Dominion Worship Center\, 4450 Stine Rd.\, Bakersfield\, CA\, 93313\, United States
END:VEVENT
BEGIN:VEVENT
DTSTART;TZID=UTC:20290319T190000
DTEND;TZID=UTC:20290319T200000
DTSTAMP:20260422T023156
CREATED:20260218T172612Z
LAST-MODIFIED:20260218T172612Z
UID:10001639-1868641200-1868644800@www.dominionworshipcenter.org
SUMMARY:Monday Night Prayer
DESCRIPTION:
URL:https://www.dominionworshipcenter.org/event/monday-night-prayer-2-2-2/2029-03-19/
LOCATION:Dominion Worship Center\, 4450 Stine Rd.\, Bakersfield\, CA\, 93313\, United States
END:VEVENT
BEGIN:VEVENT
DTSTART;TZID=UTC:20290321T190000
DTEND;TZID=UTC:20290321T200000
DTSTAMP:20260422T023156
CREATED:20250216T153804Z
LAST-MODIFIED:20251203T214225Z
UID:10002435-1868814000-1868817600@www.dominionworshipcenter.org
SUMMARY:Wednesday Gathering
DESCRIPTION:
URL:https://www.dominionworshipcenter.org/event/wednesday-gathering/2029-03-21/
LOCATION:CA
END:VEVENT
BEGIN:VEVENT
DTSTART;TZID=UTC:20290323T060000
DTEND;TZID=UTC:20290323T070000
DTSTAMP:20260422T023156
CREATED:20250425T021024Z
LAST-MODIFIED:20250425T021025Z
UID:10002170-1868940000-1868943600@www.dominionworshipcenter.org
SUMMARY:Men's Prayer
DESCRIPTION:
URL:https://www.dominionworshipcenter.org/event/600-am-mens-prayer-3-2/2029-03-23/
LOCATION:Dominion Worship Center\, 4450 Stine Rd.\, Bakersfield\, CA\, 93313\, United States
END:VEVENT
BEGIN:VEVENT
DTSTART;TZID=UTC:20290325T100000
DTEND;TZID=UTC:20290325T120000
DTSTAMP:20260422T023156
CREATED:20250425T015556Z
LAST-MODIFIED:20250425T015557Z
UID:10001909-1869127200-1869134400@www.dominionworshipcenter.org
SUMMARY:Worship Service
DESCRIPTION:
URL:https://www.dominionworshipcenter.org/event/worship-service-2-2/2029-03-25/
LOCATION:Dominion Worship Center\, 4450 Stine Rd.\, Bakersfield\, CA\, 93313\, United States
END:VEVENT
BEGIN:VEVENT
DTSTART;TZID=UTC:20290326T190000
DTEND;TZID=UTC:20290326T200000
DTSTAMP:20260422T023156
CREATED:20260218T172612Z
LAST-MODIFIED:20260218T172612Z
UID:10001640-1869246000-1869249600@www.dominionworshipcenter.org
SUMMARY:Monday Night Prayer
DESCRIPTION:
URL:https://www.dominionworshipcenter.org/event/monday-night-prayer-2-2-2/2029-03-26/
LOCATION:Dominion Worship Center\, 4450 Stine Rd.\, Bakersfield\, CA\, 93313\, United States
END:VEVENT
BEGIN:VEVENT
DTSTART;TZID=UTC:20290328T190000
DTEND;TZID=UTC:20290328T200000
DTSTAMP:20260422T023156
CREATED:20250216T153804Z
LAST-MODIFIED:20251203T214225Z
UID:10002436-1869418800-1869422400@www.dominionworshipcenter.org
SUMMARY:Wednesday Gathering
DESCRIPTION:
URL:https://www.dominionworshipcenter.org/event/wednesday-gathering/2029-03-28/
LOCATION:CA
END:VEVENT
BEGIN:VEVENT
DTSTART;TZID=UTC:20290330T060000
DTEND;TZID=UTC:20290330T070000
DTSTAMP:20260422T023156
CREATED:20250425T021024Z
LAST-MODIFIED:20250425T021025Z
UID:10002171-1869544800-1869548400@www.dominionworshipcenter.org
SUMMARY:Men's Prayer
DESCRIPTION:
URL:https://www.dominionworshipcenter.org/event/600-am-mens-prayer-3-2/2029-03-30/
LOCATION:Dominion Worship Center\, 4450 Stine Rd.\, Bakersfield\, CA\, 93313\, United States
END:VEVENT
BEGIN:VEVENT
DTSTART;TZID=UTC:20290401T100000
DTEND;TZID=UTC:20290401T120000
DTSTAMP:20260422T023156
CREATED:20250425T015556Z
LAST-MODIFIED:20250425T015557Z
UID:10001910-1869732000-1869739200@www.dominionworshipcenter.org
SUMMARY:Worship Service
DESCRIPTION:
URL:https://www.dominionworshipcenter.org/event/worship-service-2-2/2029-04-01/
LOCATION:Dominion Worship Center\, 4450 Stine Rd.\, Bakersfield\, CA\, 93313\, United States
END:VEVENT
BEGIN:VEVENT
DTSTART;TZID=UTC:20290402T190000
DTEND;TZID=UTC:20290402T200000
DTSTAMP:20260422T023156
CREATED:20260218T172612Z
LAST-MODIFIED:20260218T172612Z
UID:10001641-1869850800-1869854400@www.dominionworshipcenter.org
SUMMARY:Monday Night Prayer
DESCRIPTION:
URL:https://www.dominionworshipcenter.org/event/monday-night-prayer-2-2-2/2029-04-02/
LOCATION:Dominion Worship Center\, 4450 Stine Rd.\, Bakersfield\, CA\, 93313\, United States
END:VEVENT
BEGIN:VEVENT
DTSTART;TZID=UTC:20290404T190000
DTEND;TZID=UTC:20290404T200000
DTSTAMP:20260422T023156
CREATED:20250216T153804Z
LAST-MODIFIED:20251203T214225Z
UID:10002437-1870023600-1870027200@www.dominionworshipcenter.org
SUMMARY:Wednesday Gathering
DESCRIPTION:
URL:https://www.dominionworshipcenter.org/event/wednesday-gathering/2029-04-04/
LOCATION:CA
END:VEVENT
BEGIN:VEVENT
DTSTART;TZID=UTC:20290405T190000
DTEND;TZID=UTC:20290405T210000
DTSTAMP:20260422T023156
CREATED:20250513T214135Z
LAST-MODIFIED:20250513T214636Z
UID:10003148-1870110000-1870117200@www.dominionworshipcenter.org
SUMMARY:ENGAGE:  Young Adults Meeting
DESCRIPTION:
URL:https://www.dominionworshipcenter.org/event/engage-young-adults-meeting-2/2029-04-05/
LOCATION:CA
END:VEVENT
BEGIN:VEVENT
DTSTART;TZID=UTC:20290406T060000
DTEND;TZID=UTC:20290406T070000
DTSTAMP:20260422T023156
CREATED:20250425T021024Z
LAST-MODIFIED:20250425T021025Z
UID:10002172-1870149600-1870153200@www.dominionworshipcenter.org
SUMMARY:Men's Prayer
DESCRIPTION:
URL:https://www.dominionworshipcenter.org/event/600-am-mens-prayer-3-2/2029-04-06/
LOCATION:Dominion Worship Center\, 4450 Stine Rd.\, Bakersfield\, CA\, 93313\, United States
END:VEVENT
BEGIN:VEVENT
DTSTART;TZID=UTC:20290408T100000
DTEND;TZID=UTC:20290408T120000
DTSTAMP:20260422T023156
CREATED:20250425T015556Z
LAST-MODIFIED:20250425T015557Z
UID:10001911-1870336800-1870344000@www.dominionworshipcenter.org
SUMMARY:Worship Service
DESCRIPTION:
URL:https://www.dominionworshipcenter.org/event/worship-service-2-2/2029-04-08/
LOCATION:Dominion Worship Center\, 4450 Stine Rd.\, Bakersfield\, CA\, 93313\, United States
END:VEVENT
BEGIN:VEVENT
DTSTART;TZID=UTC:20290409T190000
DTEND;TZID=UTC:20290409T200000
DTSTAMP:20260422T023156
CREATED:20260218T172612Z
LAST-MODIFIED:20260218T172612Z
UID:10001642-1870455600-1870459200@www.dominionworshipcenter.org
SUMMARY:Monday Night Prayer
DESCRIPTION:
URL:https://www.dominionworshipcenter.org/event/monday-night-prayer-2-2-2/2029-04-09/
LOCATION:Dominion Worship Center\, 4450 Stine Rd.\, Bakersfield\, CA\, 93313\, United States
END:VEVENT
BEGIN:VEVENT
DTSTART;TZID=UTC:20290411T190000
DTEND;TZID=UTC:20290411T200000
DTSTAMP:20260422T023156
CREATED:20250216T153804Z
LAST-MODIFIED:20251203T214225Z
UID:10002438-1870628400-1870632000@www.dominionworshipcenter.org
SUMMARY:Wednesday Gathering
DESCRIPTION:
URL:https://www.dominionworshipcenter.org/event/wednesday-gathering/2029-04-11/
LOCATION:CA
END:VEVENT
BEGIN:VEVENT
DTSTART;TZID=UTC:20290413T060000
DTEND;TZID=UTC:20290413T070000
DTSTAMP:20260422T023156
CREATED:20250425T021024Z
LAST-MODIFIED:20250425T021025Z
UID:10002173-1870754400-1870758000@www.dominionworshipcenter.org
SUMMARY:Men's Prayer
DESCRIPTION:
URL:https://www.dominionworshipcenter.org/event/600-am-mens-prayer-3-2/2029-04-13/
LOCATION:Dominion Worship Center\, 4450 Stine Rd.\, Bakersfield\, CA\, 93313\, United States
END:VEVENT
BEGIN:VEVENT
DTSTART;TZID=UTC:20290415T100000
DTEND;TZID=UTC:20290415T120000
DTSTAMP:20260422T023156
CREATED:20250425T015556Z
LAST-MODIFIED:20250425T015557Z
UID:10001912-1870941600-1870948800@www.dominionworshipcenter.org
SUMMARY:Worship Service
DESCRIPTION:
URL:https://www.dominionworshipcenter.org/event/worship-service-2-2/2029-04-15/
LOCATION:Dominion Worship Center\, 4450 Stine Rd.\, Bakersfield\, CA\, 93313\, United States
END:VEVENT
BEGIN:VEVENT
DTSTART;TZID=UTC:20290416T190000
DTEND;TZID=UTC:20290416T200000
DTSTAMP:20260422T023156
CREATED:20260218T172612Z
LAST-MODIFIED:20260218T172612Z
UID:10001643-1871060400-1871064000@www.dominionworshipcenter.org
SUMMARY:Monday Night Prayer
DESCRIPTION:
URL:https://www.dominionworshipcenter.org/event/monday-night-prayer-2-2-2/2029-04-16/
LOCATION:Dominion Worship Center\, 4450 Stine Rd.\, Bakersfield\, CA\, 93313\, United States
END:VEVENT
BEGIN:VEVENT
DTSTART;TZID=UTC:20290418T190000
DTEND;TZID=UTC:20290418T200000
DTSTAMP:20260422T023156
CREATED:20250216T153804Z
LAST-MODIFIED:20251203T214225Z
UID:10002439-1871233200-1871236800@www.dominionworshipcenter.org
SUMMARY:Wednesday Gathering
DESCRIPTION:
URL:https://www.dominionworshipcenter.org/event/wednesday-gathering/2029-04-18/
LOCATION:CA
END:VEVENT
BEGIN:VEVENT
DTSTART;TZID=UTC:20290419T190000
DTEND;TZID=UTC:20290419T210000
DTSTAMP:20260422T023156
CREATED:20250513T213924Z
LAST-MODIFIED:20250513T213924Z
UID:10003089-1871319600-1871326800@www.dominionworshipcenter.org
SUMMARY:ENGAGE:  Young Adults Meeting
DESCRIPTION:
URL:https://www.dominionworshipcenter.org/event/engage-young-adults-meeting/2029-04-19/
LOCATION:CA
END:VEVENT
BEGIN:VEVENT
DTSTART;TZID=UTC:20290420T060000
DTEND;TZID=UTC:20290420T070000
DTSTAMP:20260422T023156
CREATED:20250425T021024Z
LAST-MODIFIED:20250425T021025Z
UID:10002174-1871359200-1871362800@www.dominionworshipcenter.org
SUMMARY:Men's Prayer
DESCRIPTION:
URL:https://www.dominionworshipcenter.org/event/600-am-mens-prayer-3-2/2029-04-20/
LOCATION:Dominion Worship Center\, 4450 Stine Rd.\, Bakersfield\, CA\, 93313\, United States
END:VEVENT
BEGIN:VEVENT
DTSTART;TZID=UTC:20290422T100000
DTEND;TZID=UTC:20290422T120000
DTSTAMP:20260422T023156
CREATED:20250425T015556Z
LAST-MODIFIED:20250425T015557Z
UID:10001913-1871546400-1871553600@www.dominionworshipcenter.org
SUMMARY:Worship Service
DESCRIPTION:
URL:https://www.dominionworshipcenter.org/event/worship-service-2-2/2029-04-22/
LOCATION:Dominion Worship Center\, 4450 Stine Rd.\, Bakersfield\, CA\, 93313\, United States
END:VEVENT
BEGIN:VEVENT
DTSTART;TZID=UTC:20290423T190000
DTEND;TZID=UTC:20290423T200000
DTSTAMP:20260422T023156
CREATED:20260218T172612Z
LAST-MODIFIED:20260218T172612Z
UID:10001644-1871665200-1871668800@www.dominionworshipcenter.org
SUMMARY:Monday Night Prayer
DESCRIPTION:
URL:https://www.dominionworshipcenter.org/event/monday-night-prayer-2-2-2/2029-04-23/
LOCATION:Dominion Worship Center\, 4450 Stine Rd.\, Bakersfield\, CA\, 93313\, United States
END:VEVENT
BEGIN:VEVENT
DTSTART;TZID=UTC:20290425T190000
DTEND;TZID=UTC:20290425T200000
DTSTAMP:20260422T023156
CREATED:20250216T153804Z
LAST-MODIFIED:20251203T214225Z
UID:10002440-1871838000-1871841600@www.dominionworshipcenter.org
SUMMARY:Wednesday Gathering
DESCRIPTION:
URL:https://www.dominionworshipcenter.org/event/wednesday-gathering/2029-04-25/
LOCATION:CA
END:VEVENT
BEGIN:VEVENT
DTSTART;TZID=UTC:20290427T060000
DTEND;TZID=UTC:20290427T070000
DTSTAMP:20260422T023156
CREATED:20250425T021024Z
LAST-MODIFIED:20250425T021025Z
UID:10002175-1871964000-1871967600@www.dominionworshipcenter.org
SUMMARY:Men's Prayer
DESCRIPTION:
URL:https://www.dominionworshipcenter.org/event/600-am-mens-prayer-3-2/2029-04-27/
LOCATION:Dominion Worship Center\, 4450 Stine Rd.\, Bakersfield\, CA\, 93313\, United States
END:VEVENT
BEGIN:VEVENT
DTSTART;TZID=UTC:20290429T100000
DTEND;TZID=UTC:20290429T120000
DTSTAMP:20260422T023156
CREATED:20250425T015556Z
LAST-MODIFIED:20250425T015557Z
UID:10001914-1872151200-1872158400@www.dominionworshipcenter.org
SUMMARY:Worship Service
DESCRIPTION:
URL:https://www.dominionworshipcenter.org/event/worship-service-2-2/2029-04-29/
LOCATION:Dominion Worship Center\, 4450 Stine Rd.\, Bakersfield\, CA\, 93313\, United States
END:VEVENT
BEGIN:VEVENT
DTSTART;TZID=UTC:20290430T190000
DTEND;TZID=UTC:20290430T200000
DTSTAMP:20260422T023156
CREATED:20260218T172612Z
LAST-MODIFIED:20260218T172612Z
UID:10001645-1872270000-1872273600@www.dominionworshipcenter.org
SUMMARY:Monday Night Prayer
DESCRIPTION:
URL:https://www.dominionworshipcenter.org/event/monday-night-prayer-2-2-2/2029-04-30/
LOCATION:Dominion Worship Center\, 4450 Stine Rd.\, Bakersfield\, CA\, 93313\, United States
END:VEVENT
END:VCALENDAR