BEGIN:VCALENDAR
VERSION:2.0
PRODID:-//Dominion Worship Center - ECPv6.15.20//NONSGML v1.0//EN
CALSCALE:GREGORIAN
METHOD:PUBLISH
X-ORIGINAL-URL:https://www.dominionworshipcenter.org
X-WR-CALDESC:Events for Dominion Worship Center
REFRESH-INTERVAL;VALUE=DURATION:PT1H
X-Robots-Tag:noindex
X-PUBLISHED-TTL:PT1H
BEGIN:VTIMEZONE
TZID:UTC
BEGIN:STANDARD
TZOFFSETFROM:+0000
TZOFFSETTO:+0000
TZNAME:UTC
DTSTART:20280101T000000
END:STANDARD
END:VTIMEZONE
BEGIN:VEVENT
DTSTART;TZID=UTC:20290528T190000
DTEND;TZID=UTC:20290528T200000
DTSTAMP:20260421T234309
CREATED:20260218T172612Z
LAST-MODIFIED:20260218T172612Z
UID:10001649-1874689200-1874692800@www.dominionworshipcenter.org
SUMMARY:Monday Night Prayer
DESCRIPTION:
URL:https://www.dominionworshipcenter.org/event/monday-night-prayer-2-2-2/2029-05-28/
LOCATION:Dominion Worship Center\, 4450 Stine Rd.\, Bakersfield\, CA\, 93313\, United States
END:VEVENT
BEGIN:VEVENT
DTSTART;TZID=UTC:20290530T190000
DTEND;TZID=UTC:20290530T200000
DTSTAMP:20260421T234309
CREATED:20250216T153804Z
LAST-MODIFIED:20251203T214225Z
UID:10002445-1874862000-1874865600@www.dominionworshipcenter.org
SUMMARY:Wednesday Gathering
DESCRIPTION:
URL:https://www.dominionworshipcenter.org/event/wednesday-gathering/2029-05-30/
LOCATION:CA
END:VEVENT
BEGIN:VEVENT
DTSTART;TZID=UTC:20290601T060000
DTEND;TZID=UTC:20290601T070000
DTSTAMP:20260421T234309
CREATED:20250425T021024Z
LAST-MODIFIED:20250425T021025Z
UID:10002180-1874988000-1874991600@www.dominionworshipcenter.org
SUMMARY:Men's Prayer
DESCRIPTION:
URL:https://www.dominionworshipcenter.org/event/600-am-mens-prayer-3-2/2029-06-01/
LOCATION:Dominion Worship Center\, 4450 Stine Rd.\, Bakersfield\, CA\, 93313\, United States
END:VEVENT
BEGIN:VEVENT
DTSTART;TZID=UTC:20290603T100000
DTEND;TZID=UTC:20290603T120000
DTSTAMP:20260421T234309
CREATED:20250425T015556Z
LAST-MODIFIED:20250425T015557Z
UID:10001919-1875175200-1875182400@www.dominionworshipcenter.org
SUMMARY:Worship Service
DESCRIPTION:
URL:https://www.dominionworshipcenter.org/event/worship-service-2-2/2029-06-03/
LOCATION:Dominion Worship Center\, 4450 Stine Rd.\, Bakersfield\, CA\, 93313\, United States
END:VEVENT
BEGIN:VEVENT
DTSTART;TZID=UTC:20290604T190000
DTEND;TZID=UTC:20290604T200000
DTSTAMP:20260421T234309
CREATED:20260218T172612Z
LAST-MODIFIED:20260218T172612Z
UID:10001650-1875294000-1875297600@www.dominionworshipcenter.org
SUMMARY:Monday Night Prayer
DESCRIPTION:
URL:https://www.dominionworshipcenter.org/event/monday-night-prayer-2-2-2/2029-06-04/
LOCATION:Dominion Worship Center\, 4450 Stine Rd.\, Bakersfield\, CA\, 93313\, United States
END:VEVENT
BEGIN:VEVENT
DTSTART;TZID=UTC:20290606T190000
DTEND;TZID=UTC:20290606T200000
DTSTAMP:20260421T234309
CREATED:20250216T153804Z
LAST-MODIFIED:20251203T214225Z
UID:10002446-1875466800-1875470400@www.dominionworshipcenter.org
SUMMARY:Wednesday Gathering
DESCRIPTION:
URL:https://www.dominionworshipcenter.org/event/wednesday-gathering/2029-06-06/
LOCATION:CA
END:VEVENT
BEGIN:VEVENT
DTSTART;TZID=UTC:20290607T190000
DTEND;TZID=UTC:20290607T210000
DTSTAMP:20260421T234309
CREATED:20250513T214135Z
LAST-MODIFIED:20250513T214636Z
UID:10003150-1875553200-1875560400@www.dominionworshipcenter.org
SUMMARY:ENGAGE:  Young Adults Meeting
DESCRIPTION:
URL:https://www.dominionworshipcenter.org/event/engage-young-adults-meeting-2/2029-06-07/
LOCATION:CA
END:VEVENT
BEGIN:VEVENT
DTSTART;TZID=UTC:20290608T060000
DTEND;TZID=UTC:20290608T070000
DTSTAMP:20260421T234309
CREATED:20250425T021024Z
LAST-MODIFIED:20250425T021025Z
UID:10002181-1875592800-1875596400@www.dominionworshipcenter.org
SUMMARY:Men's Prayer
DESCRIPTION:
URL:https://www.dominionworshipcenter.org/event/600-am-mens-prayer-3-2/2029-06-08/
LOCATION:Dominion Worship Center\, 4450 Stine Rd.\, Bakersfield\, CA\, 93313\, United States
END:VEVENT
BEGIN:VEVENT
DTSTART;TZID=UTC:20290610T100000
DTEND;TZID=UTC:20290610T120000
DTSTAMP:20260421T234309
CREATED:20250425T015556Z
LAST-MODIFIED:20250425T015557Z
UID:10001920-1875780000-1875787200@www.dominionworshipcenter.org
SUMMARY:Worship Service
DESCRIPTION:
URL:https://www.dominionworshipcenter.org/event/worship-service-2-2/2029-06-10/
LOCATION:Dominion Worship Center\, 4450 Stine Rd.\, Bakersfield\, CA\, 93313\, United States
END:VEVENT
BEGIN:VEVENT
DTSTART;TZID=UTC:20290611T190000
DTEND;TZID=UTC:20290611T200000
DTSTAMP:20260421T234309
CREATED:20260218T172612Z
LAST-MODIFIED:20260218T172612Z
UID:10001651-1875898800-1875902400@www.dominionworshipcenter.org
SUMMARY:Monday Night Prayer
DESCRIPTION:
URL:https://www.dominionworshipcenter.org/event/monday-night-prayer-2-2-2/2029-06-11/
LOCATION:Dominion Worship Center\, 4450 Stine Rd.\, Bakersfield\, CA\, 93313\, United States
END:VEVENT
BEGIN:VEVENT
DTSTART;TZID=UTC:20290613T190000
DTEND;TZID=UTC:20290613T200000
DTSTAMP:20260421T234309
CREATED:20250216T153804Z
LAST-MODIFIED:20251203T214225Z
UID:10002447-1876071600-1876075200@www.dominionworshipcenter.org
SUMMARY:Wednesday Gathering
DESCRIPTION:
URL:https://www.dominionworshipcenter.org/event/wednesday-gathering/2029-06-13/
LOCATION:CA
END:VEVENT
BEGIN:VEVENT
DTSTART;TZID=UTC:20290615T060000
DTEND;TZID=UTC:20290615T070000
DTSTAMP:20260421T234309
CREATED:20250425T021024Z
LAST-MODIFIED:20250425T021025Z
UID:10002182-1876197600-1876201200@www.dominionworshipcenter.org
SUMMARY:Men's Prayer
DESCRIPTION:
URL:https://www.dominionworshipcenter.org/event/600-am-mens-prayer-3-2/2029-06-15/
LOCATION:Dominion Worship Center\, 4450 Stine Rd.\, Bakersfield\, CA\, 93313\, United States
END:VEVENT
BEGIN:VEVENT
DTSTART;TZID=UTC:20290617T100000
DTEND;TZID=UTC:20290617T120000
DTSTAMP:20260421T234309
CREATED:20250425T015556Z
LAST-MODIFIED:20250425T015557Z
UID:10001921-1876384800-1876392000@www.dominionworshipcenter.org
SUMMARY:Worship Service
DESCRIPTION:
URL:https://www.dominionworshipcenter.org/event/worship-service-2-2/2029-06-17/
LOCATION:Dominion Worship Center\, 4450 Stine Rd.\, Bakersfield\, CA\, 93313\, United States
END:VEVENT
BEGIN:VEVENT
DTSTART;TZID=UTC:20290618T190000
DTEND;TZID=UTC:20290618T200000
DTSTAMP:20260421T234309
CREATED:20260218T172612Z
LAST-MODIFIED:20260218T172612Z
UID:10001652-1876503600-1876507200@www.dominionworshipcenter.org
SUMMARY:Monday Night Prayer
DESCRIPTION:
URL:https://www.dominionworshipcenter.org/event/monday-night-prayer-2-2-2/2029-06-18/
LOCATION:Dominion Worship Center\, 4450 Stine Rd.\, Bakersfield\, CA\, 93313\, United States
END:VEVENT
BEGIN:VEVENT
DTSTART;TZID=UTC:20290620T190000
DTEND;TZID=UTC:20290620T200000
DTSTAMP:20260421T234309
CREATED:20250216T153804Z
LAST-MODIFIED:20251203T214225Z
UID:10002448-1876676400-1876680000@www.dominionworshipcenter.org
SUMMARY:Wednesday Gathering
DESCRIPTION:
URL:https://www.dominionworshipcenter.org/event/wednesday-gathering/2029-06-20/
LOCATION:CA
END:VEVENT
BEGIN:VEVENT
DTSTART;TZID=UTC:20290621T190000
DTEND;TZID=UTC:20290621T210000
DTSTAMP:20260421T234309
CREATED:20250513T213924Z
LAST-MODIFIED:20250513T213924Z
UID:10003091-1876762800-1876770000@www.dominionworshipcenter.org
SUMMARY:ENGAGE:  Young Adults Meeting
DESCRIPTION:
URL:https://www.dominionworshipcenter.org/event/engage-young-adults-meeting/2029-06-21/
LOCATION:CA
END:VEVENT
BEGIN:VEVENT
DTSTART;TZID=UTC:20290622T060000
DTEND;TZID=UTC:20290622T070000
DTSTAMP:20260421T234309
CREATED:20250425T021024Z
LAST-MODIFIED:20250425T021025Z
UID:10002183-1876802400-1876806000@www.dominionworshipcenter.org
SUMMARY:Men's Prayer
DESCRIPTION:
URL:https://www.dominionworshipcenter.org/event/600-am-mens-prayer-3-2/2029-06-22/
LOCATION:Dominion Worship Center\, 4450 Stine Rd.\, Bakersfield\, CA\, 93313\, United States
END:VEVENT
BEGIN:VEVENT
DTSTART;TZID=UTC:20290624T100000
DTEND;TZID=UTC:20290624T120000
DTSTAMP:20260421T234309
CREATED:20250425T015556Z
LAST-MODIFIED:20250425T015557Z
UID:10001922-1876989600-1876996800@www.dominionworshipcenter.org
SUMMARY:Worship Service
DESCRIPTION:
URL:https://www.dominionworshipcenter.org/event/worship-service-2-2/2029-06-24/
LOCATION:Dominion Worship Center\, 4450 Stine Rd.\, Bakersfield\, CA\, 93313\, United States
END:VEVENT
BEGIN:VEVENT
DTSTART;TZID=UTC:20290625T190000
DTEND;TZID=UTC:20290625T200000
DTSTAMP:20260421T234309
CREATED:20260218T172612Z
LAST-MODIFIED:20260218T172612Z
UID:10001653-1877108400-1877112000@www.dominionworshipcenter.org
SUMMARY:Monday Night Prayer
DESCRIPTION:
URL:https://www.dominionworshipcenter.org/event/monday-night-prayer-2-2-2/2029-06-25/
LOCATION:Dominion Worship Center\, 4450 Stine Rd.\, Bakersfield\, CA\, 93313\, United States
END:VEVENT
BEGIN:VEVENT
DTSTART;TZID=UTC:20290627T190000
DTEND;TZID=UTC:20290627T200000
DTSTAMP:20260421T234309
CREATED:20250216T153804Z
LAST-MODIFIED:20251203T214225Z
UID:10002449-1877281200-1877284800@www.dominionworshipcenter.org
SUMMARY:Wednesday Gathering
DESCRIPTION:
URL:https://www.dominionworshipcenter.org/event/wednesday-gathering/2029-06-27/
LOCATION:CA
END:VEVENT
BEGIN:VEVENT
DTSTART;TZID=UTC:20290629T060000
DTEND;TZID=UTC:20290629T070000
DTSTAMP:20260421T234309
CREATED:20250425T021024Z
LAST-MODIFIED:20250425T021025Z
UID:10002184-1877407200-1877410800@www.dominionworshipcenter.org
SUMMARY:Men's Prayer
DESCRIPTION:
URL:https://www.dominionworshipcenter.org/event/600-am-mens-prayer-3-2/2029-06-29/
LOCATION:Dominion Worship Center\, 4450 Stine Rd.\, Bakersfield\, CA\, 93313\, United States
END:VEVENT
BEGIN:VEVENT
DTSTART;TZID=UTC:20290701T100000
DTEND;TZID=UTC:20290701T120000
DTSTAMP:20260421T234309
CREATED:20250425T015556Z
LAST-MODIFIED:20250425T015557Z
UID:10001923-1877594400-1877601600@www.dominionworshipcenter.org
SUMMARY:Worship Service
DESCRIPTION:
URL:https://www.dominionworshipcenter.org/event/worship-service-2-2/2029-07-01/
LOCATION:Dominion Worship Center\, 4450 Stine Rd.\, Bakersfield\, CA\, 93313\, United States
END:VEVENT
BEGIN:VEVENT
DTSTART;TZID=UTC:20290702T190000
DTEND;TZID=UTC:20290702T200000
DTSTAMP:20260421T234309
CREATED:20260218T172612Z
LAST-MODIFIED:20260218T172612Z
UID:10001654-1877713200-1877716800@www.dominionworshipcenter.org
SUMMARY:Monday Night Prayer
DESCRIPTION:
URL:https://www.dominionworshipcenter.org/event/monday-night-prayer-2-2-2/2029-07-02/
LOCATION:Dominion Worship Center\, 4450 Stine Rd.\, Bakersfield\, CA\, 93313\, United States
END:VEVENT
BEGIN:VEVENT
DTSTART;TZID=UTC:20290704T190000
DTEND;TZID=UTC:20290704T200000
DTSTAMP:20260421T234309
CREATED:20250216T153804Z
LAST-MODIFIED:20251203T214225Z
UID:10002450-1877886000-1877889600@www.dominionworshipcenter.org
SUMMARY:Wednesday Gathering
DESCRIPTION:
URL:https://www.dominionworshipcenter.org/event/wednesday-gathering/2029-07-04/
LOCATION:CA
END:VEVENT
BEGIN:VEVENT
DTSTART;TZID=UTC:20290705T190000
DTEND;TZID=UTC:20290705T210000
DTSTAMP:20260421T234309
CREATED:20250513T214135Z
LAST-MODIFIED:20250513T214636Z
UID:10003151-1877972400-1877979600@www.dominionworshipcenter.org
SUMMARY:ENGAGE:  Young Adults Meeting
DESCRIPTION:
URL:https://www.dominionworshipcenter.org/event/engage-young-adults-meeting-2/2029-07-05/
LOCATION:CA
END:VEVENT
BEGIN:VEVENT
DTSTART;TZID=UTC:20290706T060000
DTEND;TZID=UTC:20290706T070000
DTSTAMP:20260421T234309
CREATED:20250425T021024Z
LAST-MODIFIED:20250425T021025Z
UID:10002185-1878012000-1878015600@www.dominionworshipcenter.org
SUMMARY:Men's Prayer
DESCRIPTION:
URL:https://www.dominionworshipcenter.org/event/600-am-mens-prayer-3-2/2029-07-06/
LOCATION:Dominion Worship Center\, 4450 Stine Rd.\, Bakersfield\, CA\, 93313\, United States
END:VEVENT
BEGIN:VEVENT
DTSTART;TZID=UTC:20290708T100000
DTEND;TZID=UTC:20290708T120000
DTSTAMP:20260421T234309
CREATED:20250425T015556Z
LAST-MODIFIED:20250425T015557Z
UID:10001924-1878199200-1878206400@www.dominionworshipcenter.org
SUMMARY:Worship Service
DESCRIPTION:
URL:https://www.dominionworshipcenter.org/event/worship-service-2-2/2029-07-08/
LOCATION:Dominion Worship Center\, 4450 Stine Rd.\, Bakersfield\, CA\, 93313\, United States
END:VEVENT
BEGIN:VEVENT
DTSTART;TZID=UTC:20290709T190000
DTEND;TZID=UTC:20290709T200000
DTSTAMP:20260421T234309
CREATED:20260218T172612Z
LAST-MODIFIED:20260218T172612Z
UID:10001655-1878318000-1878321600@www.dominionworshipcenter.org
SUMMARY:Monday Night Prayer
DESCRIPTION:
URL:https://www.dominionworshipcenter.org/event/monday-night-prayer-2-2-2/2029-07-09/
LOCATION:Dominion Worship Center\, 4450 Stine Rd.\, Bakersfield\, CA\, 93313\, United States
END:VEVENT
BEGIN:VEVENT
DTSTART;TZID=UTC:20290711T190000
DTEND;TZID=UTC:20290711T200000
DTSTAMP:20260421T234309
CREATED:20250216T153804Z
LAST-MODIFIED:20251203T214225Z
UID:10002451-1878490800-1878494400@www.dominionworshipcenter.org
SUMMARY:Wednesday Gathering
DESCRIPTION:
URL:https://www.dominionworshipcenter.org/event/wednesday-gathering/2029-07-11/
LOCATION:CA
END:VEVENT
BEGIN:VEVENT
DTSTART;TZID=UTC:20290713T060000
DTEND;TZID=UTC:20290713T070000
DTSTAMP:20260421T234309
CREATED:20250425T021024Z
LAST-MODIFIED:20250425T021025Z
UID:10002186-1878616800-1878620400@www.dominionworshipcenter.org
SUMMARY:Men's Prayer
DESCRIPTION:
URL:https://www.dominionworshipcenter.org/event/600-am-mens-prayer-3-2/2029-07-13/
LOCATION:Dominion Worship Center\, 4450 Stine Rd.\, Bakersfield\, CA\, 93313\, United States
END:VEVENT
END:VCALENDAR