BEGIN:VCALENDAR
VERSION:2.0
PRODID:-//Dominion Worship Center - ECPv6.15.20//NONSGML v1.0//EN
CALSCALE:GREGORIAN
METHOD:PUBLISH
X-WR-CALNAME:Dominion Worship Center
X-ORIGINAL-URL:https://www.dominionworshipcenter.org
X-WR-CALDESC:Events for Dominion Worship Center
REFRESH-INTERVAL;VALUE=DURATION:PT1H
X-Robots-Tag:noindex
X-PUBLISHED-TTL:PT1H
BEGIN:VTIMEZONE
TZID:UTC
BEGIN:STANDARD
TZOFFSETFROM:+0000
TZOFFSETTO:+0000
TZNAME:UTC
DTSTART:20270101T000000
END:STANDARD
END:VTIMEZONE
BEGIN:VEVENT
DTSTART;TZID=UTC:20280412T190000
DTEND;TZID=UTC:20280412T200000
DTSTAMP:20260420T052715
CREATED:20250216T153804Z
LAST-MODIFIED:20251203T214225Z
UID:10002386-1839178800-1839182400@www.dominionworshipcenter.org
SUMMARY:Wednesday Gathering
DESCRIPTION:
URL:https://www.dominionworshipcenter.org/event/wednesday-gathering/2028-04-12/
LOCATION:CA
END:VEVENT
BEGIN:VEVENT
DTSTART;TZID=UTC:20280414T060000
DTEND;TZID=UTC:20280414T070000
DTSTAMP:20260420T052715
CREATED:20250425T021024Z
LAST-MODIFIED:20250425T021025Z
UID:10002121-1839304800-1839308400@www.dominionworshipcenter.org
SUMMARY:Men's Prayer
DESCRIPTION:
URL:https://www.dominionworshipcenter.org/event/600-am-mens-prayer-3-2/2028-04-14/
LOCATION:Dominion Worship Center\, 4450 Stine Rd.\, Bakersfield\, CA\, 93313\, United States
END:VEVENT
BEGIN:VEVENT
DTSTART;TZID=UTC:20280416T100000
DTEND;TZID=UTC:20280416T120000
DTSTAMP:20260420T052715
CREATED:20250425T015556Z
LAST-MODIFIED:20250425T015557Z
UID:10001860-1839492000-1839499200@www.dominionworshipcenter.org
SUMMARY:Worship Service
DESCRIPTION:
URL:https://www.dominionworshipcenter.org/event/worship-service-2-2/2028-04-16/
LOCATION:Dominion Worship Center\, 4450 Stine Rd.\, Bakersfield\, CA\, 93313\, United States
END:VEVENT
BEGIN:VEVENT
DTSTART;TZID=UTC:20280417T190000
DTEND;TZID=UTC:20280417T200000
DTSTAMP:20260420T052715
CREATED:20260218T172612Z
LAST-MODIFIED:20260218T172612Z
UID:10001591-1839610800-1839614400@www.dominionworshipcenter.org
SUMMARY:Monday Night Prayer
DESCRIPTION:
URL:https://www.dominionworshipcenter.org/event/monday-night-prayer-2-2-2/2028-04-17/
LOCATION:Dominion Worship Center\, 4450 Stine Rd.\, Bakersfield\, CA\, 93313\, United States
END:VEVENT
BEGIN:VEVENT
DTSTART;TZID=UTC:20280419T190000
DTEND;TZID=UTC:20280419T200000
DTSTAMP:20260420T052715
CREATED:20250216T153804Z
LAST-MODIFIED:20251203T214225Z
UID:10002387-1839783600-1839787200@www.dominionworshipcenter.org
SUMMARY:Wednesday Gathering
DESCRIPTION:
URL:https://www.dominionworshipcenter.org/event/wednesday-gathering/2028-04-19/
LOCATION:CA
END:VEVENT
BEGIN:VEVENT
DTSTART;TZID=UTC:20280420T190000
DTEND;TZID=UTC:20280420T210000
DTSTAMP:20260420T052715
CREATED:20250513T213924Z
LAST-MODIFIED:20250513T213924Z
UID:10003077-1839870000-1839877200@www.dominionworshipcenter.org
SUMMARY:ENGAGE:  Young Adults Meeting
DESCRIPTION:
URL:https://www.dominionworshipcenter.org/event/engage-young-adults-meeting/2028-04-20/
LOCATION:CA
END:VEVENT
BEGIN:VEVENT
DTSTART;TZID=UTC:20280421T060000
DTEND;TZID=UTC:20280421T070000
DTSTAMP:20260420T052715
CREATED:20250425T021024Z
LAST-MODIFIED:20250425T021025Z
UID:10002122-1839909600-1839913200@www.dominionworshipcenter.org
SUMMARY:Men's Prayer
DESCRIPTION:
URL:https://www.dominionworshipcenter.org/event/600-am-mens-prayer-3-2/2028-04-21/
LOCATION:Dominion Worship Center\, 4450 Stine Rd.\, Bakersfield\, CA\, 93313\, United States
END:VEVENT
BEGIN:VEVENT
DTSTART;TZID=UTC:20280423T100000
DTEND;TZID=UTC:20280423T120000
DTSTAMP:20260420T052715
CREATED:20250425T015556Z
LAST-MODIFIED:20250425T015557Z
UID:10001861-1840096800-1840104000@www.dominionworshipcenter.org
SUMMARY:Worship Service
DESCRIPTION:
URL:https://www.dominionworshipcenter.org/event/worship-service-2-2/2028-04-23/
LOCATION:Dominion Worship Center\, 4450 Stine Rd.\, Bakersfield\, CA\, 93313\, United States
END:VEVENT
BEGIN:VEVENT
DTSTART;TZID=UTC:20280424T190000
DTEND;TZID=UTC:20280424T200000
DTSTAMP:20260420T052715
CREATED:20260218T172612Z
LAST-MODIFIED:20260218T172612Z
UID:10001592-1840215600-1840219200@www.dominionworshipcenter.org
SUMMARY:Monday Night Prayer
DESCRIPTION:
URL:https://www.dominionworshipcenter.org/event/monday-night-prayer-2-2-2/2028-04-24/
LOCATION:Dominion Worship Center\, 4450 Stine Rd.\, Bakersfield\, CA\, 93313\, United States
END:VEVENT
BEGIN:VEVENT
DTSTART;TZID=UTC:20280426T190000
DTEND;TZID=UTC:20280426T200000
DTSTAMP:20260420T052715
CREATED:20250216T153804Z
LAST-MODIFIED:20251203T214225Z
UID:10002388-1840388400-1840392000@www.dominionworshipcenter.org
SUMMARY:Wednesday Gathering
DESCRIPTION:
URL:https://www.dominionworshipcenter.org/event/wednesday-gathering/2028-04-26/
LOCATION:CA
END:VEVENT
BEGIN:VEVENT
DTSTART;TZID=UTC:20280428T060000
DTEND;TZID=UTC:20280428T070000
DTSTAMP:20260420T052715
CREATED:20250425T021024Z
LAST-MODIFIED:20250425T021025Z
UID:10002123-1840514400-1840518000@www.dominionworshipcenter.org
SUMMARY:Men's Prayer
DESCRIPTION:
URL:https://www.dominionworshipcenter.org/event/600-am-mens-prayer-3-2/2028-04-28/
LOCATION:Dominion Worship Center\, 4450 Stine Rd.\, Bakersfield\, CA\, 93313\, United States
END:VEVENT
BEGIN:VEVENT
DTSTART;TZID=UTC:20280430T100000
DTEND;TZID=UTC:20280430T120000
DTSTAMP:20260420T052715
CREATED:20250425T015556Z
LAST-MODIFIED:20250425T015557Z
UID:10001862-1840701600-1840708800@www.dominionworshipcenter.org
SUMMARY:Worship Service
DESCRIPTION:
URL:https://www.dominionworshipcenter.org/event/worship-service-2-2/2028-04-30/
LOCATION:Dominion Worship Center\, 4450 Stine Rd.\, Bakersfield\, CA\, 93313\, United States
END:VEVENT
BEGIN:VEVENT
DTSTART;TZID=UTC:20280501T190000
DTEND;TZID=UTC:20280501T200000
DTSTAMP:20260420T052715
CREATED:20260218T172612Z
LAST-MODIFIED:20260218T172612Z
UID:10001593-1840820400-1840824000@www.dominionworshipcenter.org
SUMMARY:Monday Night Prayer
DESCRIPTION:
URL:https://www.dominionworshipcenter.org/event/monday-night-prayer-2-2-2/2028-05-01/
LOCATION:Dominion Worship Center\, 4450 Stine Rd.\, Bakersfield\, CA\, 93313\, United States
END:VEVENT
BEGIN:VEVENT
DTSTART;TZID=UTC:20280503T190000
DTEND;TZID=UTC:20280503T200000
DTSTAMP:20260420T052715
CREATED:20250216T153804Z
LAST-MODIFIED:20251203T214225Z
UID:10002389-1840993200-1840996800@www.dominionworshipcenter.org
SUMMARY:Wednesday Gathering
DESCRIPTION:
URL:https://www.dominionworshipcenter.org/event/wednesday-gathering/2028-05-03/
LOCATION:CA
END:VEVENT
BEGIN:VEVENT
DTSTART;TZID=UTC:20280504T190000
DTEND;TZID=UTC:20280504T210000
DTSTAMP:20260420T052715
CREATED:20250513T214135Z
LAST-MODIFIED:20250513T214636Z
UID:10003137-1841079600-1841086800@www.dominionworshipcenter.org
SUMMARY:ENGAGE:  Young Adults Meeting
DESCRIPTION:
URL:https://www.dominionworshipcenter.org/event/engage-young-adults-meeting-2/2028-05-04/
LOCATION:CA
END:VEVENT
BEGIN:VEVENT
DTSTART;TZID=UTC:20280505T060000
DTEND;TZID=UTC:20280505T070000
DTSTAMP:20260420T052715
CREATED:20250425T021024Z
LAST-MODIFIED:20250425T021025Z
UID:10002124-1841119200-1841122800@www.dominionworshipcenter.org
SUMMARY:Men's Prayer
DESCRIPTION:
URL:https://www.dominionworshipcenter.org/event/600-am-mens-prayer-3-2/2028-05-05/
LOCATION:Dominion Worship Center\, 4450 Stine Rd.\, Bakersfield\, CA\, 93313\, United States
END:VEVENT
BEGIN:VEVENT
DTSTART;TZID=UTC:20280507T100000
DTEND;TZID=UTC:20280507T120000
DTSTAMP:20260420T052715
CREATED:20250425T015556Z
LAST-MODIFIED:20250425T015557Z
UID:10001863-1841306400-1841313600@www.dominionworshipcenter.org
SUMMARY:Worship Service
DESCRIPTION:
URL:https://www.dominionworshipcenter.org/event/worship-service-2-2/2028-05-07/
LOCATION:Dominion Worship Center\, 4450 Stine Rd.\, Bakersfield\, CA\, 93313\, United States
END:VEVENT
BEGIN:VEVENT
DTSTART;TZID=UTC:20280508T190000
DTEND;TZID=UTC:20280508T200000
DTSTAMP:20260420T052715
CREATED:20260218T172612Z
LAST-MODIFIED:20260218T172612Z
UID:10001594-1841425200-1841428800@www.dominionworshipcenter.org
SUMMARY:Monday Night Prayer
DESCRIPTION:
URL:https://www.dominionworshipcenter.org/event/monday-night-prayer-2-2-2/2028-05-08/
LOCATION:Dominion Worship Center\, 4450 Stine Rd.\, Bakersfield\, CA\, 93313\, United States
END:VEVENT
BEGIN:VEVENT
DTSTART;TZID=UTC:20280510T190000
DTEND;TZID=UTC:20280510T200000
DTSTAMP:20260420T052715
CREATED:20250216T153804Z
LAST-MODIFIED:20251203T214225Z
UID:10002390-1841598000-1841601600@www.dominionworshipcenter.org
SUMMARY:Wednesday Gathering
DESCRIPTION:
URL:https://www.dominionworshipcenter.org/event/wednesday-gathering/2028-05-10/
LOCATION:CA
END:VEVENT
BEGIN:VEVENT
DTSTART;TZID=UTC:20280512T060000
DTEND;TZID=UTC:20280512T070000
DTSTAMP:20260420T052715
CREATED:20250425T021024Z
LAST-MODIFIED:20250425T021025Z
UID:10002125-1841724000-1841727600@www.dominionworshipcenter.org
SUMMARY:Men's Prayer
DESCRIPTION:
URL:https://www.dominionworshipcenter.org/event/600-am-mens-prayer-3-2/2028-05-12/
LOCATION:Dominion Worship Center\, 4450 Stine Rd.\, Bakersfield\, CA\, 93313\, United States
END:VEVENT
BEGIN:VEVENT
DTSTART;TZID=UTC:20280514T100000
DTEND;TZID=UTC:20280514T120000
DTSTAMP:20260420T052715
CREATED:20250425T015556Z
LAST-MODIFIED:20250425T015557Z
UID:10001864-1841911200-1841918400@www.dominionworshipcenter.org
SUMMARY:Worship Service
DESCRIPTION:
URL:https://www.dominionworshipcenter.org/event/worship-service-2-2/2028-05-14/
LOCATION:Dominion Worship Center\, 4450 Stine Rd.\, Bakersfield\, CA\, 93313\, United States
END:VEVENT
BEGIN:VEVENT
DTSTART;TZID=UTC:20280515T190000
DTEND;TZID=UTC:20280515T200000
DTSTAMP:20260420T052715
CREATED:20260218T172612Z
LAST-MODIFIED:20260218T172612Z
UID:10001595-1842030000-1842033600@www.dominionworshipcenter.org
SUMMARY:Monday Night Prayer
DESCRIPTION:
URL:https://www.dominionworshipcenter.org/event/monday-night-prayer-2-2-2/2028-05-15/
LOCATION:Dominion Worship Center\, 4450 Stine Rd.\, Bakersfield\, CA\, 93313\, United States
END:VEVENT
BEGIN:VEVENT
DTSTART;TZID=UTC:20280517T190000
DTEND;TZID=UTC:20280517T200000
DTSTAMP:20260420T052715
CREATED:20250216T153804Z
LAST-MODIFIED:20251203T214225Z
UID:10002391-1842202800-1842206400@www.dominionworshipcenter.org
SUMMARY:Wednesday Gathering
DESCRIPTION:
URL:https://www.dominionworshipcenter.org/event/wednesday-gathering/2028-05-17/
LOCATION:CA
END:VEVENT
BEGIN:VEVENT
DTSTART;TZID=UTC:20280518T190000
DTEND;TZID=UTC:20280518T210000
DTSTAMP:20260420T052715
CREATED:20250513T213924Z
LAST-MODIFIED:20250513T213924Z
UID:10003078-1842289200-1842296400@www.dominionworshipcenter.org
SUMMARY:ENGAGE:  Young Adults Meeting
DESCRIPTION:
URL:https://www.dominionworshipcenter.org/event/engage-young-adults-meeting/2028-05-18/
LOCATION:CA
END:VEVENT
BEGIN:VEVENT
DTSTART;TZID=UTC:20280519T060000
DTEND;TZID=UTC:20280519T070000
DTSTAMP:20260420T052715
CREATED:20250425T021024Z
LAST-MODIFIED:20250425T021025Z
UID:10002126-1842328800-1842332400@www.dominionworshipcenter.org
SUMMARY:Men's Prayer
DESCRIPTION:
URL:https://www.dominionworshipcenter.org/event/600-am-mens-prayer-3-2/2028-05-19/
LOCATION:Dominion Worship Center\, 4450 Stine Rd.\, Bakersfield\, CA\, 93313\, United States
END:VEVENT
BEGIN:VEVENT
DTSTART;TZID=UTC:20280521T100000
DTEND;TZID=UTC:20280521T120000
DTSTAMP:20260420T052715
CREATED:20250425T015556Z
LAST-MODIFIED:20250425T015557Z
UID:10001865-1842516000-1842523200@www.dominionworshipcenter.org
SUMMARY:Worship Service
DESCRIPTION:
URL:https://www.dominionworshipcenter.org/event/worship-service-2-2/2028-05-21/
LOCATION:Dominion Worship Center\, 4450 Stine Rd.\, Bakersfield\, CA\, 93313\, United States
END:VEVENT
BEGIN:VEVENT
DTSTART;TZID=UTC:20280522T190000
DTEND;TZID=UTC:20280522T200000
DTSTAMP:20260420T052715
CREATED:20260218T172612Z
LAST-MODIFIED:20260218T172612Z
UID:10001596-1842634800-1842638400@www.dominionworshipcenter.org
SUMMARY:Monday Night Prayer
DESCRIPTION:
URL:https://www.dominionworshipcenter.org/event/monday-night-prayer-2-2-2/2028-05-22/
LOCATION:Dominion Worship Center\, 4450 Stine Rd.\, Bakersfield\, CA\, 93313\, United States
END:VEVENT
BEGIN:VEVENT
DTSTART;TZID=UTC:20280524T190000
DTEND;TZID=UTC:20280524T200000
DTSTAMP:20260420T052715
CREATED:20250216T153804Z
LAST-MODIFIED:20251203T214225Z
UID:10002392-1842807600-1842811200@www.dominionworshipcenter.org
SUMMARY:Wednesday Gathering
DESCRIPTION:
URL:https://www.dominionworshipcenter.org/event/wednesday-gathering/2028-05-24/
LOCATION:CA
END:VEVENT
BEGIN:VEVENT
DTSTART;TZID=UTC:20280526T060000
DTEND;TZID=UTC:20280526T070000
DTSTAMP:20260420T052715
CREATED:20250425T021024Z
LAST-MODIFIED:20250425T021025Z
UID:10002127-1842933600-1842937200@www.dominionworshipcenter.org
SUMMARY:Men's Prayer
DESCRIPTION:
URL:https://www.dominionworshipcenter.org/event/600-am-mens-prayer-3-2/2028-05-26/
LOCATION:Dominion Worship Center\, 4450 Stine Rd.\, Bakersfield\, CA\, 93313\, United States
END:VEVENT
BEGIN:VEVENT
DTSTART;TZID=UTC:20280528T100000
DTEND;TZID=UTC:20280528T120000
DTSTAMP:20260420T052715
CREATED:20250425T015556Z
LAST-MODIFIED:20250425T015557Z
UID:10001866-1843120800-1843128000@www.dominionworshipcenter.org
SUMMARY:Worship Service
DESCRIPTION:
URL:https://www.dominionworshipcenter.org/event/worship-service-2-2/2028-05-28/
LOCATION:Dominion Worship Center\, 4450 Stine Rd.\, Bakersfield\, CA\, 93313\, United States
END:VEVENT
END:VCALENDAR