BEGIN:VCALENDAR
VERSION:2.0
PRODID:-//Dominion Worship Center - ECPv6.15.20//NONSGML v1.0//EN
CALSCALE:GREGORIAN
METHOD:PUBLISH
X-WR-CALNAME:Dominion Worship Center
X-ORIGINAL-URL:https://www.dominionworshipcenter.org
X-WR-CALDESC:Events for Dominion Worship Center
REFRESH-INTERVAL;VALUE=DURATION:PT1H
X-Robots-Tag:noindex
X-PUBLISHED-TTL:PT1H
BEGIN:VTIMEZONE
TZID:UTC
BEGIN:STANDARD
TZOFFSETFROM:+0000
TZOFFSETTO:+0000
TZNAME:UTC
DTSTART:20270101T000000
END:STANDARD
END:VTIMEZONE
BEGIN:VEVENT
DTSTART;TZID=UTC:20281102T190000
DTEND;TZID=UTC:20281102T210000
DTSTAMP:20260421T034221
CREATED:20250513T214135Z
LAST-MODIFIED:20250513T214636Z
UID:10003143-1856804400-1856811600@www.dominionworshipcenter.org
SUMMARY:ENGAGE:  Young Adults Meeting
DESCRIPTION:
URL:https://www.dominionworshipcenter.org/event/engage-young-adults-meeting-2/2028-11-02/
LOCATION:CA
END:VEVENT
BEGIN:VEVENT
DTSTART;TZID=UTC:20281103T060000
DTEND;TZID=UTC:20281103T070000
DTSTAMP:20260421T034221
CREATED:20250425T021024Z
LAST-MODIFIED:20250425T021025Z
UID:10002150-1856844000-1856847600@www.dominionworshipcenter.org
SUMMARY:Men's Prayer
DESCRIPTION:
URL:https://www.dominionworshipcenter.org/event/600-am-mens-prayer-3-2/2028-11-03/
LOCATION:Dominion Worship Center\, 4450 Stine Rd.\, Bakersfield\, CA\, 93313\, United States
END:VEVENT
BEGIN:VEVENT
DTSTART;TZID=UTC:20281105T100000
DTEND;TZID=UTC:20281105T120000
DTSTAMP:20260421T034221
CREATED:20250425T015556Z
LAST-MODIFIED:20250425T015557Z
UID:10001889-1857031200-1857038400@www.dominionworshipcenter.org
SUMMARY:Worship Service
DESCRIPTION:
URL:https://www.dominionworshipcenter.org/event/worship-service-2-2/2028-11-05/
LOCATION:Dominion Worship Center\, 4450 Stine Rd.\, Bakersfield\, CA\, 93313\, United States
END:VEVENT
BEGIN:VEVENT
DTSTART;TZID=UTC:20281106T190000
DTEND;TZID=UTC:20281106T200000
DTSTAMP:20260421T034221
CREATED:20260218T172612Z
LAST-MODIFIED:20260218T172612Z
UID:10001620-1857150000-1857153600@www.dominionworshipcenter.org
SUMMARY:Monday Night Prayer
DESCRIPTION:
URL:https://www.dominionworshipcenter.org/event/monday-night-prayer-2-2-2/2028-11-06/
LOCATION:Dominion Worship Center\, 4450 Stine Rd.\, Bakersfield\, CA\, 93313\, United States
END:VEVENT
BEGIN:VEVENT
DTSTART;TZID=UTC:20281108T190000
DTEND;TZID=UTC:20281108T200000
DTSTAMP:20260421T034221
CREATED:20250216T153804Z
LAST-MODIFIED:20251203T214225Z
UID:10002416-1857322800-1857326400@www.dominionworshipcenter.org
SUMMARY:Wednesday Gathering
DESCRIPTION:
URL:https://www.dominionworshipcenter.org/event/wednesday-gathering/2028-11-08/
LOCATION:CA
END:VEVENT
BEGIN:VEVENT
DTSTART;TZID=UTC:20281110T060000
DTEND;TZID=UTC:20281110T070000
DTSTAMP:20260421T034221
CREATED:20250425T021024Z
LAST-MODIFIED:20250425T021025Z
UID:10002151-1857448800-1857452400@www.dominionworshipcenter.org
SUMMARY:Men's Prayer
DESCRIPTION:
URL:https://www.dominionworshipcenter.org/event/600-am-mens-prayer-3-2/2028-11-10/
LOCATION:Dominion Worship Center\, 4450 Stine Rd.\, Bakersfield\, CA\, 93313\, United States
END:VEVENT
BEGIN:VEVENT
DTSTART;TZID=UTC:20281112T100000
DTEND;TZID=UTC:20281112T120000
DTSTAMP:20260421T034221
CREATED:20250425T015556Z
LAST-MODIFIED:20250425T015557Z
UID:10001890-1857636000-1857643200@www.dominionworshipcenter.org
SUMMARY:Worship Service
DESCRIPTION:
URL:https://www.dominionworshipcenter.org/event/worship-service-2-2/2028-11-12/
LOCATION:Dominion Worship Center\, 4450 Stine Rd.\, Bakersfield\, CA\, 93313\, United States
END:VEVENT
BEGIN:VEVENT
DTSTART;TZID=UTC:20281113T190000
DTEND;TZID=UTC:20281113T200000
DTSTAMP:20260421T034221
CREATED:20260218T172612Z
LAST-MODIFIED:20260218T172612Z
UID:10001621-1857754800-1857758400@www.dominionworshipcenter.org
SUMMARY:Monday Night Prayer
DESCRIPTION:
URL:https://www.dominionworshipcenter.org/event/monday-night-prayer-2-2-2/2028-11-13/
LOCATION:Dominion Worship Center\, 4450 Stine Rd.\, Bakersfield\, CA\, 93313\, United States
END:VEVENT
BEGIN:VEVENT
DTSTART;TZID=UTC:20281115T190000
DTEND;TZID=UTC:20281115T200000
DTSTAMP:20260421T034221
CREATED:20250216T153804Z
LAST-MODIFIED:20251203T214225Z
UID:10002417-1857927600-1857931200@www.dominionworshipcenter.org
SUMMARY:Wednesday Gathering
DESCRIPTION:
URL:https://www.dominionworshipcenter.org/event/wednesday-gathering/2028-11-15/
LOCATION:CA
END:VEVENT
BEGIN:VEVENT
DTSTART;TZID=UTC:20281116T190000
DTEND;TZID=UTC:20281116T210000
DTSTAMP:20260421T034221
CREATED:20250513T213924Z
LAST-MODIFIED:20250513T213924Z
UID:10003084-1858014000-1858021200@www.dominionworshipcenter.org
SUMMARY:ENGAGE:  Young Adults Meeting
DESCRIPTION:
URL:https://www.dominionworshipcenter.org/event/engage-young-adults-meeting/2028-11-16/
LOCATION:CA
END:VEVENT
BEGIN:VEVENT
DTSTART;TZID=UTC:20281117T060000
DTEND;TZID=UTC:20281117T070000
DTSTAMP:20260421T034221
CREATED:20250425T021024Z
LAST-MODIFIED:20250425T021025Z
UID:10002152-1858053600-1858057200@www.dominionworshipcenter.org
SUMMARY:Men's Prayer
DESCRIPTION:
URL:https://www.dominionworshipcenter.org/event/600-am-mens-prayer-3-2/2028-11-17/
LOCATION:Dominion Worship Center\, 4450 Stine Rd.\, Bakersfield\, CA\, 93313\, United States
END:VEVENT
BEGIN:VEVENT
DTSTART;TZID=UTC:20281119T100000
DTEND;TZID=UTC:20281119T120000
DTSTAMP:20260421T034221
CREATED:20250425T015556Z
LAST-MODIFIED:20250425T015557Z
UID:10001891-1858240800-1858248000@www.dominionworshipcenter.org
SUMMARY:Worship Service
DESCRIPTION:
URL:https://www.dominionworshipcenter.org/event/worship-service-2-2/2028-11-19/
LOCATION:Dominion Worship Center\, 4450 Stine Rd.\, Bakersfield\, CA\, 93313\, United States
END:VEVENT
BEGIN:VEVENT
DTSTART;TZID=UTC:20281120T190000
DTEND;TZID=UTC:20281120T200000
DTSTAMP:20260421T034221
CREATED:20260218T172612Z
LAST-MODIFIED:20260218T172612Z
UID:10001622-1858359600-1858363200@www.dominionworshipcenter.org
SUMMARY:Monday Night Prayer
DESCRIPTION:
URL:https://www.dominionworshipcenter.org/event/monday-night-prayer-2-2-2/2028-11-20/
LOCATION:Dominion Worship Center\, 4450 Stine Rd.\, Bakersfield\, CA\, 93313\, United States
END:VEVENT
BEGIN:VEVENT
DTSTART;TZID=UTC:20281122T190000
DTEND;TZID=UTC:20281122T200000
DTSTAMP:20260421T034221
CREATED:20250216T153804Z
LAST-MODIFIED:20251203T214225Z
UID:10002418-1858532400-1858536000@www.dominionworshipcenter.org
SUMMARY:Wednesday Gathering
DESCRIPTION:
URL:https://www.dominionworshipcenter.org/event/wednesday-gathering/2028-11-22/
LOCATION:CA
END:VEVENT
BEGIN:VEVENT
DTSTART;TZID=UTC:20281124T060000
DTEND;TZID=UTC:20281124T070000
DTSTAMP:20260421T034221
CREATED:20250425T021024Z
LAST-MODIFIED:20250425T021025Z
UID:10002153-1858658400-1858662000@www.dominionworshipcenter.org
SUMMARY:Men's Prayer
DESCRIPTION:
URL:https://www.dominionworshipcenter.org/event/600-am-mens-prayer-3-2/2028-11-24/
LOCATION:Dominion Worship Center\, 4450 Stine Rd.\, Bakersfield\, CA\, 93313\, United States
END:VEVENT
BEGIN:VEVENT
DTSTART;TZID=UTC:20281126T100000
DTEND;TZID=UTC:20281126T120000
DTSTAMP:20260421T034221
CREATED:20250425T015556Z
LAST-MODIFIED:20250425T015557Z
UID:10001892-1858845600-1858852800@www.dominionworshipcenter.org
SUMMARY:Worship Service
DESCRIPTION:
URL:https://www.dominionworshipcenter.org/event/worship-service-2-2/2028-11-26/
LOCATION:Dominion Worship Center\, 4450 Stine Rd.\, Bakersfield\, CA\, 93313\, United States
END:VEVENT
BEGIN:VEVENT
DTSTART;TZID=UTC:20281127T190000
DTEND;TZID=UTC:20281127T200000
DTSTAMP:20260421T034221
CREATED:20260218T172612Z
LAST-MODIFIED:20260218T172612Z
UID:10001623-1858964400-1858968000@www.dominionworshipcenter.org
SUMMARY:Monday Night Prayer
DESCRIPTION:
URL:https://www.dominionworshipcenter.org/event/monday-night-prayer-2-2-2/2028-11-27/
LOCATION:Dominion Worship Center\, 4450 Stine Rd.\, Bakersfield\, CA\, 93313\, United States
END:VEVENT
BEGIN:VEVENT
DTSTART;TZID=UTC:20281129T190000
DTEND;TZID=UTC:20281129T200000
DTSTAMP:20260421T034221
CREATED:20250216T153804Z
LAST-MODIFIED:20251203T214225Z
UID:10002419-1859137200-1859140800@www.dominionworshipcenter.org
SUMMARY:Wednesday Gathering
DESCRIPTION:
URL:https://www.dominionworshipcenter.org/event/wednesday-gathering/2028-11-29/
LOCATION:CA
END:VEVENT
BEGIN:VEVENT
DTSTART;TZID=UTC:20281201T060000
DTEND;TZID=UTC:20281201T070000
DTSTAMP:20260421T034221
CREATED:20250425T021024Z
LAST-MODIFIED:20250425T021025Z
UID:10002154-1859263200-1859266800@www.dominionworshipcenter.org
SUMMARY:Men's Prayer
DESCRIPTION:
URL:https://www.dominionworshipcenter.org/event/600-am-mens-prayer-3-2/2028-12-01/
LOCATION:Dominion Worship Center\, 4450 Stine Rd.\, Bakersfield\, CA\, 93313\, United States
END:VEVENT
BEGIN:VEVENT
DTSTART;TZID=UTC:20281203T100000
DTEND;TZID=UTC:20281203T120000
DTSTAMP:20260421T034221
CREATED:20250425T015556Z
LAST-MODIFIED:20250425T015557Z
UID:10001893-1859450400-1859457600@www.dominionworshipcenter.org
SUMMARY:Worship Service
DESCRIPTION:
URL:https://www.dominionworshipcenter.org/event/worship-service-2-2/2028-12-03/
LOCATION:Dominion Worship Center\, 4450 Stine Rd.\, Bakersfield\, CA\, 93313\, United States
END:VEVENT
BEGIN:VEVENT
DTSTART;TZID=UTC:20281204T190000
DTEND;TZID=UTC:20281204T200000
DTSTAMP:20260421T034221
CREATED:20260218T172612Z
LAST-MODIFIED:20260218T172612Z
UID:10001624-1859569200-1859572800@www.dominionworshipcenter.org
SUMMARY:Monday Night Prayer
DESCRIPTION:
URL:https://www.dominionworshipcenter.org/event/monday-night-prayer-2-2-2/2028-12-04/
LOCATION:Dominion Worship Center\, 4450 Stine Rd.\, Bakersfield\, CA\, 93313\, United States
END:VEVENT
BEGIN:VEVENT
DTSTART;TZID=UTC:20281206T190000
DTEND;TZID=UTC:20281206T200000
DTSTAMP:20260421T034221
CREATED:20250216T153804Z
LAST-MODIFIED:20251203T214225Z
UID:10002420-1859742000-1859745600@www.dominionworshipcenter.org
SUMMARY:Wednesday Gathering
DESCRIPTION:
URL:https://www.dominionworshipcenter.org/event/wednesday-gathering/2028-12-06/
LOCATION:CA
END:VEVENT
BEGIN:VEVENT
DTSTART;TZID=UTC:20281207T190000
DTEND;TZID=UTC:20281207T210000
DTSTAMP:20260421T034221
CREATED:20250513T214135Z
LAST-MODIFIED:20250513T214636Z
UID:10003144-1859828400-1859835600@www.dominionworshipcenter.org
SUMMARY:ENGAGE:  Young Adults Meeting
DESCRIPTION:
URL:https://www.dominionworshipcenter.org/event/engage-young-adults-meeting-2/2028-12-07/
LOCATION:CA
END:VEVENT
BEGIN:VEVENT
DTSTART;TZID=UTC:20281208T060000
DTEND;TZID=UTC:20281208T070000
DTSTAMP:20260421T034221
CREATED:20250425T021024Z
LAST-MODIFIED:20250425T021025Z
UID:10002155-1859868000-1859871600@www.dominionworshipcenter.org
SUMMARY:Men's Prayer
DESCRIPTION:
URL:https://www.dominionworshipcenter.org/event/600-am-mens-prayer-3-2/2028-12-08/
LOCATION:Dominion Worship Center\, 4450 Stine Rd.\, Bakersfield\, CA\, 93313\, United States
END:VEVENT
BEGIN:VEVENT
DTSTART;TZID=UTC:20281210T100000
DTEND;TZID=UTC:20281210T120000
DTSTAMP:20260421T034221
CREATED:20250425T015556Z
LAST-MODIFIED:20250425T015557Z
UID:10001894-1860055200-1860062400@www.dominionworshipcenter.org
SUMMARY:Worship Service
DESCRIPTION:
URL:https://www.dominionworshipcenter.org/event/worship-service-2-2/2028-12-10/
LOCATION:Dominion Worship Center\, 4450 Stine Rd.\, Bakersfield\, CA\, 93313\, United States
END:VEVENT
BEGIN:VEVENT
DTSTART;TZID=UTC:20281211T190000
DTEND;TZID=UTC:20281211T200000
DTSTAMP:20260421T034221
CREATED:20260218T172612Z
LAST-MODIFIED:20260218T172612Z
UID:10001625-1860174000-1860177600@www.dominionworshipcenter.org
SUMMARY:Monday Night Prayer
DESCRIPTION:
URL:https://www.dominionworshipcenter.org/event/monday-night-prayer-2-2-2/2028-12-11/
LOCATION:Dominion Worship Center\, 4450 Stine Rd.\, Bakersfield\, CA\, 93313\, United States
END:VEVENT
BEGIN:VEVENT
DTSTART;TZID=UTC:20281213T190000
DTEND;TZID=UTC:20281213T200000
DTSTAMP:20260421T034221
CREATED:20250216T153804Z
LAST-MODIFIED:20251203T214225Z
UID:10002421-1860346800-1860350400@www.dominionworshipcenter.org
SUMMARY:Wednesday Gathering
DESCRIPTION:
URL:https://www.dominionworshipcenter.org/event/wednesday-gathering/2028-12-13/
LOCATION:CA
END:VEVENT
BEGIN:VEVENT
DTSTART;TZID=UTC:20281215T060000
DTEND;TZID=UTC:20281215T070000
DTSTAMP:20260421T034221
CREATED:20250425T021024Z
LAST-MODIFIED:20250425T021025Z
UID:10002156-1860472800-1860476400@www.dominionworshipcenter.org
SUMMARY:Men's Prayer
DESCRIPTION:
URL:https://www.dominionworshipcenter.org/event/600-am-mens-prayer-3-2/2028-12-15/
LOCATION:Dominion Worship Center\, 4450 Stine Rd.\, Bakersfield\, CA\, 93313\, United States
END:VEVENT
BEGIN:VEVENT
DTSTART;TZID=UTC:20281217T100000
DTEND;TZID=UTC:20281217T120000
DTSTAMP:20260421T034221
CREATED:20250425T015556Z
LAST-MODIFIED:20250425T015557Z
UID:10001895-1860660000-1860667200@www.dominionworshipcenter.org
SUMMARY:Worship Service
DESCRIPTION:
URL:https://www.dominionworshipcenter.org/event/worship-service-2-2/2028-12-17/
LOCATION:Dominion Worship Center\, 4450 Stine Rd.\, Bakersfield\, CA\, 93313\, United States
END:VEVENT
BEGIN:VEVENT
DTSTART;TZID=UTC:20281218T190000
DTEND;TZID=UTC:20281218T200000
DTSTAMP:20260421T034221
CREATED:20260218T172612Z
LAST-MODIFIED:20260218T172612Z
UID:10001626-1860778800-1860782400@www.dominionworshipcenter.org
SUMMARY:Monday Night Prayer
DESCRIPTION:
URL:https://www.dominionworshipcenter.org/event/monday-night-prayer-2-2-2/2028-12-18/
LOCATION:Dominion Worship Center\, 4450 Stine Rd.\, Bakersfield\, CA\, 93313\, United States
END:VEVENT
END:VCALENDAR