BEGIN:VCALENDAR
VERSION:2.0
PRODID:-//Dominion Worship Center - ECPv6.15.20//NONSGML v1.0//EN
CALSCALE:GREGORIAN
METHOD:PUBLISH
X-WR-CALNAME:Dominion Worship Center
X-ORIGINAL-URL:https://www.dominionworshipcenter.org
X-WR-CALDESC:Events for Dominion Worship Center
REFRESH-INTERVAL;VALUE=DURATION:PT1H
X-Robots-Tag:noindex
X-PUBLISHED-TTL:PT1H
BEGIN:VTIMEZONE
TZID:UTC
BEGIN:STANDARD
TZOFFSETFROM:+0000
TZOFFSETTO:+0000
TZNAME:UTC
DTSTART:20270101T000000
END:STANDARD
END:VTIMEZONE
BEGIN:VEVENT
DTSTART;TZID=UTC:20280110T190000
DTEND;TZID=UTC:20280110T200000
DTSTAMP:20260419T234010
CREATED:20260218T172612Z
LAST-MODIFIED:20260218T172612Z
UID:10001577-1831143600-1831147200@www.dominionworshipcenter.org
SUMMARY:Monday Night Prayer
DESCRIPTION:
URL:https://www.dominionworshipcenter.org/event/monday-night-prayer-2-2-2/2028-01-10/
LOCATION:Dominion Worship Center\, 4450 Stine Rd.\, Bakersfield\, CA\, 93313\, United States
END:VEVENT
BEGIN:VEVENT
DTSTART;TZID=UTC:20280112T190000
DTEND;TZID=UTC:20280112T200000
DTSTAMP:20260419T234010
CREATED:20250216T153804Z
LAST-MODIFIED:20251203T214225Z
UID:10002373-1831316400-1831320000@www.dominionworshipcenter.org
SUMMARY:Wednesday Gathering
DESCRIPTION:
URL:https://www.dominionworshipcenter.org/event/wednesday-gathering/2028-01-12/
LOCATION:CA
END:VEVENT
BEGIN:VEVENT
DTSTART;TZID=UTC:20280114T060000
DTEND;TZID=UTC:20280114T070000
DTSTAMP:20260419T234010
CREATED:20250425T021024Z
LAST-MODIFIED:20250425T021025Z
UID:10002108-1831442400-1831446000@www.dominionworshipcenter.org
SUMMARY:Men's Prayer
DESCRIPTION:
URL:https://www.dominionworshipcenter.org/event/600-am-mens-prayer-3-2/2028-01-14/
LOCATION:Dominion Worship Center\, 4450 Stine Rd.\, Bakersfield\, CA\, 93313\, United States
END:VEVENT
BEGIN:VEVENT
DTSTART;TZID=UTC:20280116T100000
DTEND;TZID=UTC:20280116T120000
DTSTAMP:20260419T234010
CREATED:20250425T015556Z
LAST-MODIFIED:20250425T015557Z
UID:10001847-1831629600-1831636800@www.dominionworshipcenter.org
SUMMARY:Worship Service
DESCRIPTION:
URL:https://www.dominionworshipcenter.org/event/worship-service-2-2/2028-01-16/
LOCATION:Dominion Worship Center\, 4450 Stine Rd.\, Bakersfield\, CA\, 93313\, United States
END:VEVENT
BEGIN:VEVENT
DTSTART;TZID=UTC:20280117T190000
DTEND;TZID=UTC:20280117T200000
DTSTAMP:20260419T234010
CREATED:20260218T172612Z
LAST-MODIFIED:20260218T172612Z
UID:10001578-1831748400-1831752000@www.dominionworshipcenter.org
SUMMARY:Monday Night Prayer
DESCRIPTION:
URL:https://www.dominionworshipcenter.org/event/monday-night-prayer-2-2-2/2028-01-17/
LOCATION:Dominion Worship Center\, 4450 Stine Rd.\, Bakersfield\, CA\, 93313\, United States
END:VEVENT
BEGIN:VEVENT
DTSTART;TZID=UTC:20280119T190000
DTEND;TZID=UTC:20280119T200000
DTSTAMP:20260419T234010
CREATED:20250216T153804Z
LAST-MODIFIED:20251203T214225Z
UID:10002374-1831921200-1831924800@www.dominionworshipcenter.org
SUMMARY:Wednesday Gathering
DESCRIPTION:
URL:https://www.dominionworshipcenter.org/event/wednesday-gathering/2028-01-19/
LOCATION:CA
END:VEVENT
BEGIN:VEVENT
DTSTART;TZID=UTC:20280120T190000
DTEND;TZID=UTC:20280120T210000
DTSTAMP:20260419T234010
CREATED:20250513T213924Z
LAST-MODIFIED:20250513T213924Z
UID:10003074-1832007600-1832014800@www.dominionworshipcenter.org
SUMMARY:ENGAGE:  Young Adults Meeting
DESCRIPTION:
URL:https://www.dominionworshipcenter.org/event/engage-young-adults-meeting/2028-01-20/
LOCATION:CA
END:VEVENT
BEGIN:VEVENT
DTSTART;TZID=UTC:20280121T060000
DTEND;TZID=UTC:20280121T070000
DTSTAMP:20260419T234010
CREATED:20250425T021024Z
LAST-MODIFIED:20250425T021025Z
UID:10002109-1832047200-1832050800@www.dominionworshipcenter.org
SUMMARY:Men's Prayer
DESCRIPTION:
URL:https://www.dominionworshipcenter.org/event/600-am-mens-prayer-3-2/2028-01-21/
LOCATION:Dominion Worship Center\, 4450 Stine Rd.\, Bakersfield\, CA\, 93313\, United States
END:VEVENT
BEGIN:VEVENT
DTSTART;TZID=UTC:20280123T100000
DTEND;TZID=UTC:20280123T120000
DTSTAMP:20260419T234010
CREATED:20250425T015556Z
LAST-MODIFIED:20250425T015557Z
UID:10001848-1832234400-1832241600@www.dominionworshipcenter.org
SUMMARY:Worship Service
DESCRIPTION:
URL:https://www.dominionworshipcenter.org/event/worship-service-2-2/2028-01-23/
LOCATION:Dominion Worship Center\, 4450 Stine Rd.\, Bakersfield\, CA\, 93313\, United States
END:VEVENT
BEGIN:VEVENT
DTSTART;TZID=UTC:20280124T190000
DTEND;TZID=UTC:20280124T200000
DTSTAMP:20260419T234010
CREATED:20260218T172612Z
LAST-MODIFIED:20260218T172612Z
UID:10001579-1832353200-1832356800@www.dominionworshipcenter.org
SUMMARY:Monday Night Prayer
DESCRIPTION:
URL:https://www.dominionworshipcenter.org/event/monday-night-prayer-2-2-2/2028-01-24/
LOCATION:Dominion Worship Center\, 4450 Stine Rd.\, Bakersfield\, CA\, 93313\, United States
END:VEVENT
BEGIN:VEVENT
DTSTART;TZID=UTC:20280126T190000
DTEND;TZID=UTC:20280126T200000
DTSTAMP:20260419T234010
CREATED:20250216T153804Z
LAST-MODIFIED:20251203T214225Z
UID:10002375-1832526000-1832529600@www.dominionworshipcenter.org
SUMMARY:Wednesday Gathering
DESCRIPTION:
URL:https://www.dominionworshipcenter.org/event/wednesday-gathering/2028-01-26/
LOCATION:CA
END:VEVENT
BEGIN:VEVENT
DTSTART;TZID=UTC:20280128T060000
DTEND;TZID=UTC:20280128T070000
DTSTAMP:20260419T234010
CREATED:20250425T021024Z
LAST-MODIFIED:20250425T021025Z
UID:10002110-1832652000-1832655600@www.dominionworshipcenter.org
SUMMARY:Men's Prayer
DESCRIPTION:
URL:https://www.dominionworshipcenter.org/event/600-am-mens-prayer-3-2/2028-01-28/
LOCATION:Dominion Worship Center\, 4450 Stine Rd.\, Bakersfield\, CA\, 93313\, United States
END:VEVENT
BEGIN:VEVENT
DTSTART;TZID=UTC:20280130T100000
DTEND;TZID=UTC:20280130T120000
DTSTAMP:20260419T234010
CREATED:20250425T015556Z
LAST-MODIFIED:20250425T015557Z
UID:10001849-1832839200-1832846400@www.dominionworshipcenter.org
SUMMARY:Worship Service
DESCRIPTION:
URL:https://www.dominionworshipcenter.org/event/worship-service-2-2/2028-01-30/
LOCATION:Dominion Worship Center\, 4450 Stine Rd.\, Bakersfield\, CA\, 93313\, United States
END:VEVENT
BEGIN:VEVENT
DTSTART;TZID=UTC:20280131T190000
DTEND;TZID=UTC:20280131T200000
DTSTAMP:20260419T234010
CREATED:20260218T172612Z
LAST-MODIFIED:20260218T172612Z
UID:10001580-1832958000-1832961600@www.dominionworshipcenter.org
SUMMARY:Monday Night Prayer
DESCRIPTION:
URL:https://www.dominionworshipcenter.org/event/monday-night-prayer-2-2-2/2028-01-31/
LOCATION:Dominion Worship Center\, 4450 Stine Rd.\, Bakersfield\, CA\, 93313\, United States
END:VEVENT
BEGIN:VEVENT
DTSTART;TZID=UTC:20280202T190000
DTEND;TZID=UTC:20280202T200000
DTSTAMP:20260419T234010
CREATED:20250216T153804Z
LAST-MODIFIED:20251203T214225Z
UID:10002376-1833130800-1833134400@www.dominionworshipcenter.org
SUMMARY:Wednesday Gathering
DESCRIPTION:
URL:https://www.dominionworshipcenter.org/event/wednesday-gathering/2028-02-02/
LOCATION:CA
END:VEVENT
BEGIN:VEVENT
DTSTART;TZID=UTC:20280203T190000
DTEND;TZID=UTC:20280203T210000
DTSTAMP:20260419T234010
CREATED:20250513T214135Z
LAST-MODIFIED:20250513T214636Z
UID:10003134-1833217200-1833224400@www.dominionworshipcenter.org
SUMMARY:ENGAGE:  Young Adults Meeting
DESCRIPTION:
URL:https://www.dominionworshipcenter.org/event/engage-young-adults-meeting-2/2028-02-03/
LOCATION:CA
END:VEVENT
BEGIN:VEVENT
DTSTART;TZID=UTC:20280204T060000
DTEND;TZID=UTC:20280204T070000
DTSTAMP:20260419T234010
CREATED:20250425T021024Z
LAST-MODIFIED:20250425T021025Z
UID:10002111-1833256800-1833260400@www.dominionworshipcenter.org
SUMMARY:Men's Prayer
DESCRIPTION:
URL:https://www.dominionworshipcenter.org/event/600-am-mens-prayer-3-2/2028-02-04/
LOCATION:Dominion Worship Center\, 4450 Stine Rd.\, Bakersfield\, CA\, 93313\, United States
END:VEVENT
BEGIN:VEVENT
DTSTART;TZID=UTC:20280206T100000
DTEND;TZID=UTC:20280206T120000
DTSTAMP:20260419T234010
CREATED:20250425T015556Z
LAST-MODIFIED:20250425T015557Z
UID:10001850-1833444000-1833451200@www.dominionworshipcenter.org
SUMMARY:Worship Service
DESCRIPTION:
URL:https://www.dominionworshipcenter.org/event/worship-service-2-2/2028-02-06/
LOCATION:Dominion Worship Center\, 4450 Stine Rd.\, Bakersfield\, CA\, 93313\, United States
END:VEVENT
BEGIN:VEVENT
DTSTART;TZID=UTC:20280207T190000
DTEND;TZID=UTC:20280207T200000
DTSTAMP:20260419T234010
CREATED:20260218T172612Z
LAST-MODIFIED:20260218T172612Z
UID:10001581-1833562800-1833566400@www.dominionworshipcenter.org
SUMMARY:Monday Night Prayer
DESCRIPTION:
URL:https://www.dominionworshipcenter.org/event/monday-night-prayer-2-2-2/2028-02-07/
LOCATION:Dominion Worship Center\, 4450 Stine Rd.\, Bakersfield\, CA\, 93313\, United States
END:VEVENT
BEGIN:VEVENT
DTSTART;TZID=UTC:20280209T190000
DTEND;TZID=UTC:20280209T200000
DTSTAMP:20260419T234010
CREATED:20250216T153804Z
LAST-MODIFIED:20251203T214225Z
UID:10002377-1833735600-1833739200@www.dominionworshipcenter.org
SUMMARY:Wednesday Gathering
DESCRIPTION:
URL:https://www.dominionworshipcenter.org/event/wednesday-gathering/2028-02-09/
LOCATION:CA
END:VEVENT
BEGIN:VEVENT
DTSTART;TZID=UTC:20280211T060000
DTEND;TZID=UTC:20280211T070000
DTSTAMP:20260419T234010
CREATED:20250425T021024Z
LAST-MODIFIED:20250425T021025Z
UID:10002112-1833861600-1833865200@www.dominionworshipcenter.org
SUMMARY:Men's Prayer
DESCRIPTION:
URL:https://www.dominionworshipcenter.org/event/600-am-mens-prayer-3-2/2028-02-11/
LOCATION:Dominion Worship Center\, 4450 Stine Rd.\, Bakersfield\, CA\, 93313\, United States
END:VEVENT
BEGIN:VEVENT
DTSTART;TZID=UTC:20280213T100000
DTEND;TZID=UTC:20280213T120000
DTSTAMP:20260419T234010
CREATED:20250425T015556Z
LAST-MODIFIED:20250425T015557Z
UID:10001851-1834048800-1834056000@www.dominionworshipcenter.org
SUMMARY:Worship Service
DESCRIPTION:
URL:https://www.dominionworshipcenter.org/event/worship-service-2-2/2028-02-13/
LOCATION:Dominion Worship Center\, 4450 Stine Rd.\, Bakersfield\, CA\, 93313\, United States
END:VEVENT
BEGIN:VEVENT
DTSTART;TZID=UTC:20280214T190000
DTEND;TZID=UTC:20280214T200000
DTSTAMP:20260419T234010
CREATED:20260218T172612Z
LAST-MODIFIED:20260218T172612Z
UID:10001582-1834167600-1834171200@www.dominionworshipcenter.org
SUMMARY:Monday Night Prayer
DESCRIPTION:
URL:https://www.dominionworshipcenter.org/event/monday-night-prayer-2-2-2/2028-02-14/
LOCATION:Dominion Worship Center\, 4450 Stine Rd.\, Bakersfield\, CA\, 93313\, United States
END:VEVENT
BEGIN:VEVENT
DTSTART;TZID=UTC:20280216T190000
DTEND;TZID=UTC:20280216T200000
DTSTAMP:20260419T234010
CREATED:20250216T153804Z
LAST-MODIFIED:20251203T214225Z
UID:10002378-1834340400-1834344000@www.dominionworshipcenter.org
SUMMARY:Wednesday Gathering
DESCRIPTION:
URL:https://www.dominionworshipcenter.org/event/wednesday-gathering/2028-02-16/
LOCATION:CA
END:VEVENT
BEGIN:VEVENT
DTSTART;TZID=UTC:20280217T190000
DTEND;TZID=UTC:20280217T210000
DTSTAMP:20260419T234010
CREATED:20250513T213924Z
LAST-MODIFIED:20250513T213924Z
UID:10003075-1834426800-1834434000@www.dominionworshipcenter.org
SUMMARY:ENGAGE:  Young Adults Meeting
DESCRIPTION:
URL:https://www.dominionworshipcenter.org/event/engage-young-adults-meeting/2028-02-17/
LOCATION:CA
END:VEVENT
BEGIN:VEVENT
DTSTART;TZID=UTC:20280218T060000
DTEND;TZID=UTC:20280218T070000
DTSTAMP:20260419T234010
CREATED:20250425T021024Z
LAST-MODIFIED:20250425T021025Z
UID:10002113-1834466400-1834470000@www.dominionworshipcenter.org
SUMMARY:Men's Prayer
DESCRIPTION:
URL:https://www.dominionworshipcenter.org/event/600-am-mens-prayer-3-2/2028-02-18/
LOCATION:Dominion Worship Center\, 4450 Stine Rd.\, Bakersfield\, CA\, 93313\, United States
END:VEVENT
BEGIN:VEVENT
DTSTART;TZID=UTC:20280220T100000
DTEND;TZID=UTC:20280220T120000
DTSTAMP:20260419T234010
CREATED:20250425T015556Z
LAST-MODIFIED:20250425T015557Z
UID:10001852-1834653600-1834660800@www.dominionworshipcenter.org
SUMMARY:Worship Service
DESCRIPTION:
URL:https://www.dominionworshipcenter.org/event/worship-service-2-2/2028-02-20/
LOCATION:Dominion Worship Center\, 4450 Stine Rd.\, Bakersfield\, CA\, 93313\, United States
END:VEVENT
BEGIN:VEVENT
DTSTART;TZID=UTC:20280221T190000
DTEND;TZID=UTC:20280221T200000
DTSTAMP:20260419T234010
CREATED:20260218T172612Z
LAST-MODIFIED:20260218T172612Z
UID:10001583-1834772400-1834776000@www.dominionworshipcenter.org
SUMMARY:Monday Night Prayer
DESCRIPTION:
URL:https://www.dominionworshipcenter.org/event/monday-night-prayer-2-2-2/2028-02-21/
LOCATION:Dominion Worship Center\, 4450 Stine Rd.\, Bakersfield\, CA\, 93313\, United States
END:VEVENT
BEGIN:VEVENT
DTSTART;TZID=UTC:20280223T190000
DTEND;TZID=UTC:20280223T200000
DTSTAMP:20260419T234010
CREATED:20250216T153804Z
LAST-MODIFIED:20251203T214225Z
UID:10002379-1834945200-1834948800@www.dominionworshipcenter.org
SUMMARY:Wednesday Gathering
DESCRIPTION:
URL:https://www.dominionworshipcenter.org/event/wednesday-gathering/2028-02-23/
LOCATION:CA
END:VEVENT
BEGIN:VEVENT
DTSTART;TZID=UTC:20280225T060000
DTEND;TZID=UTC:20280225T070000
DTSTAMP:20260419T234010
CREATED:20250425T021024Z
LAST-MODIFIED:20250425T021025Z
UID:10002114-1835071200-1835074800@www.dominionworshipcenter.org
SUMMARY:Men's Prayer
DESCRIPTION:
URL:https://www.dominionworshipcenter.org/event/600-am-mens-prayer-3-2/2028-02-25/
LOCATION:Dominion Worship Center\, 4450 Stine Rd.\, Bakersfield\, CA\, 93313\, United States
END:VEVENT
END:VCALENDAR