BEGIN:VCALENDAR
VERSION:2.0
PRODID:-//Dominion Worship Center - ECPv6.15.20//NONSGML v1.0//EN
CALSCALE:GREGORIAN
METHOD:PUBLISH
X-WR-CALNAME:Dominion Worship Center
X-ORIGINAL-URL:https://www.dominionworshipcenter.org
X-WR-CALDESC:Events for Dominion Worship Center
REFRESH-INTERVAL;VALUE=DURATION:PT1H
X-Robots-Tag:noindex
X-PUBLISHED-TTL:PT1H
BEGIN:VTIMEZONE
TZID:UTC
BEGIN:STANDARD
TZOFFSETFROM:+0000
TZOFFSETTO:+0000
TZNAME:UTC
DTSTART:20230101T000000
END:STANDARD
END:VTIMEZONE
BEGIN:VEVENT
DTSTART;TZID=UTC:20250203T190000
DTEND;TZID=UTC:20250203T200000
DTSTAMP:20260420T011828
CREATED:20250216T154532Z
LAST-MODIFIED:20250216T154820Z
UID:10001424-1738609200-1738612800@www.dominionworshipcenter.org
SUMMARY:Monday Night Prayer
DESCRIPTION:
URL:https://www.dominionworshipcenter.org/event/monday-night-prayer/2025-02-03/
LOCATION:CA
END:VEVENT
BEGIN:VEVENT
DTSTART;TZID=UTC:20250202T100000
DTEND;TZID=UTC:20250202T120000
DTSTAMP:20260420T011828
CREATED:20250216T154851Z
LAST-MODIFIED:20250216T155818Z
UID:10001693-1738490400-1738497600@www.dominionworshipcenter.org
SUMMARY:Worship Service
DESCRIPTION:
URL:https://www.dominionworshipcenter.org/event/worship-service-2/2025-02-02/
LOCATION:venue\, LIBERTY BELL 1415 Truxtun Ave\, Bakersfield\, CA\, 93301\, United States
END:VEVENT
BEGIN:VEVENT
DTSTART;TZID=UTC:20250201T090000
DTEND;TZID=UTC:20250201T220000
DTSTAMP:20260420T011828
CREATED:20250217T013748Z
LAST-MODIFIED:20250217T013748Z
UID:10002483-1738400400-1738447200@www.dominionworshipcenter.org
SUMMARY:Coffee Homeless Ministry @ MLK Park
DESCRIPTION:
URL:https://www.dominionworshipcenter.org/event/coffee-homeless-ministry-mlk-park/2025-02-01/
LOCATION:CA
END:VEVENT
BEGIN:VEVENT
DTSTART;VALUE=DATE:20241225
DTEND;VALUE=DATE:20241226
DTSTAMP:20260420T011828
CREATED:20241213T030943Z
LAST-MODIFIED:20241213T030943Z
UID:10000001-1735084800-1735171199@www.dominionworshipcenter.org
SUMMARY:Christmas!
DESCRIPTION:This is an example of an event…
URL:https://www.dominionworshipcenter.org/event/christmas/
LOCATION:venue\, LIBERTY BELL 1415 Truxtun Ave\, Bakersfield\, CA\, 93301\, United States
END:VEVENT
END:VCALENDAR