BEGIN:VCALENDAR
VERSION:2.0
PRODID:-//Dominion Worship Center - ECPv6.15.20//NONSGML v1.0//EN
CALSCALE:GREGORIAN
METHOD:PUBLISH
X-ORIGINAL-URL:https://www.dominionworshipcenter.org
X-WR-CALDESC:Events for Dominion Worship Center
REFRESH-INTERVAL;VALUE=DURATION:PT1H
X-Robots-Tag:noindex
X-PUBLISHED-TTL:PT1H
BEGIN:VTIMEZONE
TZID:UTC
BEGIN:STANDARD
TZOFFSETFROM:+0000
TZOFFSETTO:+0000
TZNAME:UTC
DTSTART:20260101T000000
END:STANDARD
END:VTIMEZONE
BEGIN:VEVENT
DTSTART;TZID=UTC:20271112T060000
DTEND;TZID=UTC:20271112T070000
DTSTAMP:20260419T234413
CREATED:20250425T021024Z
LAST-MODIFIED:20250425T021025Z
UID:10002099-1825999200-1826002800@www.dominionworshipcenter.org
SUMMARY:Men's Prayer
DESCRIPTION:
URL:https://www.dominionworshipcenter.org/event/600-am-mens-prayer-3-2/2027-11-12/
LOCATION:Dominion Worship Center\, 4450 Stine Rd.\, Bakersfield\, CA\, 93313\, United States
END:VEVENT
BEGIN:VEVENT
DTSTART;TZID=UTC:20271114T100000
DTEND;TZID=UTC:20271114T120000
DTSTAMP:20260419T234413
CREATED:20250425T015556Z
LAST-MODIFIED:20250425T015557Z
UID:10001838-1826186400-1826193600@www.dominionworshipcenter.org
SUMMARY:Worship Service
DESCRIPTION:
URL:https://www.dominionworshipcenter.org/event/worship-service-2-2/2027-11-14/
LOCATION:Dominion Worship Center\, 4450 Stine Rd.\, Bakersfield\, CA\, 93313\, United States
END:VEVENT
BEGIN:VEVENT
DTSTART;TZID=UTC:20271115T190000
DTEND;TZID=UTC:20271115T200000
DTSTAMP:20260419T234413
CREATED:20260218T172612Z
LAST-MODIFIED:20260218T172612Z
UID:10001569-1826305200-1826308800@www.dominionworshipcenter.org
SUMMARY:Monday Night Prayer
DESCRIPTION:
URL:https://www.dominionworshipcenter.org/event/monday-night-prayer-2-2-2/2027-11-15/
LOCATION:Dominion Worship Center\, 4450 Stine Rd.\, Bakersfield\, CA\, 93313\, United States
END:VEVENT
BEGIN:VEVENT
DTSTART;TZID=UTC:20271117T190000
DTEND;TZID=UTC:20271117T200000
DTSTAMP:20260419T234413
CREATED:20250216T153804Z
LAST-MODIFIED:20251203T214225Z
UID:10002365-1826478000-1826481600@www.dominionworshipcenter.org
SUMMARY:Wednesday Gathering
DESCRIPTION:
URL:https://www.dominionworshipcenter.org/event/wednesday-gathering/2027-11-17/
LOCATION:CA
END:VEVENT
BEGIN:VEVENT
DTSTART;TZID=UTC:20271118T190000
DTEND;TZID=UTC:20271118T210000
DTSTAMP:20260419T234413
CREATED:20250513T213924Z
LAST-MODIFIED:20250513T213924Z
UID:10003072-1826564400-1826571600@www.dominionworshipcenter.org
SUMMARY:ENGAGE:  Young Adults Meeting
DESCRIPTION:
URL:https://www.dominionworshipcenter.org/event/engage-young-adults-meeting/2027-11-18/
LOCATION:CA
END:VEVENT
BEGIN:VEVENT
DTSTART;TZID=UTC:20271119T060000
DTEND;TZID=UTC:20271119T070000
DTSTAMP:20260419T234413
CREATED:20250425T021024Z
LAST-MODIFIED:20250425T021025Z
UID:10002100-1826604000-1826607600@www.dominionworshipcenter.org
SUMMARY:Men's Prayer
DESCRIPTION:
URL:https://www.dominionworshipcenter.org/event/600-am-mens-prayer-3-2/2027-11-19/
LOCATION:Dominion Worship Center\, 4450 Stine Rd.\, Bakersfield\, CA\, 93313\, United States
END:VEVENT
BEGIN:VEVENT
DTSTART;TZID=UTC:20271121T100000
DTEND;TZID=UTC:20271121T120000
DTSTAMP:20260419T234413
CREATED:20250425T015556Z
LAST-MODIFIED:20250425T015557Z
UID:10001839-1826791200-1826798400@www.dominionworshipcenter.org
SUMMARY:Worship Service
DESCRIPTION:
URL:https://www.dominionworshipcenter.org/event/worship-service-2-2/2027-11-21/
LOCATION:Dominion Worship Center\, 4450 Stine Rd.\, Bakersfield\, CA\, 93313\, United States
END:VEVENT
BEGIN:VEVENT
DTSTART;TZID=UTC:20271122T190000
DTEND;TZID=UTC:20271122T200000
DTSTAMP:20260419T234413
CREATED:20260218T172612Z
LAST-MODIFIED:20260218T172612Z
UID:10001570-1826910000-1826913600@www.dominionworshipcenter.org
SUMMARY:Monday Night Prayer
DESCRIPTION:
URL:https://www.dominionworshipcenter.org/event/monday-night-prayer-2-2-2/2027-11-22/
LOCATION:Dominion Worship Center\, 4450 Stine Rd.\, Bakersfield\, CA\, 93313\, United States
END:VEVENT
BEGIN:VEVENT
DTSTART;TZID=UTC:20271124T190000
DTEND;TZID=UTC:20271124T200000
DTSTAMP:20260419T234413
CREATED:20250216T153804Z
LAST-MODIFIED:20251203T214225Z
UID:10002366-1827082800-1827086400@www.dominionworshipcenter.org
SUMMARY:Wednesday Gathering
DESCRIPTION:
URL:https://www.dominionworshipcenter.org/event/wednesday-gathering/2027-11-24/
LOCATION:CA
END:VEVENT
BEGIN:VEVENT
DTSTART;TZID=UTC:20271126T060000
DTEND;TZID=UTC:20271126T070000
DTSTAMP:20260419T234413
CREATED:20250425T021024Z
LAST-MODIFIED:20250425T021025Z
UID:10002101-1827208800-1827212400@www.dominionworshipcenter.org
SUMMARY:Men's Prayer
DESCRIPTION:
URL:https://www.dominionworshipcenter.org/event/600-am-mens-prayer-3-2/2027-11-26/
LOCATION:Dominion Worship Center\, 4450 Stine Rd.\, Bakersfield\, CA\, 93313\, United States
END:VEVENT
BEGIN:VEVENT
DTSTART;TZID=UTC:20271128T100000
DTEND;TZID=UTC:20271128T120000
DTSTAMP:20260419T234413
CREATED:20250425T015556Z
LAST-MODIFIED:20250425T015557Z
UID:10001840-1827396000-1827403200@www.dominionworshipcenter.org
SUMMARY:Worship Service
DESCRIPTION:
URL:https://www.dominionworshipcenter.org/event/worship-service-2-2/2027-11-28/
LOCATION:Dominion Worship Center\, 4450 Stine Rd.\, Bakersfield\, CA\, 93313\, United States
END:VEVENT
BEGIN:VEVENT
DTSTART;TZID=UTC:20271129T190000
DTEND;TZID=UTC:20271129T200000
DTSTAMP:20260419T234413
CREATED:20260218T172612Z
LAST-MODIFIED:20260218T172612Z
UID:10001571-1827514800-1827518400@www.dominionworshipcenter.org
SUMMARY:Monday Night Prayer
DESCRIPTION:
URL:https://www.dominionworshipcenter.org/event/monday-night-prayer-2-2-2/2027-11-29/
LOCATION:Dominion Worship Center\, 4450 Stine Rd.\, Bakersfield\, CA\, 93313\, United States
END:VEVENT
BEGIN:VEVENT
DTSTART;TZID=UTC:20271201T190000
DTEND;TZID=UTC:20271201T200000
DTSTAMP:20260419T234413
CREATED:20250216T153804Z
LAST-MODIFIED:20251203T214225Z
UID:10002367-1827687600-1827691200@www.dominionworshipcenter.org
SUMMARY:Wednesday Gathering
DESCRIPTION:
URL:https://www.dominionworshipcenter.org/event/wednesday-gathering/2027-12-01/
LOCATION:CA
END:VEVENT
BEGIN:VEVENT
DTSTART;TZID=UTC:20271202T190000
DTEND;TZID=UTC:20271202T210000
DTSTAMP:20260419T234413
CREATED:20250513T214135Z
LAST-MODIFIED:20250513T214636Z
UID:10003132-1827774000-1827781200@www.dominionworshipcenter.org
SUMMARY:ENGAGE:  Young Adults Meeting
DESCRIPTION:
URL:https://www.dominionworshipcenter.org/event/engage-young-adults-meeting-2/2027-12-02/
LOCATION:CA
END:VEVENT
BEGIN:VEVENT
DTSTART;TZID=UTC:20271203T060000
DTEND;TZID=UTC:20271203T070000
DTSTAMP:20260419T234413
CREATED:20250425T021024Z
LAST-MODIFIED:20250425T021025Z
UID:10002102-1827813600-1827817200@www.dominionworshipcenter.org
SUMMARY:Men's Prayer
DESCRIPTION:
URL:https://www.dominionworshipcenter.org/event/600-am-mens-prayer-3-2/2027-12-03/
LOCATION:Dominion Worship Center\, 4450 Stine Rd.\, Bakersfield\, CA\, 93313\, United States
END:VEVENT
BEGIN:VEVENT
DTSTART;TZID=UTC:20271205T100000
DTEND;TZID=UTC:20271205T120000
DTSTAMP:20260419T234413
CREATED:20250425T015556Z
LAST-MODIFIED:20250425T015557Z
UID:10001841-1828000800-1828008000@www.dominionworshipcenter.org
SUMMARY:Worship Service
DESCRIPTION:
URL:https://www.dominionworshipcenter.org/event/worship-service-2-2/2027-12-05/
LOCATION:Dominion Worship Center\, 4450 Stine Rd.\, Bakersfield\, CA\, 93313\, United States
END:VEVENT
BEGIN:VEVENT
DTSTART;TZID=UTC:20271206T190000
DTEND;TZID=UTC:20271206T200000
DTSTAMP:20260419T234413
CREATED:20260218T172612Z
LAST-MODIFIED:20260218T172612Z
UID:10001572-1828119600-1828123200@www.dominionworshipcenter.org
SUMMARY:Monday Night Prayer
DESCRIPTION:
URL:https://www.dominionworshipcenter.org/event/monday-night-prayer-2-2-2/2027-12-06/
LOCATION:Dominion Worship Center\, 4450 Stine Rd.\, Bakersfield\, CA\, 93313\, United States
END:VEVENT
BEGIN:VEVENT
DTSTART;TZID=UTC:20271208T190000
DTEND;TZID=UTC:20271208T200000
DTSTAMP:20260419T234413
CREATED:20250216T153804Z
LAST-MODIFIED:20251203T214225Z
UID:10002368-1828292400-1828296000@www.dominionworshipcenter.org
SUMMARY:Wednesday Gathering
DESCRIPTION:
URL:https://www.dominionworshipcenter.org/event/wednesday-gathering/2027-12-08/
LOCATION:CA
END:VEVENT
BEGIN:VEVENT
DTSTART;TZID=UTC:20271210T060000
DTEND;TZID=UTC:20271210T070000
DTSTAMP:20260419T234413
CREATED:20250425T021024Z
LAST-MODIFIED:20250425T021025Z
UID:10002103-1828418400-1828422000@www.dominionworshipcenter.org
SUMMARY:Men's Prayer
DESCRIPTION:
URL:https://www.dominionworshipcenter.org/event/600-am-mens-prayer-3-2/2027-12-10/
LOCATION:Dominion Worship Center\, 4450 Stine Rd.\, Bakersfield\, CA\, 93313\, United States
END:VEVENT
BEGIN:VEVENT
DTSTART;TZID=UTC:20271212T100000
DTEND;TZID=UTC:20271212T120000
DTSTAMP:20260419T234413
CREATED:20250425T015556Z
LAST-MODIFIED:20250425T015557Z
UID:10001842-1828605600-1828612800@www.dominionworshipcenter.org
SUMMARY:Worship Service
DESCRIPTION:
URL:https://www.dominionworshipcenter.org/event/worship-service-2-2/2027-12-12/
LOCATION:Dominion Worship Center\, 4450 Stine Rd.\, Bakersfield\, CA\, 93313\, United States
END:VEVENT
BEGIN:VEVENT
DTSTART;TZID=UTC:20271213T190000
DTEND;TZID=UTC:20271213T200000
DTSTAMP:20260419T234413
CREATED:20260218T172612Z
LAST-MODIFIED:20260218T172612Z
UID:10001573-1828724400-1828728000@www.dominionworshipcenter.org
SUMMARY:Monday Night Prayer
DESCRIPTION:
URL:https://www.dominionworshipcenter.org/event/monday-night-prayer-2-2-2/2027-12-13/
LOCATION:Dominion Worship Center\, 4450 Stine Rd.\, Bakersfield\, CA\, 93313\, United States
END:VEVENT
BEGIN:VEVENT
DTSTART;TZID=UTC:20271215T190000
DTEND;TZID=UTC:20271215T200000
DTSTAMP:20260419T234413
CREATED:20250216T153804Z
LAST-MODIFIED:20251203T214225Z
UID:10002369-1828897200-1828900800@www.dominionworshipcenter.org
SUMMARY:Wednesday Gathering
DESCRIPTION:
URL:https://www.dominionworshipcenter.org/event/wednesday-gathering/2027-12-15/
LOCATION:CA
END:VEVENT
BEGIN:VEVENT
DTSTART;TZID=UTC:20271216T190000
DTEND;TZID=UTC:20271216T210000
DTSTAMP:20260419T234413
CREATED:20250513T213924Z
LAST-MODIFIED:20250513T213924Z
UID:10003073-1828983600-1828990800@www.dominionworshipcenter.org
SUMMARY:ENGAGE:  Young Adults Meeting
DESCRIPTION:
URL:https://www.dominionworshipcenter.org/event/engage-young-adults-meeting/2027-12-16/
LOCATION:CA
END:VEVENT
BEGIN:VEVENT
DTSTART;TZID=UTC:20271217T060000
DTEND;TZID=UTC:20271217T070000
DTSTAMP:20260419T234413
CREATED:20250425T021024Z
LAST-MODIFIED:20250425T021025Z
UID:10002104-1829023200-1829026800@www.dominionworshipcenter.org
SUMMARY:Men's Prayer
DESCRIPTION:
URL:https://www.dominionworshipcenter.org/event/600-am-mens-prayer-3-2/2027-12-17/
LOCATION:Dominion Worship Center\, 4450 Stine Rd.\, Bakersfield\, CA\, 93313\, United States
END:VEVENT
BEGIN:VEVENT
DTSTART;TZID=UTC:20271219T100000
DTEND;TZID=UTC:20271219T120000
DTSTAMP:20260419T234413
CREATED:20250425T015556Z
LAST-MODIFIED:20250425T015557Z
UID:10001843-1829210400-1829217600@www.dominionworshipcenter.org
SUMMARY:Worship Service
DESCRIPTION:
URL:https://www.dominionworshipcenter.org/event/worship-service-2-2/2027-12-19/
LOCATION:Dominion Worship Center\, 4450 Stine Rd.\, Bakersfield\, CA\, 93313\, United States
END:VEVENT
BEGIN:VEVENT
DTSTART;TZID=UTC:20271220T190000
DTEND;TZID=UTC:20271220T200000
DTSTAMP:20260419T234413
CREATED:20260218T172612Z
LAST-MODIFIED:20260218T172612Z
UID:10001574-1829329200-1829332800@www.dominionworshipcenter.org
SUMMARY:Monday Night Prayer
DESCRIPTION:
URL:https://www.dominionworshipcenter.org/event/monday-night-prayer-2-2-2/2027-12-20/
LOCATION:Dominion Worship Center\, 4450 Stine Rd.\, Bakersfield\, CA\, 93313\, United States
END:VEVENT
BEGIN:VEVENT
DTSTART;TZID=UTC:20271222T190000
DTEND;TZID=UTC:20271222T200000
DTSTAMP:20260419T234413
CREATED:20250216T153804Z
LAST-MODIFIED:20251203T214225Z
UID:10002370-1829502000-1829505600@www.dominionworshipcenter.org
SUMMARY:Wednesday Gathering
DESCRIPTION:
URL:https://www.dominionworshipcenter.org/event/wednesday-gathering/2027-12-22/
LOCATION:CA
END:VEVENT
BEGIN:VEVENT
DTSTART;TZID=UTC:20271224T060000
DTEND;TZID=UTC:20271224T070000
DTSTAMP:20260419T234413
CREATED:20250425T021024Z
LAST-MODIFIED:20250425T021025Z
UID:10002105-1829628000-1829631600@www.dominionworshipcenter.org
SUMMARY:Men's Prayer
DESCRIPTION:
URL:https://www.dominionworshipcenter.org/event/600-am-mens-prayer-3-2/2027-12-24/
LOCATION:Dominion Worship Center\, 4450 Stine Rd.\, Bakersfield\, CA\, 93313\, United States
END:VEVENT
BEGIN:VEVENT
DTSTART;TZID=UTC:20271226T100000
DTEND;TZID=UTC:20271226T120000
DTSTAMP:20260419T234413
CREATED:20250425T015556Z
LAST-MODIFIED:20250425T015557Z
UID:10001844-1829815200-1829822400@www.dominionworshipcenter.org
SUMMARY:Worship Service
DESCRIPTION:
URL:https://www.dominionworshipcenter.org/event/worship-service-2-2/2027-12-26/
LOCATION:Dominion Worship Center\, 4450 Stine Rd.\, Bakersfield\, CA\, 93313\, United States
END:VEVENT
BEGIN:VEVENT
DTSTART;TZID=UTC:20271227T190000
DTEND;TZID=UTC:20271227T200000
DTSTAMP:20260419T234413
CREATED:20260218T172612Z
LAST-MODIFIED:20260218T172612Z
UID:10001575-1829934000-1829937600@www.dominionworshipcenter.org
SUMMARY:Monday Night Prayer
DESCRIPTION:
URL:https://www.dominionworshipcenter.org/event/monday-night-prayer-2-2-2/2027-12-27/
LOCATION:Dominion Worship Center\, 4450 Stine Rd.\, Bakersfield\, CA\, 93313\, United States
END:VEVENT
END:VCALENDAR